Back to Multiple platform build/check report for BioC 3.19: simplified long |
|
This page was generated on 2024-03-28 11:36:44 -0400 (Thu, 28 Mar 2024).
Hostname | OS | Arch (*) | R version | Installed pkgs |
---|---|---|---|---|
nebbiolo1 | Linux (Ubuntu 22.04.3 LTS) | x86_64 | R Under development (unstable) (2024-03-18 r86148) -- "Unsuffered Consequences" | 4708 |
palomino3 | Windows Server 2022 Datacenter | x64 | R Under development (unstable) (2024-03-16 r86144 ucrt) -- "Unsuffered Consequences" | 4446 |
lconway | macOS 12.7.1 Monterey | x86_64 | R Under development (unstable) (2024-03-18 r86148) -- "Unsuffered Consequences" | 4471 |
kunpeng2 | Linux (openEuler 22.03 LTS-SP1) | aarch64 | R Under development (unstable) (2024-03-19 r86153) -- "Unsuffered Consequences" | 4426 |
Click on any hostname to see more info about the system (e.g. compilers) (*) as reported by 'uname -p', except on Windows and Mac OS X |
Package 1282/2270 | Hostname | OS / Arch | INSTALL | BUILD | CHECK | BUILD BIN | ||||||||
mixOmics 6.27.0 (landing page) Max Bladen
| nebbiolo1 | Linux (Ubuntu 22.04.3 LTS) / x86_64 | OK | OK | OK | |||||||||
palomino3 | Windows Server 2022 Datacenter / x64 | OK | OK | OK | OK | |||||||||
lconway | macOS 12.7.1 Monterey / x86_64 | OK | OK | OK | OK | |||||||||
kunpeng2 | Linux (openEuler 22.03 LTS-SP1) / aarch64 | OK | OK | OK | ||||||||||
To the developers/maintainers of the mixOmics package: - Allow up to 24 hours (and sometimes 48 hours) for your latest push to git@git.bioconductor.org:packages/mixOmics.git to reflect on this report. See Troubleshooting Build Report for more information. - Use the following Renviron settings to reproduce errors and warnings. - If 'R CMD check' started to fail recently on the Linux builder(s) over a missing dependency, add the missing dependency to 'Suggests:' in your DESCRIPTION file. See Renviron.bioc for more information. |
Package: mixOmics |
Version: 6.27.0 |
Command: /home/biocbuild/bbs-3.19-bioc/R/bin/R CMD check --install=check:mixOmics.install-out.txt --library=/home/biocbuild/bbs-3.19-bioc/R/site-library --timings mixOmics_6.27.0.tar.gz |
StartedAt: 2024-03-28 00:21:42 -0400 (Thu, 28 Mar 2024) |
EndedAt: 2024-03-28 00:35:00 -0400 (Thu, 28 Mar 2024) |
EllapsedTime: 798.5 seconds |
RetCode: 0 |
Status: OK |
CheckDir: mixOmics.Rcheck |
Warnings: 0 |
############################################################################## ############################################################################## ### ### Running command: ### ### /home/biocbuild/bbs-3.19-bioc/R/bin/R CMD check --install=check:mixOmics.install-out.txt --library=/home/biocbuild/bbs-3.19-bioc/R/site-library --timings mixOmics_6.27.0.tar.gz ### ############################################################################## ############################################################################## * using log directory ‘/home/biocbuild/bbs-3.19-bioc/meat/mixOmics.Rcheck’ * using R Under development (unstable) (2024-03-18 r86148) * using platform: x86_64-pc-linux-gnu * R was compiled by gcc (Ubuntu 11.4.0-1ubuntu1~22.04) 11.4.0 GNU Fortran (Ubuntu 11.4.0-1ubuntu1~22.04) 11.4.0 * running under: Ubuntu 22.04.4 LTS * using session charset: UTF-8 * checking for file ‘mixOmics/DESCRIPTION’ ... OK * checking extension type ... Package * this is package ‘mixOmics’ version ‘6.27.0’ * package encoding: UTF-8 * checking package namespace information ... OK * checking package dependencies ... OK * checking if this is a source package ... OK * checking if there is a namespace ... OK * checking for hidden files and directories ... OK * checking for portable file names ... OK * checking for sufficient/correct file permissions ... OK * checking whether package ‘mixOmics’ can be installed ... OK * checking installed package size ... NOTE installed size is 7.8Mb sub-directories of 1Mb or more: R 1.2Mb data 3.4Mb doc 1.7Mb * checking package directory ... OK * checking DESCRIPTION meta-information ... OK * checking top-level files ... OK * checking for left-over files ... OK * checking index information ... OK * checking package subdirectories ... OK * checking code files for non-ASCII characters ... OK * checking R files for syntax errors ... OK * checking whether the package can be loaded ... OK * checking whether the package can be loaded with stated dependencies ... OK * checking whether the package can be unloaded cleanly ... OK * checking whether the namespace can be loaded with stated dependencies ... OK * checking whether the namespace can be unloaded cleanly ... OK * checking loading without being on the library search path ... OK * checking whether startup messages can be suppressed ... OK * checking dependencies in R code ... OK * checking S3 generic/method consistency ... OK * checking replacement functions ... OK * checking foreign function calls ... OK * checking R code for possible problems ... OK * checking Rd files ... OK * checking Rd metadata ... OK * checking Rd cross-references ... OK * checking for missing documentation entries ... OK * checking for code/documentation mismatches ... OK * checking Rd \usage sections ... OK * checking Rd contents ... OK * checking for unstated dependencies in examples ... OK * checking contents of ‘data’ directory ... OK * checking data for non-ASCII characters ... OK * checking data for ASCII and uncompressed saves ... OK * checking installed files from ‘inst/doc’ ... OK * checking files in ‘vignettes’ ... OK * checking examples ... OK Examples with CPU (user + system) or elapsed time > 5s user system elapsed biplot 14.288 0.140 14.428 background.predict 6.836 0.096 6.931 block.splsda 6.167 0.064 6.232 circosPlot 5.603 0.028 5.630 block.spls 5.403 0.048 5.452 * checking for unstated dependencies in ‘tests’ ... OK * checking tests ... Running ‘testthat.R’ OK * checking for unstated dependencies in vignettes ... OK * checking package vignettes ... OK * checking re-building of vignette outputs ... OK * checking PDF version of manual ... OK * DONE Status: 1 NOTE See ‘/home/biocbuild/bbs-3.19-bioc/meat/mixOmics.Rcheck/00check.log’ for details.
mixOmics.Rcheck/00install.out
############################################################################## ############################################################################## ### ### Running command: ### ### /home/biocbuild/bbs-3.19-bioc/R/bin/R CMD INSTALL mixOmics ### ############################################################################## ############################################################################## * installing to library ‘/home/biocbuild/bbs-3.19-bioc/R/site-library’ * installing *source* package ‘mixOmics’ ... ** using staged installation ** R ** data ** inst ** byte-compile and prepare package for lazy loading ** help *** installing help indices ** building package indices ** installing vignettes ** testing if installed package can be loaded from temporary location ** testing if installed package can be loaded from final location ** testing if installed package keeps a record of temporary installation path * DONE (mixOmics)
mixOmics.Rcheck/tests/testthat.Rout
R Under development (unstable) (2024-03-18 r86148) -- "Unsuffered Consequences" Copyright (C) 2024 The R Foundation for Statistical Computing Platform: x86_64-pc-linux-gnu R is free software and comes with ABSOLUTELY NO WARRANTY. You are welcome to redistribute it under certain conditions. Type 'license()' or 'licence()' for distribution details. R is a collaborative project with many contributors. Type 'contributors()' for more information and 'citation()' on how to cite R or R packages in publications. Type 'demo()' for some demos, 'help()' for on-line help, or 'help.start()' for an HTML browser interface to help. Type 'q()' to quit R. > library(testthat) > library(mixOmics) Loading required package: MASS Loading required package: lattice Loading required package: ggplot2 Loaded mixOmics 6.27.0 Thank you for using mixOmics! Tutorials: http://mixomics.org Bookdown vignette: https://mixomicsteam.github.io/Bookdown Questions, issues: Follow the prompts at http://mixomics.org/contact-us Cite us: citation('mixOmics') > > test_check("mixOmics") [ FAIL 0 | WARN 4 | SKIP 0 | PASS 236 ] [ FAIL 0 | WARN 4 | SKIP 0 | PASS 236 ] Warning messages: 1: closing unused connection 6 (<-localhost:11990) 2: closing unused connection 5 (<-localhost:11990) > > proc.time() user system elapsed 100.642 2.926 119.470
mixOmics.Rcheck/mixOmics-Ex.timings
name | user | system | elapsed | |
S3methods-print | 0.015 | 0.004 | 0.019 | |
auroc | 1.104 | 0.044 | 1.148 | |
background.predict | 6.836 | 0.096 | 6.931 | |
biplot | 14.288 | 0.140 | 14.428 | |
block.pls | 0.468 | 0.044 | 0.513 | |
block.plsda | 0.637 | 0.004 | 0.642 | |
block.spls | 5.403 | 0.048 | 5.452 | |
block.splsda | 6.167 | 0.064 | 6.232 | |
cim | 0.032 | 0.007 | 0.040 | |
cimDiablo | 0.259 | 0.000 | 0.259 | |
circosPlot | 5.603 | 0.028 | 5.630 | |
colors | 0.024 | 0.003 | 0.028 | |
explained_variance | 0.106 | 0.008 | 0.114 | |
get.confusion_matrix | 0.154 | 0.000 | 0.154 | |
image.tune.rcc | 2.288 | 0.012 | 2.301 | |
imgCor | 0.072 | 0.004 | 0.076 | |
impute.nipals | 0.007 | 0.004 | 0.011 | |
ipca | 0.720 | 0.008 | 0.728 | |
logratio-transformations | 0.060 | 0.004 | 0.065 | |
map | 0.005 | 0.000 | 0.005 | |
mat.rank | 0.001 | 0.001 | 0.002 | |
mint.block.pls | 0.124 | 0.006 | 0.130 | |
mint.block.plsda | 0.115 | 0.008 | 0.123 | |
mint.block.spls | 0.155 | 0.001 | 0.156 | |
mint.block.splsda | 0.129 | 0.003 | 0.131 | |
mint.pca | 0.358 | 0.000 | 0.358 | |
mint.pls | 0.494 | 0.048 | 0.541 | |
mint.plsda | 0.598 | 0.008 | 0.607 | |
mint.spls | 0.523 | 0.000 | 0.523 | |
mint.splsda | 0.875 | 0.023 | 0.898 | |
mixOmics | 0.276 | 0.012 | 0.288 | |
nearZeroVar | 0.684 | 0.008 | 0.692 | |
network | 0.026 | 0.000 | 0.026 | |
pca | 4.323 | 0.024 | 4.347 | |
perf | 2.352 | 0.028 | 2.381 | |
plot.rcc | 0.016 | 0.000 | 0.015 | |
plot.tune | 0.000 | 0.001 | 0.001 | |
plotArrow | 3.486 | 0.023 | 3.507 | |
plotDiablo | 0.179 | 0.000 | 0.180 | |
plotIndiv | 0.303 | 0.004 | 0.306 | |
plotLoadings | 0.097 | 0.004 | 0.101 | |
plotMarkers | 0 | 0 | 0 | |
plotVar | 0.546 | 0.000 | 0.546 | |
pls | 0.008 | 0.000 | 0.007 | |
plsda | 0.431 | 0.004 | 0.436 | |
predict | 0.167 | 0.008 | 0.175 | |
rcc | 0.003 | 0.000 | 0.003 | |
selectVar | 0.34 | 0.00 | 0.34 | |
sipca | 0.449 | 0.007 | 0.456 | |
spca | 2.977 | 0.057 | 3.033 | |
spls | 0.497 | 0.012 | 0.509 | |
splsda | 0.415 | 0.000 | 0.415 | |
study_split | 0.005 | 0.000 | 0.005 | |
summary | 0.016 | 0.000 | 0.016 | |
tune | 4.326 | 0.010 | 4.356 | |
tune.block.splsda | 0.000 | 0.000 | 0.001 | |
tune.mint.splsda | 2.204 | 0.003 | 2.207 | |
tune.pca | 0.178 | 0.003 | 0.181 | |
tune.rcc | 1.965 | 0.088 | 2.053 | |
tune.spca | 0.650 | 0.036 | 0.686 | |
tune.spls | 0 | 0 | 0 | |
tune.splsda | 3.837 | 0.077 | 3.935 | |
tune.splslevel | 0.75 | 0.06 | 0.81 | |
unmap | 0.001 | 0.005 | 0.006 | |
vip | 0.007 | 0.002 | 0.010 | |
withinVariation | 0.820 | 0.008 | 0.829 | |
wrapper.rgcca | 0.067 | 0.004 | 0.071 | |
wrapper.sgcca | 0.103 | 0.016 | 0.119 | |