Back to Multiple platform build/check report for BioC 3.19:   simplified   long
ABCDEFGHIJKL[M]NOPQRSTUVWXYZ

This page was generated on 2024-02-21 12:53:43 -0500 (Wed, 21 Feb 2024).

HostnameOSArch (*)R versionInstalled pkgs
nebbiolo1Linux (Ubuntu 22.04.3 LTS)x86_64R Under development (unstable) (2024-01-16 r85808) -- "Unsuffered Consequences" 4657
palomino3Windows Server 2022 Datacenterx64R Under development (unstable) (2024-01-14 r85805 ucrt) -- "Unsuffered Consequences" 4397
Click on any hostname to see more info about the system (e.g. compilers)      (*) as reported by 'uname -p', except on Windows and Mac OS X

Package 1257/2244HostnameOS / ArchINSTALLBUILDCHECKBUILD BIN
miRmine 1.25.1  (landing page)
Dusan Randjelovic
Snapshot Date: 2024-02-20 14:10:09 -0500 (Tue, 20 Feb 2024)
git_url: https://git.bioconductor.org/packages/miRmine
git_branch: devel
git_last_commit: 1ff32bb
git_last_commit_date: 2024-01-12 08:39:14 -0500 (Fri, 12 Jan 2024)
nebbiolo1Linux (Ubuntu 22.04.3 LTS) / x86_64  OK    OK    ERROR  
palomino3Windows Server 2022 Datacenter / x64  OK    OK    WARNINGS    OK  UNNEEDED, same version is already published

INSTALL results for miRmine on palomino3


To the developers/maintainers of the miRmine package:
- Allow up to 24 hours (and sometimes 48 hours) for your latest push to git@git.bioconductor.org:packages/miRmine.git to reflect on this report. See Troubleshooting Build Report for more information.
- Use the following Renviron settings to reproduce errors and warnings.
- If 'R CMD check' started to fail recently on the Linux builder(s) over a missing dependency, add the missing dependency to 'Suggests:' in your DESCRIPTION file. See Renviron.bioc for more information.

raw results


Summary

Package: miRmine
Version: 1.25.1
Command: F:\biocbuild\bbs-3.19-bioc\R\bin\R.exe CMD INSTALL miRmine
StartedAt: 2024-02-20 16:02:22 -0500 (Tue, 20 Feb 2024)
EndedAt: 2024-02-20 16:02:48 -0500 (Tue, 20 Feb 2024)
EllapsedTime: 25.4 seconds
RetCode: 0
Status:   OK  

Command output

##############################################################################
##############################################################################
###
### Running command:
###
###   F:\biocbuild\bbs-3.19-bioc\R\bin\R.exe CMD INSTALL miRmine
###
##############################################################################
##############################################################################


* installing to library 'F:/biocbuild/bbs-3.19-bioc/R/library'
* installing *source* package 'miRmine' ...
** using staged installation
** R
** data
*** moving datasets to lazyload DB
** inst
** byte-compile and prepare package for lazy loading
** help
*** installing help indices
** building package indices
** installing vignettes
** testing if installed package can be loaded from temporary location
Warning: Package 'miRmine' is deprecated and will be removed from Bioconductor
  version 3.20
** testing if installed package can be loaded from final location
Warning: Package 'miRmine' is deprecated and will be removed from Bioconductor
  version 3.20
** testing if installed package keeps a record of temporary installation path
* DONE (miRmine)