Index of /checkResults/devel/bioc-LATEST/miRmine/raw-results

[ICO]NameLast modifiedSizeDescription

[DIR]Parent Directory  -  
[   ]info.dcf08-Feb-2023 01:07 282  
[DIR]merida1/08-Feb-2023 01:07 -  
[DIR]nebbiolo1/08-Feb-2023 01:05 -  
[DIR]palomino3/08-Feb-2023 01:06 -