Back to Multiple platform build/check report for BioC 3.17: simplified long |
|
This page was generated on 2023-02-04 11:06:17 -0500 (Sat, 04 Feb 2023).
Hostname | OS | Arch (*) | R version | Installed pkgs |
---|---|---|---|---|
nebbiolo1 | Linux (Ubuntu 22.04.1 LTS) | x86_64 | R Under development (unstable) (2023-01-10 r83596) -- "Unsuffered Consequences" | 4483 |
palomino3 | Windows Server 2022 Datacenter | x64 | R Under development (unstable) (2023-01-10 r83596 ucrt) -- "Unsuffered Consequences" | 4249 |
merida1 | macOS 10.14.6 Mojave | x86_64 | R Under development (unstable) (2023-01-10 r83596) -- "Unsuffered Consequences" | 4272 |
Click on any hostname to see more info about the system (e.g. compilers) (*) as reported by 'uname -p', except on Windows and Mac OS X |
To the developers/maintainers of the methylGSA package: - Please allow up to 24 hours (and sometimes 48 hours) for your latest push to git@git.bioconductor.org:packages/methylGSA.git to reflect on this report. See How and When does the builder pull? When will my changes propagate? for more information. - Make sure to use the following settings in order to reproduce any error or warning you see on this page. |
Package 1158/2164 | Hostname | OS / Arch | INSTALL | BUILD | CHECK | BUILD BIN | ||||||||
methylGSA 1.17.0 (landing page) Xu Ren
| nebbiolo1 | Linux (Ubuntu 22.04.1 LTS) / x86_64 | OK | OK | OK | ![]() | ||||||||
palomino3 | Windows Server 2022 Datacenter / x64 | OK | OK | OK | NA | |||||||||
merida1 | macOS 10.14.6 Mojave / x86_64 | OK | OK | OK | OK | ![]() | ||||||||
Package: methylGSA |
Version: 1.17.0 |
Command: /Library/Frameworks/R.framework/Resources/bin/R CMD INSTALL methylGSA |
StartedAt: 2023-02-03 16:30:27 -0500 (Fri, 03 Feb 2023) |
EndedAt: 2023-02-03 16:31:33 -0500 (Fri, 03 Feb 2023) |
EllapsedTime: 66.7 seconds |
RetCode: 0 |
Status: OK |
############################################################################## ############################################################################## ### ### Running command: ### ### /Library/Frameworks/R.framework/Resources/bin/R CMD INSTALL methylGSA ### ############################################################################## ############################################################################## * installing to library ‘/Library/Frameworks/R.framework/Versions/4.3/Resources/library’ * installing *source* package ‘methylGSA’ ... ** using staged installation ** R ** data ** inst ** byte-compile and prepare package for lazy loading ** help *** installing help indices ** building package indices ** installing vignettes ** testing if installed package can be loaded from temporary location ** testing if installed package can be loaded from final location ** testing if installed package keeps a record of temporary installation path * DONE (methylGSA)