Back to Multiple platform build/check report for BioC 3.17
ABCDEFGHIJKL[M]NOPQRSTUVWXYZ

This page was generated on 2022-12-05 11:09:43 -0500 (Mon, 05 Dec 2022).

HostnameOSArch (*)R versionInstalled pkgs
nebbiolo1Linux (Ubuntu 22.04.1 LTS)x86_64R Under development (unstable) (2022-11-30 r83393) -- "Unsuffered Consequences" 4277
palomino3Windows Server 2022 Datacenterx64R Under development (unstable) (2022-11-30 r83393 ucrt) -- "Unsuffered Consequences" 4193
merida1macOS 10.14.6 Mojavex86_64R Under development (unstable) (2022-11-30 r83393) -- "Unsuffered Consequences" 4236
Click on any hostname to see more info about the system (e.g. compilers)      (*) as reported by 'uname -p', except on Windows and Mac OS X

BUILD BIN results for methylGSA on merida1


To the developers/maintainers of the methylGSA package:
- Please allow up to 24 hours (and sometimes 48 hours) for your latest push to git@git.bioconductor.org:packages/methylGSA.git to
reflect on this report. See How and When does the builder pull? When will my changes propagate? for more information.
- Make sure to use the following settings in order to reproduce any error or warning you see on this page.

raw results

Package 1155/2155HostnameOS / ArchINSTALLBUILDCHECKBUILD BIN
methylGSA 1.17.0  (landing page)
Xu Ren
Snapshot Date: 2022-12-04 14:00:12 -0500 (Sun, 04 Dec 2022)
git_url: https://git.bioconductor.org/packages/methylGSA
git_branch: master
git_last_commit: d73af71
git_last_commit_date: 2022-11-01 11:18:05 -0500 (Tue, 01 Nov 2022)
nebbiolo1Linux (Ubuntu 22.04.1 LTS) / x86_64  OK    OK    OK  UNNEEDED, same version is already published
palomino3Windows Server 2022 Datacenter / x64  OK    OK    OK    OK  NO, package depends on 'missMethyl' which is not available
merida1macOS 10.14.6 Mojave / x86_64  OK    OK    OK    OK  NO, package depends on 'clusterProfiler' which is not available

Summary

Package: methylGSA
Version: 1.17.0
Command: rm -rf methylGSA.buildbin-libdir && mkdir methylGSA.buildbin-libdir && /Users/biocbuild/BBS/utils/build-universal.sh methylGSA_1.17.0.tar.gz /Library/Frameworks/R.framework/Resources/bin/R methylGSA.buildbin-libdir
StartedAt: 2022-12-05 08:41:50 -0500 (Mon, 05 Dec 2022)
EndedAt: 2022-12-05 08:44:28 -0500 (Mon, 05 Dec 2022)
EllapsedTime: 157.3 seconds
RetCode: 0
Status:   OK  
PackageFile: methylGSA_1.17.0.tgz
PackageFileSize: 3.176 MiB

Command output

##############################################################################
##############################################################################
###
### Running command:
###
###   rm -rf methylGSA.buildbin-libdir && mkdir methylGSA.buildbin-libdir && /Users/biocbuild/BBS/utils/build-universal.sh methylGSA_1.17.0.tar.gz /Library/Frameworks/R.framework/Resources/bin/R methylGSA.buildbin-libdir
###
##############################################################################
##############################################################################


>>>>>>> 
>>>>>>> INSTALLATION WITH 'R CMD INSTALL --preclean --no-multiarch --library=methylGSA.buildbin-libdir methylGSA_1.17.0.tar.gz'
>>>>>>> 

* installing *source* package ‘methylGSA’ ...
** using staged installation
** R
** data
** inst
** byte-compile and prepare package for lazy loading
** help
*** installing help indices
** building package indices
** installing vignettes
** testing if installed package can be loaded from temporary location
** testing if installed package can be loaded from final location
** testing if installed package keeps a record of temporary installation path
* DONE (methylGSA)