Back to Multiple platform build/check report for BioC 3.15
ABCDEFG[H]IJKLMNOPQRSTUVWXYZ

This page was generated on 2021-11-27 14:04:35 -0500 (Sat, 27 Nov 2021).

BUILD results for hiAnnotator on nebbiolo1

To the developers/maintainers of the hiAnnotator package:
- Please allow up to 24 hours (and sometimes 48 hours) for your latest push to git@git.bioconductor.org:packages/hiAnnotator.git to
reflect on this report. See How and When does the builder pull? When will my changes propagate? here for more information.
- Make sure to use the following settings in order to reproduce any error or warning you see on this page.

raw results

Package 857/2068HostnameOS / ArchINSTALLBUILDCHECKBUILD BIN
hiAnnotator 1.29.0  (landing page)
Nirav V Malani
Snapshot Date: 2021-11-26 14:50:14 -0500 (Fri, 26 Nov 2021)
git_url: https://git.bioconductor.org/packages/hiAnnotator
git_branch: master
git_last_commit: 27fcdd0
git_last_commit_date: 2021-10-26 12:13:40 -0500 (Tue, 26 Oct 2021)
nebbiolo1Linux (Ubuntu 20.04.3 LTS) / x86_64  OK    OK    OK  UNNEEDED, same version is already published
riesling1Windows Server 2019 Standard / x64  OK    OK    OK    OK  
merida1macOS 10.14.6 Mojave / x86_64  OK    OK    OK    OK  UNNEEDED, same version is already published

Summary

Package: hiAnnotator
Version: 1.29.0
Command: /home/biocbuild/bbs-3.15-bioc/R/bin/R CMD build --keep-empty-dirs --no-resave-data hiAnnotator
StartedAt: 2021-11-26 17:31:48 -0500 (Fri, 26 Nov 2021)
EndedAt: 2021-11-26 17:32:40 -0500 (Fri, 26 Nov 2021)
EllapsedTime: 52.2 seconds
RetCode: 0
Status:   OK  
PackageFile: hiAnnotator_1.29.0.tar.gz
PackageFileSize: 742.5 KiB

Command output

##############################################################################
##############################################################################
###
### Running command:
###
###   /home/biocbuild/bbs-3.15-bioc/R/bin/R CMD build --keep-empty-dirs --no-resave-data hiAnnotator
###
##############################################################################
##############################################################################


* checking for file ‘hiAnnotator/DESCRIPTION’ ... OK
* preparing ‘hiAnnotator’:
* checking DESCRIPTION meta-information ... OK
* installing the package to build vignettes
* creating vignettes ... OK
* checking for LF line-endings in source and make files and shell scripts
* checking for empty or unneeded directories
* looking to see if a ‘data/datalist’ file should be added
* building ‘hiAnnotator_1.29.0.tar.gz’