Index of /checkResults/devel/bioc-LATEST/gsean/raw-results

[ICO]NameLast modifiedSizeDescription

[DIR]Parent Directory  -  
[   ]info.dcf10-Aug-2022 00:08 259  
[DIR]kjohnson/12-Jul-2022 00:06 -  
[DIR]lconway/10-Aug-2022 00:08 -  
[DIR]nebbiolo2/10-Aug-2022 00:05 -  
[DIR]palomino4/10-Aug-2022 00:06 -