Back to Multiple platform build/check report for BioC 3.17 |
|
This page was generated on 2023-02-02 11:10:06 -0500 (Thu, 02 Feb 2023).
Hostname | OS | Arch (*) | R version | Installed pkgs |
---|---|---|---|---|
nebbiolo1 | Linux (Ubuntu 22.04.1 LTS) | x86_64 | R Under development (unstable) (2023-01-10 r83596) -- "Unsuffered Consequences" | 4483 |
palomino3 | Windows Server 2022 Datacenter | x64 | R Under development (unstable) (2023-01-10 r83596 ucrt) -- "Unsuffered Consequences" | 4249 |
merida1 | macOS 10.14.6 Mojave | x86_64 | R Under development (unstable) (2023-01-10 r83596) -- "Unsuffered Consequences" | 4272 |
Click on any hostname to see more info about the system (e.g. compilers) (*) as reported by 'uname -p', except on Windows and Mac OS X |
To the developers/maintainers of the goSTAG package: - Please allow up to 24 hours (and sometimes 48 hours) for your latest push to git@git.bioconductor.org:packages/goSTAG.git to reflect on this report. See How and When does the builder pull? When will my changes propagate? for more information. - Make sure to use the following settings in order to reproduce any error or warning you see on this page. |
Package 832/2164 | Hostname | OS / Arch | INSTALL | BUILD | CHECK | BUILD BIN | ||||||||
goSTAG 1.23.0 (landing page) Brian D. Bennett
| nebbiolo1 | Linux (Ubuntu 22.04.1 LTS) / x86_64 | OK | OK | OK | ![]() | ||||||||
palomino3 | Windows Server 2022 Datacenter / x64 | OK | OK | OK | OK | ![]() | ||||||||
merida1 | macOS 10.14.6 Mojave / x86_64 | OK | OK | OK | OK | ![]() | ||||||||
Package: goSTAG |
Version: 1.23.0 |
Command: rm -rf goSTAG.buildbin-libdir && mkdir goSTAG.buildbin-libdir && /Users/biocbuild/BBS/utils/build-universal.sh goSTAG_1.23.0.tar.gz /Library/Frameworks/R.framework/Resources/bin/R goSTAG.buildbin-libdir |
StartedAt: 2023-02-02 08:55:16 -0500 (Thu, 02 Feb 2023) |
EndedAt: 2023-02-02 08:56:18 -0500 (Thu, 02 Feb 2023) |
EllapsedTime: 62.1 seconds |
RetCode: 0 |
Status: OK |
PackageFile: goSTAG_1.23.0.tgz |
PackageFileSize: 3.112 MiB |
############################################################################## ############################################################################## ### ### Running command: ### ### rm -rf goSTAG.buildbin-libdir && mkdir goSTAG.buildbin-libdir && /Users/biocbuild/BBS/utils/build-universal.sh goSTAG_1.23.0.tar.gz /Library/Frameworks/R.framework/Resources/bin/R goSTAG.buildbin-libdir ### ############################################################################## ############################################################################## >>>>>>> >>>>>>> INSTALLATION WITH 'R CMD INSTALL --preclean --no-multiarch --library=goSTAG.buildbin-libdir goSTAG_1.23.0.tar.gz' >>>>>>> * installing *source* package ‘goSTAG’ ... ** using staged installation ** R ** data *** moving datasets to lazyload DB ** inst ** byte-compile and prepare package for lazy loading ** help *** installing help indices ** building package indices ** installing vignettes ** testing if installed package can be loaded from temporary location ** testing if installed package can be loaded from final location ** testing if installed package keeps a record of temporary installation path * DONE (goSTAG)