Index of /checkResults/devel/bioc-LATEST/goSTAG/raw-results

[ICO]NameLast modifiedSizeDescription

[DIR]Parent Directory  -  
[   ]info.dcf18-Jan-2022 01:11 268  
[DIR]merida1/18-Jan-2022 01:11 -  
[DIR]nebbiolo1/18-Jan-2022 01:05 -  
[DIR]palomino3/18-Jan-2022 01:09 -  
[DIR]riesling1/18-Jan-2022 01:07 -