Back to Multiple platform build/check report for BioC 3.17 |
|
This page was generated on 2023-02-01 11:07:17 -0500 (Wed, 01 Feb 2023).
Hostname | OS | Arch (*) | R version | Installed pkgs |
---|---|---|---|---|
nebbiolo1 | Linux (Ubuntu 22.04.1 LTS) | x86_64 | R Under development (unstable) (2023-01-10 r83596) -- "Unsuffered Consequences" | 4483 |
palomino3 | Windows Server 2022 Datacenter | x64 | R Under development (unstable) (2023-01-10 r83596 ucrt) -- "Unsuffered Consequences" | 4249 |
merida1 | macOS 10.14.6 Mojave | x86_64 | R Under development (unstable) (2023-01-10 r83596) -- "Unsuffered Consequences" | 4272 |
Click on any hostname to see more info about the system (e.g. compilers) (*) as reported by 'uname -p', except on Windows and Mac OS X |
To the developers/maintainers of the geneXtendeR package: - Please allow up to 24 hours (and sometimes 48 hours) for your latest push to git@git.bioconductor.org:packages/geneXtendeR.git to reflect on this report. See How and When does the builder pull? When will my changes propagate? for more information. - Make sure to use the following settings in order to reproduce any error or warning you see on this page. |
Package 763/2164 | Hostname | OS / Arch | INSTALL | BUILD | CHECK | BUILD BIN | ||||||||
geneXtendeR 1.25.0 (landing page) Bohdan Khomtchouk
| nebbiolo1 | Linux (Ubuntu 22.04.1 LTS) / x86_64 | OK | OK | WARNINGS | ![]() | ||||||||
palomino3 | Windows Server 2022 Datacenter / x64 | OK | OK | WARNINGS | OK | ![]() | ||||||||
merida1 | macOS 10.14.6 Mojave / x86_64 | OK | OK | WARNINGS | OK | ![]() | ||||||||
Package: geneXtendeR |
Version: 1.25.0 |
Command: chmod a+r geneXtendeR -R && F:\biocbuild\bbs-3.17-bioc\R\bin\R.exe CMD build --keep-empty-dirs --no-resave-data geneXtendeR |
StartedAt: 2023-01-31 19:02:45 -0500 (Tue, 31 Jan 2023) |
EndedAt: 2023-01-31 19:02:52 -0500 (Tue, 31 Jan 2023) |
EllapsedTime: 6.7 seconds |
RetCode: 0 |
Status: OK |
PackageFile: geneXtendeR_1.25.0.tar.gz |
PackageFileSize: 11.74 MiB |
############################################################################## ############################################################################## ### ### Running command: ### ### chmod a+r geneXtendeR -R && F:\biocbuild\bbs-3.17-bioc\R\bin\R.exe CMD build --keep-empty-dirs --no-resave-data geneXtendeR ### ############################################################################## ############################################################################## * checking for file 'geneXtendeR/DESCRIPTION' ... OK * preparing 'geneXtendeR': * checking DESCRIPTION meta-information ... OK * cleaning src * checking for LF line-endings in source and make files and shell scripts * checking for empty or unneeded directories * building 'geneXtendeR_1.25.0.tar.gz'