Back to Multiple platform build/check report for BioC 3.15
ABC[D]EFGHIJKLMNOPQRSTUVWXYZ

This page was generated on 2021-12-07 12:33:52 -0500 (Tue, 07 Dec 2021).

BUILD results for dupRadar on merida1

To the developers/maintainers of the dupRadar package:
- Please allow up to 24 hours (and sometimes 48 hours) for your latest push to git@git.bioconductor.org:packages/dupRadar.git to
reflect on this report. See How and When does the builder pull? When will my changes propagate? here for more information.
- Make sure to use the following settings in order to reproduce any error or warning you see on this page.

raw results

Package 547/2068HostnameOS / ArchINSTALLBUILDCHECKBUILD BIN
dupRadar 1.25.0  (landing page)
Sergi Sayols , Holger Klein
Snapshot Date: 2021-12-06 13:55:08 -0500 (Mon, 06 Dec 2021)
git_url: https://git.bioconductor.org/packages/dupRadar
git_branch: master
git_last_commit: f6cc4cb
git_last_commit_date: 2021-10-26 12:22:40 -0500 (Tue, 26 Oct 2021)
nebbiolo1Linux (Ubuntu 20.04.3 LTS) / x86_64  OK    OK    OK  UNNEEDED, same version is already published
merida1macOS 10.14.6 Mojave / x86_64  OK    OK    OK    OK  UNNEEDED, same version is already published

Summary

Package: dupRadar
Version: 1.25.0
Command: /Library/Frameworks/R.framework/Resources/bin/R CMD build --keep-empty-dirs --no-resave-data dupRadar
StartedAt: 2021-12-06 18:31:18 -0500 (Mon, 06 Dec 2021)
EndedAt: 2021-12-06 18:32:12 -0500 (Mon, 06 Dec 2021)
EllapsedTime: 54.3 seconds
RetCode: 0
Status:   OK  
PackageFile: dupRadar_1.25.0.tar.gz
PackageFileSize: 8.633 MiB

Command output

##############################################################################
##############################################################################
###
### Running command:
###
###   /Library/Frameworks/R.framework/Resources/bin/R CMD build --keep-empty-dirs --no-resave-data dupRadar
###
##############################################################################
##############################################################################


* checking for file ‘dupRadar/DESCRIPTION’ ... OK
* preparing ‘dupRadar’:
* checking DESCRIPTION meta-information ... OK
* installing the package to build vignettes
* creating vignettes ... OK
* checking for LF line-endings in source and make files and shell scripts
* checking for empty or unneeded directories
  NB: this package now depends on R (>= 3.5.0)
  WARNING: Added dependency on R >= 3.5.0 because serialized objects in
  serialize/load version 3 cannot be read in older versions of R.
  File(s) containing such objects:
    ‘dupRadar/vignettes/dupRadar_cache/html/citation_e5b0dc771f670f2df78c1e801b80a680.RData’
    ‘dupRadar/vignettes/dupRadar_cache/html/citation_e5b0dc771f670f2df78c1e801b80a680.rdx’
    ‘dupRadar/vignettes/dupRadar_cache/html/loadLibrary_07c8ded89ede2fafd52f20e78a9e88d9.RData’
    ‘dupRadar/vignettes/dupRadar_cache/html/loadLibrary_07c8ded89ede2fafd52f20e78a9e88d9.rdx’
    ‘dupRadar/vignettes/dupRadar_cache/html/style_fdf1c3ff4ad8b6cfe1ce65b6450dd4ee.RData’
    ‘dupRadar/vignettes/dupRadar_cache/html/style_fdf1c3ff4ad8b6cfe1ce65b6450dd4ee.rdx’
    ‘dupRadar/vignettes/dupRadar_cache/html/unnamed-chunk-10_ffbafe4eda2b6a3582b18692d47c3380.RData’
    ‘dupRadar/vignettes/dupRadar_cache/html/unnamed-chunk-10_ffbafe4eda2b6a3582b18692d47c3380.rdx’
    ‘dupRadar/vignettes/dupRadar_cache/html/unnamed-chunk-11_339084daed72d768979b8bd39d05224b.RData’
    ‘dupRadar/vignettes/dupRadar_cache/html/unnamed-chunk-11_339084daed72d768979b8bd39d05224b.rdx’
    ‘dupRadar/vignettes/dupRadar_cache/html/unnamed-chunk-12_147a1fdbcde04368e9b0cfb1fffee35e.RData’
    ‘dupRadar/vignettes/dupRadar_cache/html/unnamed-chunk-12_147a1fdbcde04368e9b0cfb1fffee35e.rdx’
    ‘dupRadar/vignettes/dupRadar_cache/html/unnamed-chunk-13_a0ec79c06aa3a8962a30d27da7a11001.RData’
    ‘dupRadar/vignettes/dupRadar_cache/html/unnamed-chunk-13_a0ec79c06aa3a8962a30d27da7a11001.rdx’
    ‘dupRadar/vignettes/dupRadar_cache/html/unnamed-chunk-14_88df21c93adcc57ac443b725e161908f.RData’
    ‘dupRadar/vignettes/dupRadar_cache/html/unnamed-chunk-14_88df21c93adcc57ac443b725e161908f.rdx’
    ‘dupRadar/vignettes/dupRadar_cache/html/unnamed-chunk-15_0f36f81315cb62bcd286857e76eb375b.RData’
    ‘dupRadar/vignettes/dupRadar_cache/html/unnamed-chunk-15_0f36f81315cb62bcd286857e76eb375b.rdx’
    ‘dupRadar/vignettes/dupRadar_cache/html/unnamed-chunk-16_a4c6e3e7316143ddbf85f21bf0f2d13f.RData’
    ‘dupRadar/vignettes/dupRadar_cache/html/unnamed-chunk-16_a4c6e3e7316143ddbf85f21bf0f2d13f.rdx’
    ‘dupRadar/vignettes/dupRadar_cache/html/unnamed-chunk-17_2812cefd44b69995d338274b93655904.RData’
    ‘dupRadar/vignettes/dupRadar_cache/html/unnamed-chunk-17_2812cefd44b69995d338274b93655904.rdx’
    ‘dupRadar/vignettes/dupRadar_cache/html/unnamed-chunk-18_f79457238d0b07c3a8f5b54d2aca9043.RData’
    ‘dupRadar/vignettes/dupRadar_cache/html/unnamed-chunk-18_f79457238d0b07c3a8f5b54d2aca9043.rdx’
    ‘dupRadar/vignettes/dupRadar_cache/html/unnamed-chunk-1_e480d9f02703c0b24bdc51e84172dd05.RData’
    ‘dupRadar/vignettes/dupRadar_cache/html/unnamed-chunk-1_e480d9f02703c0b24bdc51e84172dd05.rdx’
    ‘dupRadar/vignettes/dupRadar_cache/html/unnamed-chunk-2_9ee1900fcc8d87be4637ea2c25a904c6.RData’
    ‘dupRadar/vignettes/dupRadar_cache/html/unnamed-chunk-2_9ee1900fcc8d87be4637ea2c25a904c6.rdx’
    ‘dupRadar/vignettes/dupRadar_cache/html/unnamed-chunk-3_bbff97aef9c6aabc13329090e1d6491d.RData’
    ‘dupRadar/vignettes/dupRadar_cache/html/unnamed-chunk-3_bbff97aef9c6aabc13329090e1d6491d.rdx’
    ‘dupRadar/vignettes/dupRadar_cache/html/unnamed-chunk-4_dff2ae2da045924b23b793655cbe638d.RData’
    ‘dupRadar/vignettes/dupRadar_cache/html/unnamed-chunk-4_dff2ae2da045924b23b793655cbe638d.rdx’
    ‘dupRadar/vignettes/dupRadar_cache/html/unnamed-chunk-5_d2b3fd243bb3e700829c3c96fc80d2cc.RData’
    ‘dupRadar/vignettes/dupRadar_cache/html/unnamed-chunk-5_d2b3fd243bb3e700829c3c96fc80d2cc.rdx’
    ‘dupRadar/vignettes/dupRadar_cache/html/unnamed-chunk-6_eecc6fe4e48690c125972d01050da8ca.RData’
    ‘dupRadar/vignettes/dupRadar_cache/html/unnamed-chunk-6_eecc6fe4e48690c125972d01050da8ca.rdx’
    ‘dupRadar/vignettes/dupRadar_cache/html/unnamed-chunk-7_1d8f513f6bec7b8aa43247eb80a58126.RData’
    ‘dupRadar/vignettes/dupRadar_cache/html/unnamed-chunk-7_1d8f513f6bec7b8aa43247eb80a58126.rdx’
    ‘dupRadar/vignettes/dupRadar_cache/html/unnamed-chunk-8_bba51d986f85a4e4fa279efdcdc42028.RData’
    ‘dupRadar/vignettes/dupRadar_cache/html/unnamed-chunk-8_bba51d986f85a4e4fa279efdcdc42028.rdx’
    ‘dupRadar/vignettes/dupRadar_cache/html/unnamed-chunk-9_2222426bf6b618fdea421e718b856ce3.RData’
    ‘dupRadar/vignettes/dupRadar_cache/html/unnamed-chunk-9_2222426bf6b618fdea421e718b856ce3.rdx’
* building ‘dupRadar_1.25.0.tar.gz’