Index of /checkResults/devel/bioc-LATEST/dupRadar/raw-results

[ICO]NameLast modifiedSizeDescription

[DIR]Parent Directory  -  
[   ]info.dcf22-Mar-2023 00:06 311  
[DIR]merida1/22-Mar-2023 00:06 -  
[DIR]nebbiolo1/22-Mar-2023 00:05 -