Back to Build/check report for BioC 3.15
AB[C]DEFGHIJKLMNOPQRSTUVWXYZ

This page was generated on 2021-12-03 12:48:44 -0500 (Fri, 03 Dec 2021).

INSTALL results for crisprseekplus on nebbiolo1

To the developers/maintainers of the crisprseekplus package:
- Please allow up to 24 hours (and sometimes 48 hours) for your latest push to git@git.bioconductor.org:packages/crisprseekplus.git to
reflect on this report. See How and When does the builder pull? When will my changes propagate? here for more information.
- Make sure to use the following settings in order to reproduce any error or warning you see on this page.

raw results

Package 415/2068HostnameOS / ArchINSTALLBUILDCHECKBUILD BIN
crisprseekplus 1.21.0  (landing page)
Alper Kucukural
Snapshot Date: 2021-12-02 13:55:08 -0500 (Thu, 02 Dec 2021)
git_url: https://git.bioconductor.org/packages/crisprseekplus
git_branch: master
git_last_commit: 6eb4a83
git_last_commit_date: 2021-10-26 12:30:57 -0500 (Tue, 26 Oct 2021)
nebbiolo1Linux (Ubuntu 20.04.3 LTS) / x86_64  OK    OK    OK  UNNEEDED, same version is already published

Summary

Package: crisprseekplus
Version: 1.21.0
Command: /home/biocbuild/bbs-3.15-bioc/R/bin/R CMD INSTALL crisprseekplus
StartedAt: 2021-12-02 15:31:55 -0500 (Thu, 02 Dec 2021)
EndedAt: 2021-12-02 15:32:38 -0500 (Thu, 02 Dec 2021)
EllapsedTime: 42.8 seconds
RetCode: 0
Status:   OK  

Command output

##############################################################################
##############################################################################
###
### Running command:
###
###   /home/biocbuild/bbs-3.15-bioc/R/bin/R CMD INSTALL crisprseekplus
###
##############################################################################
##############################################################################


* installing to library ‘/home/biocbuild/bbs-3.15-bioc/R/library’
* installing *source* package ‘crisprseekplus’ ...
** using staged installation
** R
** inst
** byte-compile and prepare package for lazy loading
** help
*** installing help indices
** building package indices
** installing vignettes
** testing if installed package can be loaded from temporary location
** testing if installed package can be loaded from final location
** testing if installed package keeps a record of temporary installation path
* DONE (crisprseekplus)