Back to Multiple platform build/check report for BioC 3.19:   simplified   long
AB[C]DEFGHIJKLMNOPQRSTUVWXYZ

This page was generated on 2024-03-01 11:38:45 -0500 (Fri, 01 Mar 2024).

HostnameOSArch (*)R versionInstalled pkgs
nebbiolo1Linux (Ubuntu 22.04.3 LTS)x86_64R Under development (unstable) (2024-01-16 r85808) -- "Unsuffered Consequences" 4676
palomino3Windows Server 2022 Datacenterx64R Under development (unstable) (2024-01-14 r85805 ucrt) -- "Unsuffered Consequences" 4414
merida1macOS 12.7.1 Montereyx86_64R Under development (unstable) (2024-01-16 r85808) -- "Unsuffered Consequences" 4441
kunpeng2Linux (openEuler 22.03 LTS-SP1)aarch64R Under development (unstable) (2024-01-16 r85812) -- "Unsuffered Consequences" 4417
Click on any hostname to see more info about the system (e.g. compilers)      (*) as reported by 'uname -p', except on Windows and Mac OS X

Package 425/2251HostnameOS / ArchINSTALLBUILDCHECKBUILD BIN
consensusOV 1.25.1  (landing page)
Benjamin Haibe-Kains
Snapshot Date: 2024-02-28 14:00:14 -0500 (Wed, 28 Feb 2024)
git_url: https://git.bioconductor.org/packages/consensusOV
git_branch: devel
git_last_commit: 0ce992b
git_last_commit_date: 2024-02-05 14:19:12 -0500 (Mon, 05 Feb 2024)
nebbiolo1Linux (Ubuntu 22.04.3 LTS) / x86_64  OK    OK    OK  UNNEEDED, same version is already published
palomino3Windows Server 2022 Datacenter / x64  OK    OK    OK    OK  UNNEEDED, same version is already published
merida1macOS 12.7.1 Monterey / x86_64  OK    OK    OK    OK  UNNEEDED, same version is already published
kunpeng2Linux (openEuler 22.03 LTS-SP1) / aarch64  OK    OK    OK  

BUILD BIN results for consensusOV on merida1


To the developers/maintainers of the consensusOV package:
- Allow up to 24 hours (and sometimes 48 hours) for your latest push to git@git.bioconductor.org:packages/consensusOV.git to reflect on this report. See Troubleshooting Build Report for more information.
- Use the following Renviron settings to reproduce errors and warnings.
- If 'R CMD check' started to fail recently on the Linux builder(s) over a missing dependency, add the missing dependency to 'Suggests:' in your DESCRIPTION file. See Renviron.bioc for more information.

raw results


Summary

Package: consensusOV
Version: 1.25.1
Command: rm -rf consensusOV.buildbin-libdir && mkdir consensusOV.buildbin-libdir && /Users/biocbuild/BBS/utils/build-universal.sh consensusOV_1.25.1.tar.gz /Library/Frameworks/R.framework/Resources/bin/R consensusOV.buildbin-libdir
StartedAt: 2024-02-29 13:24:12 -0500 (Thu, 29 Feb 2024)
EndedAt: 2024-02-29 13:26:02 -0500 (Thu, 29 Feb 2024)
EllapsedTime: 110.0 seconds
RetCode: 0
Status:   OK  
PackageFile: consensusOV_1.25.1.tgz
PackageFileSize: 4.524 MiB

Command output

##############################################################################
##############################################################################
###
### Running command:
###
###   rm -rf consensusOV.buildbin-libdir && mkdir consensusOV.buildbin-libdir && /Users/biocbuild/BBS/utils/build-universal.sh consensusOV_1.25.1.tar.gz /Library/Frameworks/R.framework/Resources/bin/R consensusOV.buildbin-libdir
###
##############################################################################
##############################################################################


>>>>>>> 
>>>>>>> INSTALLATION WITH 'R CMD INSTALL --preclean --no-multiarch --library=consensusOV.buildbin-libdir consensusOV_1.25.1.tar.gz'
>>>>>>> 

* installing *source* package ‘consensusOV’ ...
** using staged installation
Warning in person1(given = given[[i]], family = family[[i]], middle = middle[[i]],  :
  It is recommended to use ‘given’ instead of ‘middle’.
** R
** data
*** moving datasets to lazyload DB
** inst
** byte-compile and prepare package for lazy loading
** help
*** installing help indices
** building package indices
** installing vignettes
** testing if installed package can be loaded from temporary location
** testing if installed package can be loaded from final location
** testing if installed package keeps a record of temporary installation path
* DONE (consensusOV)