Index of /checkResults/devel/bioc-LATEST/coMET/raw-results

[ICO]NameLast modifiedSizeDescription

[DIR]Parent Directory  -  
[   ]info.dcf24-Mar-2023 00:06 267  
[DIR]merida1/24-Mar-2023 00:06 -  
[DIR]nebbiolo1/24-Mar-2023 00:05 -  
[DIR]palomino3/24-Mar-2023 00:05 -