Index of /checkResults/devel/bioc-LATEST/cicero/raw-results

[ICO]NameLast modifiedSizeDescription

[DIR]Parent Directory  -  
[   ]info.dcf21-Mar-2023 00:06 258  
[DIR]merida1/21-Mar-2023 00:06 -  
[DIR]nebbiolo1/21-Mar-2023 00:04 -  
[DIR]palomino3/21-Mar-2023 00:05 -