Back to Multiple platform build/check report for BioC 3.19:   simplified   long
AB[C]DEFGHIJKLMNOPQRSTUVWXYZ

This page was generated on 2023-12-09 12:24:36 -0500 (Sat, 09 Dec 2023).

HostnameOSArch (*)R versionInstalled pkgs
nebbiolo1Linux (Ubuntu 22.04.2 LTS)x86_64R Under development (unstable) (2023-11-11 r85510) -- "Unsuffered Consequences" 4619
palomino3Windows Server 2022 Datacenterx64R Under development (unstable) (2023-11-14 r85524 ucrt) -- "Unsuffered Consequences" 4379
merida1macOS 12.7.1 Montereyx86_64R Under development (unstable) (2023-11-11 r85510) -- "Unsuffered Consequences" 4388
kunpeng2Linux (openEuler 22.03 LTS-SP1)aarch64R Under development (unstable) (2023-11-01 r85459) -- "Unsuffered Consequences" 4271
Click on any hostname to see more info about the system (e.g. compilers)      (*) as reported by 'uname -p', except on Windows and Mac OS X

Package 297/2230HostnameOS / ArchINSTALLBUILDCHECKBUILD BIN
cellmigRation 1.11.0  (landing page)
Waldir Leoncio
Snapshot Date: 2023-12-08 14:00:14 -0500 (Fri, 08 Dec 2023)
git_url: https://git.bioconductor.org/packages/cellmigRation
git_branch: devel
git_last_commit: 1b666b3
git_last_commit_date: 2023-10-24 11:31:56 -0500 (Tue, 24 Oct 2023)
nebbiolo1Linux (Ubuntu 22.04.2 LTS) / x86_64  OK    OK    OK  UNNEEDED, same version is already published
palomino3Windows Server 2022 Datacenter / x64  OK    OK    OK    OK  UNNEEDED, same version is already published
merida1macOS 12.7.1 Monterey / x86_64  OK    OK    OK    OK  UNNEEDED, same version is already published
kunpeng2Linux (openEuler 22.03 LTS-SP1) / aarch64  OK    OK    OK  

CHECK results for cellmigRation on kunpeng2


To the developers/maintainers of the cellmigRation package:
- Allow up to 24 hours (and sometimes 48 hours) for your latest push to git@git.bioconductor.org:packages/cellmigRation.git to reflect on this report. See Troubleshooting Build Report for more information.
- Use the following Renviron settings to reproduce errors and warnings.
- If 'R CMD check' started to fail recently on the Linux builder(s) over a missing dependency, add the missing dependency to 'Suggests:' in your DESCRIPTION file. See Renviron.bioc for more information.
- See Martin Grigorov's blog post for how to debug Linux ARM64 related issues on a x86_64 host.

raw results


Summary

Package: cellmigRation
Version: 1.11.0
Command: /home/biocbuild/R/R-4.4-devel-2023.11.02/bin/R CMD check --install=check:cellmigRation.install-out.txt --library=/home/biocbuild/R/R-4.4-devel-2023.11.02/site-library --no-vignettes --timings cellmigRation_1.11.0.tar.gz
StartedAt: 2023-12-09 06:43:49 -0000 (Sat, 09 Dec 2023)
EndedAt: 2023-12-09 06:46:12 -0000 (Sat, 09 Dec 2023)
EllapsedTime: 143.3 seconds
RetCode: 0
Status:   OK  
CheckDir: cellmigRation.Rcheck
Warnings: 0

Command output

##############################################################################
##############################################################################
###
### Running command:
###
###   /home/biocbuild/R/R-4.4-devel-2023.11.02/bin/R CMD check --install=check:cellmigRation.install-out.txt --library=/home/biocbuild/R/R-4.4-devel-2023.11.02/site-library --no-vignettes --timings cellmigRation_1.11.0.tar.gz
###
##############################################################################
##############################################################################


* using log directory ‘/home/biocbuild/bbs-3.19-bioc/meat/cellmigRation.Rcheck’
* using R Under development (unstable) (2023-11-01 r85459)
* using platform: aarch64-unknown-linux-gnu
* R was compiled by
    gcc (GCC) 10.3.1
    GNU Fortran (GCC) 10.3.1
* running under: openEuler 22.03 (LTS-SP1)
* using session charset: UTF-8
* using option ‘--no-vignettes’
* checking for file ‘cellmigRation/DESCRIPTION’ ... OK
* checking extension type ... Package
* this is package ‘cellmigRation’ version ‘1.11.0’
* package encoding: UTF-8
* checking package namespace information ... OK
* checking package dependencies ... OK
* checking if this is a source package ... OK
* checking if there is a namespace ... OK
* checking for hidden files and directories ... OK
* checking for portable file names ... OK
* checking for sufficient/correct file permissions ... OK
* checking whether package ‘cellmigRation’ can be installed ... OK
* checking installed package size ... OK
* checking package directory ... OK
* checking ‘build’ directory ... OK
* checking DESCRIPTION meta-information ... OK
* checking top-level files ... OK
* checking for left-over files ... OK
* checking index information ... OK
* checking package subdirectories ... OK
* checking R files for non-ASCII characters ... OK
* checking R files for syntax errors ... OK
* checking whether the package can be loaded ... OK
* checking whether the package can be loaded with stated dependencies ... OK
* checking whether the package can be unloaded cleanly ... OK
* checking whether the namespace can be loaded with stated dependencies ... OK
* checking whether the namespace can be unloaded cleanly ... OK
* checking loading without being on the library search path ... OK
* checking dependencies in R code ... OK
* checking S3 generic/method consistency ... OK
* checking replacement functions ... OK
* checking foreign function calls ... OK
* checking R code for possible problems ... OK
* checking Rd files ... OK
* checking Rd metadata ... OK
* checking Rd cross-references ... OK
* checking for missing documentation entries ... OK
* checking for code/documentation mismatches ... OK
* checking Rd \usage sections ... NOTE
Documented arguments not in \usage in Rd file 'fixDA.Rd':
  ‘object’

Documented arguments not in \usage in Rd file 'fixFM1.Rd':
  ‘object’

Documented arguments not in \usage in Rd file 'fixFM2.Rd':
  ‘object’

Documented arguments not in \usage in Rd file 'fixFM3.Rd':
  ‘object’

Documented arguments not in \usage in Rd file 'fixFM4.Rd':
  ‘object’

Documented arguments not in \usage in Rd file 'fixFM5.Rd':
  ‘object’

Documented arguments not in \usage in Rd file 'fixFM6.Rd':
  ‘object’

Documented arguments not in \usage in Rd file 'fixID2.Rd':
  ‘TimeInterval’

Documented arguments not in \usage in Rd file 'fixID3.Rd':
  ‘TimeInterval’

Documented arguments not in \usage in Rd file 'fixID4.Rd':
  ‘TimeInterval’

Documented arguments not in \usage in Rd file 'fixMSD.Rd':
  ‘object’

Documented arguments not in \usage in Rd file 'fixPER1.Rd':
  ‘x’

Documented arguments not in \usage in Rd file 'fixPER2.Rd':
  ‘x’

Documented arguments not in \usage in Rd file 'innerBondRaster.Rd':
  ‘i’

Functions with \usage entries need to have the appropriate \alias
entries, and all their arguments documented.
The \usage entries must correspond to syntactically valid R code.
See chapter ‘Writing R documentation files’ in the ‘Writing R
Extensions’ manual.
* checking Rd contents ... OK
* checking for unstated dependencies in examples ... OK
* checking contents of ‘data’ directory ... OK
* checking data for non-ASCII characters ... OK
* checking data for ASCII and uncompressed saves ... OK
* checking files in ‘vignettes’ ... OK
* checking examples ... OK
Examples with CPU (user + system) or elapsed time > 5s
             user system elapsed
getMSDtable 5.606  0.008   5.625
* checking for unstated dependencies in ‘tests’ ... OK
* checking tests ...
  Running ‘runTests.R’
 OK
* checking for unstated dependencies in vignettes ... OK
* checking package vignettes in ‘inst/doc’ ... OK
* checking running R code from vignettes ... SKIPPED
* checking re-building of vignette outputs ... SKIPPED
* checking PDF version of manual ... OK
* DONE

Status: 1 NOTE
See
  ‘/home/biocbuild/bbs-3.19-bioc/meat/cellmigRation.Rcheck/00check.log’
for details.



Installation output

cellmigRation.Rcheck/00install.out

##############################################################################
##############################################################################
###
### Running command:
###
###   /home/biocbuild/R/R-4.4-devel-2023.11.02/bin/R CMD INSTALL cellmigRation
###
##############################################################################
##############################################################################


* installing to library ‘/home/biocbuild/R/R-4.4-devel-2023.11.02/site-library’
* installing *source* package ‘cellmigRation’ ...
** using staged installation
** R
** data
** inst
** byte-compile and prepare package for lazy loading
** help
*** installing help indices
** building package indices
** installing vignettes
** testing if installed package can be loaded from temporary location
** testing if installed package can be loaded from final location
** testing if installed package keeps a record of temporary installation path
* DONE (cellmigRation)

Tests output

cellmigRation.Rcheck/tests/runTests.Rout


R Under development (unstable) (2023-11-01 r85459) -- "Unsuffered Consequences"
Copyright (C) 2023 The R Foundation for Statistical Computing
Platform: aarch64-unknown-linux-gnu

R is free software and comes with ABSOLUTELY NO WARRANTY.
You are welcome to redistribute it under certain conditions.
Type 'license()' or 'licence()' for distribution details.

R is a collaborative project with many contributors.
Type 'contributors()' for more information and
'citation()' on how to cite R or R packages in publications.

Type 'demo()' for some demos, 'help()' for on-line help, or
'help.start()' for an HTML browser interface to help.
Type 'q()' to quit R.

> BiocGenerics:::testPackage("cellmigRation")


RUNIT TEST PROTOCOL -- Sat Dec  9 06:46:07 2023 
*********************************************** 
Number of test functions: 7 
Number of errors: 0 
Number of failures: 0 

 
1 Test Suite : 
cellmigRation RUnit Tests - 7 test functions, 0 errors, 0 failures
Number of test functions: 7 
Number of errors: 0 
Number of failures: 0 
> 
> proc.time()
   user  system elapsed 
  3.521   0.163   3.677 

Example timings

cellmigRation.Rcheck/cellmigRation-Ex.timings

nameusersystemelapsed
AddDimension0.0030.0000.002
CellMig-class0.0270.0000.027
CellMigPCA1.7550.0761.834
CellMigPCAclust0.0080.0000.007
CellMigPCAclustALL1.0330.0241.059
CellTracker0.0300.0000.029
CellTrackerMainLoop0.0050.0020.006
CentroidArray0.0150.0040.019
CentroidValidation0.6970.0040.702
ComputeTracksStats0.0250.0040.029
DetectRadii0.0030.0000.003
DiAutoCor2.1270.0082.140
DiRatio0.0210.0000.020
DiRatioPlot0.0370.0040.044
EstimateDiameterRange0.0150.0040.019
FMI0.7560.0040.762
FianlizeOptiParams0.0000.0000.001
FilterTrackedCells0.0030.0000.004
FinRes1.0270.0281.058
ForwardMigration1.5140.0001.517
GenAllCombos0.0040.0000.003
LinearConv20.0210.0070.029
LoadTiff0.0010.0000.001
MSD2.3900.0242.422
MakeHypercube0.0010.0000.002
MigrationStats0.0000.0010.001
NextOdd000
NonParallel4OptimizeParams0.0000.0010.001
NonParallelTrackLoop0.0000.0000.001
OptimizeParams0.0120.0030.016
OptimizeParamsMainLoop0.0030.0040.004
Parallel4OptimizeParams000
ParallelTrackLoop0.0000.0010.001
PerAndSpeed0.3910.0070.403
PlotTracksSeparately0.0090.0000.010
PostProcessTracking0.0000.0000.001
Prep4OptimizeParams0.1270.0040.132
ThreeConditions0.0150.0000.014
TrackCellsDataset0.0160.0000.016
TrajectoryDataset0.0190.0000.019
ValidateTrackingArgs0.0010.0000.001
VeAutoCor1.7390.0281.771
VisualizeCntr0.0020.0000.003
VisualizeImg0.0060.0000.006
VisualizeStackCentroids0.0560.0040.061
WSADataset0.0060.0000.007
aggregateFR1.0110.0001.014
aggregateTrackedCells0.0170.0040.022
bpass0.0780.0000.078
circshift0.0010.0000.001
cntrd1.1290.0001.132
fixDA0.0000.0000.001
fixExpName0.0000.0000.001
fixFM1000
fixFM2000
fixFM3000
fixFM40.0000.0000.001
fixFM5000
fixFM60.0010.0000.000
fixID10.0010.0000.001
fixMSD0.0000.0000.001
fixPER1000
fixPER2000
fixPER30.0010.0000.000
getAvailableAggrMetrics1.4810.0121.496
getCellImages0.2100.1280.339
getCellMigSlot0.2410.0800.322
getCellTrackMeta0.0160.0000.016
getCellTrackStats0.0160.0040.020
getCellTracks0.0160.0000.016
getCellsMeta0.0160.0000.016
getCellsStats0.0340.0000.034
getDACtable3.4000.0433.451
getDiRatio0.0240.0000.023
getFMItable0.7380.0040.744
getForMigtable0.9070.0000.909
getImageCentroids0.0220.0000.022
getImageStacks0.0580.0040.062
getMSDtable5.6060.0085.625
getOptimizedParameters0.0150.0000.016
getOptimizedParams0.0170.0000.017
getPerAndSpeed0.3780.0230.405
getPopulationStats0.0170.0000.017
getProcessedImages0.1610.1560.317
getProcessingStatus0.0160.0000.015
getResults0.9690.0160.987
getTracks0.0170.0000.017
getVACtable1.6770.0161.697
initializeTrackParams000
innerBondRaster0.0020.0000.002
internalPermutation0.0010.0000.001
matfix0.0010.0000.001
nontrivialBondTracking0.0010.0000.001
pkfnd1.1140.0041.120
plot3DAllTracks0.1130.0160.130
plot3DTracks0.0080.0000.008
plotAllTracks0.0210.0000.020
plotSampleTracks0.0160.0000.015
preProcCellMig0.0070.0000.007
rmPreProcessing0.1340.0000.134
runTrackingPermutation0.0020.0000.002
setAnalyticParams0.0160.0000.016
setCellMigSlot0.0210.0000.021
setCellTracks0.0130.0030.016
setCellsMeta0.0040.0120.016
setExpName0.020.000.02
setOptimizedParams0.0080.0080.016
setProcessedImages0.0120.0040.016
setProcessingStatus0.0120.0040.016
setTrackedCellsMeta0.0160.0000.016
setTrackedCentroids0.0130.0040.017
setTrackedPositions0.0120.0040.017
setTrackingStats0.0120.0040.017
sinkAway0.0010.0000.001
subNetworkTracking0.0020.0000.001
track0.0120.0000.012
trackHypercubeBuild0.0010.0000.001
trackSlideProcessing0.0000.0000.001
trackSlideWrapUp0.0010.0000.001
trivialBondRaster0.0020.0000.002
trivialBondTracking0.0000.0000.001
visualizeCellTracks0.0650.0080.074
visualizeTrcks0.0210.0040.025
warnMessage0.0010.0000.000
wsaPreProcessing0.0770.0000.076