Back to Multiple platform build/check report for BioC 3.17:   simplified   long
ABCDEFGHIJKLMNOPQR[S]TUVWXYZ

This page was generated on 2023-03-18 11:05:43 -0400 (Sat, 18 Mar 2023).

HostnameOSArch (*)R versionInstalled pkgs
nebbiolo1Linux (Ubuntu 22.04.1 LTS)x86_64R Under development (unstable) (2023-03-16 r83996) -- "Unsuffered Consequences" 4282
palomino3Windows Server 2022 Datacenterx64R Under development (unstable) (2023-03-15 r83984 ucrt) -- "Unsuffered Consequences" 4279
merida1macOS 10.14.6 Mojavex86_64R Under development (unstable) (2023-03-16 r83985) -- "Unsuffered Consequences" 4145
Click on any hostname to see more info about the system (e.g. compilers)      (*) as reported by 'uname -p', except on Windows and Mac OS X

CHECK results for scmeth on palomino3


To the developers/maintainers of the scmeth package:
- Please allow up to 24 hours (and sometimes 48 hours) for your latest push to git@git.bioconductor.org:packages/scmeth.git to
reflect on this report. See How and When does the builder pull? When will my changes propagate? for more information.
- Make sure to use the following settings in order to reproduce any error or warning you see on this page.

raw results

Package 1815/2189HostnameOS / ArchINSTALLBUILDCHECKBUILD BIN
scmeth 1.19.0  (landing page)
Divy Kangeyan
Snapshot Date: 2023-03-17 14:27:35 -0400 (Fri, 17 Mar 2023)
git_url: https://git.bioconductor.org/packages/scmeth
git_branch: master
git_last_commit: 2196961
git_last_commit_date: 2022-11-01 11:17:10 -0400 (Tue, 01 Nov 2022)
nebbiolo1Linux (Ubuntu 22.04.1 LTS) / x86_64  OK    OK    OK  UNNEEDED, same version is already published
palomino3Windows Server 2022 Datacenter / x64  OK    OK    OK    NA  
merida1macOS 10.14.6 Mojave / x86_64  OK    OK    OK    OK  NO, package depends on 'bsseq' which is not available

Summary

Package: scmeth
Version: 1.19.0
Command: F:\biocbuild\bbs-3.17-bioc\R\bin\R.exe CMD check --no-multiarch --install=check:scmeth.install-out.txt --library=F:\biocbuild\bbs-3.17-bioc\R\library --no-vignettes --timings scmeth_1.19.0.tar.gz
StartedAt: 2023-03-18 06:22:56 -0400 (Sat, 18 Mar 2023)
EndedAt: 2023-03-18 06:32:16 -0400 (Sat, 18 Mar 2023)
EllapsedTime: 560.1 seconds
RetCode: 0
Status:   OK  
CheckDir: scmeth.Rcheck
Warnings: 0

Command output

##############################################################################
##############################################################################
###
### Running command:
###
###   F:\biocbuild\bbs-3.17-bioc\R\bin\R.exe CMD check --no-multiarch --install=check:scmeth.install-out.txt --library=F:\biocbuild\bbs-3.17-bioc\R\library --no-vignettes --timings scmeth_1.19.0.tar.gz
###
##############################################################################
##############################################################################


* using log directory 'F:/biocbuild/bbs-3.17-bioc/meat/scmeth.Rcheck'
* using R Under development (unstable) (2023-03-15 r83984 ucrt)
* using platform: x86_64-w64-mingw32 (64-bit)
* R was compiled by
    gcc.exe (GCC) 12.2.0
    GNU Fortran (GCC) 12.2.0
* running under: Windows Server 2022 x64 (build 20348)
* using session charset: UTF-8
* using option '--no-vignettes'
* checking for file 'scmeth/DESCRIPTION' ... OK
* checking extension type ... Package
* this is package 'scmeth' version '1.19.0'
* checking package namespace information ... OK
* checking package dependencies ... OK
* checking if this is a source package ... OK
* checking if there is a namespace ... OK
* checking for hidden files and directories ... OK
* checking for portable file names ... OK
* checking whether package 'scmeth' can be installed ... OK
* checking installed package size ... OK
* checking package directory ... OK
* checking 'build' directory ... OK
* checking DESCRIPTION meta-information ... OK
* checking top-level files ... OK
* checking for left-over files ... OK
* checking index information ... OK
* checking package subdirectories ... OK
* checking R files for non-ASCII characters ... OK
* checking R files for syntax errors ... OK
* checking whether the package can be loaded ... OK
* checking whether the package can be loaded with stated dependencies ... OK
* checking whether the package can be unloaded cleanly ... OK
* checking whether the namespace can be loaded with stated dependencies ... OK
* checking whether the namespace can be unloaded cleanly ... OK
* checking dependencies in R code ... NOTE
Namespace in Imports field not imported from: 'reshape2'
  All declared Imports should be used.
* checking S3 generic/method consistency ... OK
* checking replacement functions ... OK
* checking foreign function calls ... OK
* checking R code for possible problems ... OK
* checking Rd files ... OK
* checking Rd metadata ... OK
* checking Rd cross-references ... OK
* checking for missing documentation entries ... OK
* checking for code/documentation mismatches ... OK
* checking Rd \usage sections ... OK
* checking Rd contents ... OK
* checking for unstated dependencies in examples ... OK
* checking files in 'vignettes' ... OK
* checking examples ... OK
Examples with CPU (user + system) or elapsed time > 5s
         user system elapsed
report  47.92   1.80   51.16
repMask 11.39   3.36  219.60
* checking for unstated dependencies in vignettes ... OK
* checking package vignettes in 'inst/doc' ... OK
* checking running R code from vignettes ... SKIPPED
* checking re-building of vignette outputs ... SKIPPED
* checking PDF version of manual ... OK
* DONE

Status: 1 NOTE
See
  'F:/biocbuild/bbs-3.17-bioc/meat/scmeth.Rcheck/00check.log'
for details.



Installation output

scmeth.Rcheck/00install.out

##############################################################################
##############################################################################
###
### Running command:
###
###   F:\biocbuild\bbs-3.17-bioc\R\bin\R.exe CMD INSTALL scmeth
###
##############################################################################
##############################################################################


* installing to library 'F:/biocbuild/bbs-3.17-bioc/R/library'
* installing *source* package 'scmeth' ...
** using staged installation
** R
** inst
** byte-compile and prepare package for lazy loading
** help
*** installing help indices
** building package indices
** installing vignettes
** testing if installed package can be loaded from temporary location
** testing if installed package can be loaded from final location
** testing if installed package keeps a record of temporary installation path
* DONE (scmeth)

Tests output


Example timings

scmeth.Rcheck/scmeth-Ex.timings

nameusersystemelapsed
bsConversionPlot0.210.000.23
chromosomeCoverage0.470.090.61
coverage0.110.000.11
cpgDensity3.750.143.90
cpgDiscretization0.220.000.22
downsample1.390.031.42
featureCoverage2.000.323.78
mbiasplot0.000.010.07
methylationDist0.230.030.26
readmetrics0.070.000.07
repMask 11.39 3.36219.60
report47.92 1.8051.16