Index of /checkResults/devel/bioc-LATEST/biomvRCNS/raw-results

[ICO]NameLast modifiedSizeDescription

[DIR]Parent Directory  -  
[   ]info.dcf18-May-2022 00:07 262  
[DIR]lconway/18-May-2022 00:07 -  
[DIR]nebbiolo2/18-May-2022 00:05 -  
[DIR]palomino4/18-May-2022 00:06 -