Index of /checkResults/devel/bioc-LATEST/beadarray/raw-results
Name
Last modified
Size
Description
Parent Directory
-
info.dcf
28-Nov-2023 01:39
1.1K
kunpeng2/
28-Nov-2023 01:39
-
merida1/
28-Nov-2023 01:38
-
nebbiolo1/
28-Nov-2023 01:35
-
palomino3/
28-Nov-2023 01:37
-