Back to Multiple platform build/check report for BioC 3.14
[A]BCDEFGHIJKLMNOPQRSTUVWXYZ

This page was generated on 2021-10-23 14:06:52 -0400 (Sat, 23 Oct 2021).

CHECK results for anota2seq on merida1

To the developers/maintainers of the anota2seq package:
- Please allow up to 24 hours (and sometimes 48 hours) for your latest push to git@git.bioconductor.org:packages/anota2seq.git to
reflect on this report. See How and When does the builder pull? When will my changes propagate? here for more information.
- Make sure to use the following settings in order to reproduce any error or warning you see on this page.

raw results

Package 68/2083HostnameOS / ArchINSTALLBUILDCHECKBUILD BIN
anota2seq 1.15.0  (landing page)
Christian Oertlin , Julie Lorent
Snapshot Date: 2021-10-22 14:50:11 -0400 (Fri, 22 Oct 2021)
git_url: https://git.bioconductor.org/packages/anota2seq
git_branch: master
git_last_commit: 6081f73
git_last_commit_date: 2021-05-19 12:31:00 -0400 (Wed, 19 May 2021)
nebbiolo2Linux (Ubuntu 20.04.2 LTS) / x86_64  OK    OK    OK  UNNEEDED, same version is already published
riesling1Windows Server 2019 Standard / x64  OK    OK    OK    OK  UNNEEDED, same version is already published
merida1macOS 10.14.6 Mojave / x86_64  OK    OK    OK    OK  UNNEEDED, same version is already published

Summary

Package: anota2seq
Version: 1.15.0
Command: /Library/Frameworks/R.framework/Resources/bin/R CMD check --install=check:anota2seq.install-out.txt --library=/Library/Frameworks/R.framework/Resources/library --no-vignettes --timings anota2seq_1.15.0.tar.gz
StartedAt: 2021-10-23 00:42:01 -0400 (Sat, 23 Oct 2021)
EndedAt: 2021-10-23 00:48:27 -0400 (Sat, 23 Oct 2021)
EllapsedTime: 385.9 seconds
RetCode: 0
Status:   OK  
CheckDir: anota2seq.Rcheck
Warnings: 0

Command output

##############################################################################
##############################################################################
###
### Running command:
###
###   /Library/Frameworks/R.framework/Resources/bin/R CMD check --install=check:anota2seq.install-out.txt --library=/Library/Frameworks/R.framework/Resources/library --no-vignettes --timings anota2seq_1.15.0.tar.gz
###
##############################################################################
##############################################################################


* using log directory ‘/Users/biocbuild/bbs-3.14-bioc/meat/anota2seq.Rcheck’
* using R version 4.1.1 Patched (2021-08-22 r80813)
* using platform: x86_64-apple-darwin17.0 (64-bit)
* using session charset: UTF-8
* using option ‘--no-vignettes’
* checking for file ‘anota2seq/DESCRIPTION’ ... OK
* this is package ‘anota2seq’ version ‘1.15.0’
* checking package namespace information ... OK
* checking package dependencies ... OK
* checking if this is a source package ... OK
* checking if there is a namespace ... OK
* checking for hidden files and directories ... OK
* checking for portable file names ... OK
* checking for sufficient/correct file permissions ... OK
* checking whether package ‘anota2seq’ can be installed ... OK
* checking installed package size ... OK
* checking package directory ... OK
* checking ‘build’ directory ... OK
* checking DESCRIPTION meta-information ... OK
* checking top-level files ... OK
* checking for left-over files ... OK
* checking index information ... OK
* checking package subdirectories ... OK
* checking R files for non-ASCII characters ... OK
* checking R files for syntax errors ... OK
* checking whether the package can be loaded ... OK
* checking whether the package can be loaded with stated dependencies ... OK
* checking whether the package can be unloaded cleanly ... OK
* checking whether the namespace can be loaded with stated dependencies ... OK
* checking whether the namespace can be unloaded cleanly ... OK
* checking dependencies in R code ... OK
* checking S3 generic/method consistency ... OK
* checking replacement functions ... OK
* checking foreign function calls ... OK
* checking R code for possible problems ... OK
* checking Rd files ... OK
* checking Rd metadata ... OK
* checking Rd cross-references ... OK
* checking for missing documentation entries ... OK
* checking for code/documentation mismatches ... OK
* checking Rd \usage sections ... OK
* checking Rd contents ... OK
* checking for unstated dependencies in examples ... OK
* checking contents of ‘data’ directory ... OK
* checking data for non-ASCII characters ... OK
* checking LazyData ... OK
* checking data for ASCII and uncompressed saves ... OK
* checking sizes of PDF files under ‘inst/doc’ ... OK
* checking files in ‘vignettes’ ... OK
* checking examples ... OK
Examples with CPU (user + system) or elapsed time > 5s
                               user system elapsed
anota2seqGetResidOutlierTest 60.542  0.254  60.884
anota2seqGetQualityControl   60.351  0.282  60.716
* checking for unstated dependencies in vignettes ... OK
* checking package vignettes in ‘inst/doc’ ... OK
* checking running R code from vignettes ... SKIPPED
* checking re-building of vignette outputs ... SKIPPED
* checking PDF version of manual ... OK
* DONE

Status: OK


Installation output

anota2seq.Rcheck/00install.out

##############################################################################
##############################################################################
###
### Running command:
###
###   /Library/Frameworks/R.framework/Resources/bin/R CMD INSTALL anota2seq
###
##############################################################################
##############################################################################


* installing to library ‘/Library/Frameworks/R.framework/Versions/4.1/Resources/library’
* installing *source* package ‘anota2seq’ ...
** using staged installation
** R
** data
*** moving datasets to lazyload DB
** inst
** byte-compile and prepare package for lazy loading
** help
*** installing help indices
** building package indices
** installing vignettes
** testing if installed package can be loaded from temporary location
** testing if installed package can be loaded from final location
** testing if installed package keeps a record of temporary installation path
* DONE (anota2seq)

Tests output


Example timings

anota2seq.Rcheck/anota2seq-Ex.timings

nameusersystemelapsed
anota2seq-plots000
anota2seqAnalyze1.4710.0911.576
anota2seqDataSetFromMatrix0.1070.0040.112
anota2seqGetContrasts0.7460.0080.755
anota2seqGetCovariates0.9650.0100.976
anota2seqGetDeltaData0.7750.0080.785
anota2seqGetNormalizedData0.0590.0040.063
anota2seqGetOutput0.7700.0040.777
anota2seqGetQualityControl60.351 0.28260.716
anota2seqGetResidOutlierTest60.542 0.25460.884
anota2seqGetThresholds0.8290.0120.846
anota2seqPerformQC000
anota2seqRegModes2.0700.0232.096
anota2seqResidOutlierTest000
anota2seqRun2.0390.0122.054
anota2seqSelSigGenes0.7480.0100.760
anota2seq_data0.0150.0020.016
show-Anota2seqDataSet-method0.1670.0040.172