Index of /checkResults/devel/bioc-LATEST/anota2seq/raw-results

[ICO]NameLast modifiedSizeDescription

[DIR]Parent Directory  -  
[   ]info.dcf02-Dec-2021 05:03 312  
[DIR]nebbiolo1/02-Dec-2021 05:03 -