Back to Multiple platform build/check report for BioC 3.16 |
|
This page was generated on 2022-06-30 11:06:02 -0400 (Thu, 30 Jun 2022).
Hostname | OS | Arch (*) | R version | Installed pkgs |
---|---|---|---|---|
nebbiolo2 | Linux (Ubuntu 20.04.4 LTS) | x86_64 | 4.2.0 Patched (2022-06-02 r82447) -- "Vigorous Calisthenics" | 4343 |
palomino4 | Windows Server 2022 Datacenter | x64 | 4.2.0 Patched (2022-06-02 r82447 ucrt) -- "Vigorous Calisthenics" | 4147 |
lconway | macOS 12.2.1 Monterey | x86_64 | 4.2.0 Patched (2022-05-29 r82424) -- "Vigorous Calisthenics" | 4159 |
Click on any hostname to see more info about the system (e.g. compilers) (*) as reported by 'uname -p', except on Windows and Mac OS X |
To the developers/maintainers of the affylmGUI package: - Please allow up to 24 hours (and sometimes 48 hours) for your latest push to git@git.bioconductor.org:packages/affylmGUI.git to reflect on this report. See How and When does the builder pull? When will my changes propagate? for more information. - Make sure to use the following settings in order to reproduce any error or warning you see on this page. |
Package 29/2124 | Hostname | OS / Arch | INSTALL | BUILD | CHECK | BUILD BIN | ||||||||
affylmGUI 1.71.0 (landing page) Gordon Smyth
| nebbiolo2 | Linux (Ubuntu 20.04.4 LTS) / x86_64 | OK | OK | OK | ![]() | ||||||||
palomino4 | Windows Server 2022 Datacenter / x64 | OK | OK | OK | OK | ![]() | ||||||||
lconway | macOS 12.2.1 Monterey / x86_64 | OK | OK | OK | OK | ![]() | ||||||||
Package: affylmGUI |
Version: 1.71.0 |
Command: C:\cygwin\bin\curl.exe -O http://155.52.207.166/BBS/3.16/bioc/src/contrib/affylmGUI_1.71.0.tar.gz && rm -rf affylmGUI.buildbin-libdir && mkdir affylmGUI.buildbin-libdir && F:\biocbuild\bbs-3.16-bioc\R\bin\R.exe CMD INSTALL --merge-multiarch --build --library=affylmGUI.buildbin-libdir affylmGUI_1.71.0.tar.gz && F:\biocbuild\bbs-3.16-bioc\R\bin\R.exe CMD INSTALL affylmGUI_1.71.0.zip && rm affylmGUI_1.71.0.tar.gz affylmGUI_1.71.0.zip |
StartedAt: 2022-06-29 15:41:26 -0400 (Wed, 29 Jun 2022) |
EndedAt: 2022-06-29 15:42:01 -0400 (Wed, 29 Jun 2022) |
EllapsedTime: 35.4 seconds |
RetCode: 0 |
Status: OK |
############################################################################## ############################################################################## ### ### Running command: ### ### C:\cygwin\bin\curl.exe -O http://155.52.207.166/BBS/3.16/bioc/src/contrib/affylmGUI_1.71.0.tar.gz && rm -rf affylmGUI.buildbin-libdir && mkdir affylmGUI.buildbin-libdir && F:\biocbuild\bbs-3.16-bioc\R\bin\R.exe CMD INSTALL --merge-multiarch --build --library=affylmGUI.buildbin-libdir affylmGUI_1.71.0.tar.gz && F:\biocbuild\bbs-3.16-bioc\R\bin\R.exe CMD INSTALL affylmGUI_1.71.0.zip && rm affylmGUI_1.71.0.tar.gz affylmGUI_1.71.0.zip ### ############################################################################## ############################################################################## % Total % Received % Xferd Average Speed Time Time Time Current Dload Upload Total Spent Left Speed 0 0 0 0 0 0 0 0 --:--:-- --:--:-- --:--:-- 0 100 1612k 100 1612k 0 0 6394k 0 --:--:-- --:--:-- --:--:-- 6424k only one architecture so ignoring '--merge-multiarch' * installing *source* package 'affylmGUI' ... ** using staged installation ** R ** inst ** byte-compile and prepare package for lazy loading ** help *** installing help indices ** building package indices ** installing vignettes ** testing if installed package can be loaded from temporary location ** testing if installed package can be loaded from final location ** testing if installed package keeps a record of temporary installation path * MD5 sums packaged installation of 'affylmGUI' as affylmGUI_1.71.0.zip * DONE (affylmGUI) * installing to library 'F:/biocbuild/bbs-3.16-bioc/R/library' package 'affylmGUI' successfully unpacked and MD5 sums checked