Back to Multiple platform build/check report for BioC 3.17:   simplified   long
[A]BCDEFGHIJKLMNOPQRSTUVWXYZ

This page was generated on 2023-02-07 11:06:36 -0500 (Tue, 07 Feb 2023).

HostnameOSArch (*)R versionInstalled pkgs
nebbiolo1Linux (Ubuntu 22.04.1 LTS)x86_64R Under development (unstable) (2023-01-10 r83596) -- "Unsuffered Consequences" 4483
palomino3Windows Server 2022 Datacenterx64R Under development (unstable) (2023-01-10 r83596 ucrt) -- "Unsuffered Consequences" 4249
merida1macOS 10.14.6 Mojavex86_64R Under development (unstable) (2023-01-10 r83596) -- "Unsuffered Consequences" 4272
Click on any hostname to see more info about the system (e.g. compilers)      (*) as reported by 'uname -p', except on Windows and Mac OS X

CHECK results for affylmGUI on merida1


To the developers/maintainers of the affylmGUI package:
- Please allow up to 24 hours (and sometimes 48 hours) for your latest push to git@git.bioconductor.org:packages/affylmGUI.git to
reflect on this report. See How and When does the builder pull? When will my changes propagate? for more information.
- Make sure to use the following settings in order to reproduce any error or warning you see on this page.

raw results

Package 28/2164HostnameOS / ArchINSTALLBUILDCHECKBUILD BIN
affylmGUI 1.73.0  (landing page)
Gordon Smyth
Snapshot Date: 2023-02-06 14:00:21 -0500 (Mon, 06 Feb 2023)
git_url: https://git.bioconductor.org/packages/affylmGUI
git_branch: master
git_last_commit: 5fbfea1
git_last_commit_date: 2022-11-01 10:37:05 -0500 (Tue, 01 Nov 2022)
nebbiolo1Linux (Ubuntu 22.04.1 LTS) / x86_64  OK    OK    OK  UNNEEDED, same version is already published
palomino3Windows Server 2022 Datacenter / x64  OK    OK    OK    OK  UNNEEDED, same version is already published
merida1macOS 10.14.6 Mojave / x86_64  OK    OK    OK    OK  UNNEEDED, same version is already published

Summary

Package: affylmGUI
Version: 1.73.0
Command: /Library/Frameworks/R.framework/Resources/bin/R CMD check --install=check:affylmGUI.install-out.txt --library=/Library/Frameworks/R.framework/Resources/library --no-vignettes --timings affylmGUI_1.73.0.tar.gz
StartedAt: 2023-02-06 22:18:42 -0500 (Mon, 06 Feb 2023)
EndedAt: 2023-02-06 22:23:03 -0500 (Mon, 06 Feb 2023)
EllapsedTime: 261.1 seconds
RetCode: 0
Status:   OK  
CheckDir: affylmGUI.Rcheck
Warnings: 0

Command output

##############################################################################
##############################################################################
###
### Running command:
###
###   /Library/Frameworks/R.framework/Resources/bin/R CMD check --install=check:affylmGUI.install-out.txt --library=/Library/Frameworks/R.framework/Resources/library --no-vignettes --timings affylmGUI_1.73.0.tar.gz
###
##############################################################################
##############################################################################


* using log directory ‘/Users/biocbuild/bbs-3.17-bioc/meat/affylmGUI.Rcheck’
* using R Under development (unstable) (2023-01-10 r83596)
* using platform: x86_64-apple-darwin17.0 (64-bit)
* R was compiled by
    Apple clang version 12.0.0 (clang-1200.0.32.29)
    GNU Fortran (GCC) 8.2.0
* running under: macOS Mojave 10.14.6
* using session charset: UTF-8
* using option ‘--no-vignettes’
* checking for file ‘affylmGUI/DESCRIPTION’ ... OK
* this is package ‘affylmGUI’ version ‘1.73.0’
* checking package namespace information ... OK
* checking package dependencies ... OK
* checking if this is a source package ... OK
* checking if there is a namespace ... OK
* checking for hidden files and directories ... OK
* checking for portable file names ... OK
* checking for sufficient/correct file permissions ... OK
* checking whether package ‘affylmGUI’ can be installed ... OK
* checking installed package size ... OK
* checking package directory ... OK
* checking ‘build’ directory ... OK
* checking DESCRIPTION meta-information ... OK
* checking top-level files ... OK
* checking for left-over files ... OK
* checking index information ... OK
* checking package subdirectories ... OK
* checking R files for non-ASCII characters ... OK
* checking R files for syntax errors ... OK
* checking whether the package can be loaded ... OK
* checking whether the package can be loaded with stated dependencies ... OK
* checking whether the package can be unloaded cleanly ... OK
* checking whether the namespace can be loaded with stated dependencies ... OK
* checking whether the namespace can be unloaded cleanly ... OK
* checking dependencies in R code ... OK
* checking S3 generic/method consistency ... OK
* checking replacement functions ... OK
* checking foreign function calls ... OK
* checking R code for possible problems ... NOTE
ChooseCDF: no visible binding for global variable ‘.affylmGUIglobals’
ChooseCDF : onOK: no visible binding for global variable
  ‘.affylmGUIglobals’
ChooseCDF : onCancel: no visible binding for global variable
  ‘.affylmGUIglobals’
ChooseCDF : <anonymous>: no visible binding for global variable
  ‘.affylmGUIglobals’
ChooseContrastParameterization: no visible binding for global variable
  ‘affylmGUIenvironment’
ChooseContrastParameterization: no visible binding for global variable
  ‘.affylmGUIglobals’
ChooseContrastParameterization : onOK: no visible binding for global
  variable ‘.affylmGUIglobals’
ChooseContrastParameterization : onCancel: no visible binding for
  global variable ‘.affylmGUIglobals’
ChooseContrastParameterization : <anonymous>: no visible binding for
  global variable ‘.affylmGUIglobals’
ChooseEbayesStatistic: no visible binding for global variable
  ‘.affylmGUIglobals’
ChooseEbayesStatistic : onOK: no visible binding for global variable
  ‘.affylmGUIglobals’
ChooseEbayesStatistic : onCancel: no visible binding for global
  variable ‘.affylmGUIglobals’
ChooseEbayesStatistic : <anonymous>: no visible binding for global
  variable ‘.affylmGUIglobals’
ComputeContrasts: no visible binding for global variable
  ‘affylmGUIenvironment’
ComputeLinearModelFit: no visible binding for global variable
  ‘affylmGUIenvironment’
ComputeLinearModelFit: no visible binding for global variable
  ‘.affylmGUIglobals’
DeleteContrastParameterization: no visible binding for global variable
  ‘affylmGUIenvironment’
DensityPlot: no visible binding for global variable
  ‘affylmGUIenvironment’
DensityPlot: no visible binding for global variable ‘.affylmGUIglobals’
DensityPlot : plotFunction: no visible binding for global variable
  ‘.affylmGUIglobals’
DensityPlotAll: no visible binding for global variable
  ‘affylmGUIenvironment’
DensityPlotAll: no visible binding for global variable
  ‘.affylmGUIglobals’
DensityPlotAll : plotFunction: no visible binding for global variable
  ‘.affylmGUIglobals’
DensityPlotAll : plotFunction: no visible binding for global variable
  ‘affylmGUIenvironment’
ExportHTMLreport: no visible binding for global variable
  ‘affylmGUIenvironment’
ExportNormalizedExpressionValues: no visible binding for global
  variable ‘affylmGUIenvironment’
GetComponentsToExportInHTMLreport: no visible binding for global
  variable ‘affylmGUIenvironment’
GetComponentsToExportInHTMLreport: no visible binding for global
  variable ‘.affylmGUIglobals’
GetComponentsToExportInHTMLreport : onOK: no visible binding for global
  variable ‘.affylmGUIglobals’
GetComponentsToExportInHTMLreport : onCancel: no visible binding for
  global variable ‘.affylmGUIglobals’
GetComponentsToExportInHTMLreport : <anonymous>: no visible binding for
  global variable ‘.affylmGUIglobals’
GetContrast: no visible binding for global variable ‘.affylmGUIglobals’
GetContrast: no visible binding for global variable
  ‘affylmGUIenvironment’
GetContrast : onOK: no visible binding for global variable
  ‘.affylmGUIglobals’
GetContrast : onCancel: no visible binding for global variable
  ‘.affylmGUIglobals’
GetContrast : <anonymous>: no visible binding for global variable
  ‘.affylmGUIglobals’
GetContrastNamesForHeatDiagram: no visible binding for global variable
  ‘.affylmGUIglobals’
GetContrastNamesForHeatDiagram : onOK: no visible binding for global
  variable ‘.affylmGUIglobals’
GetContrastNamesForHeatDiagram : onCancel: no visible binding for
  global variable ‘.affylmGUIglobals’
GetContrastNamesForHeatDiagram : <anonymous>: no visible binding for
  global variable ‘.affylmGUIglobals’
GetContrastParameterizationName: no visible binding for global variable
  ‘.affylmGUIglobals’
GetContrastParameterizationName : onOK: no visible binding for global
  variable ‘.affylmGUIglobals’
GetContrastParameterizationName : onCancel: no visible binding for
  global variable ‘.affylmGUIglobals’
GetContrastParameterizationName : <anonymous>: no visible binding for
  global variable ‘.affylmGUIglobals’
GetContrasts: no visible binding for global variable
  ‘affylmGUIenvironment’
GetDEcutoff: no visible binding for global variable ‘.affylmGUIglobals’
GetDEcutoff : onOK: no visible binding for global variable
  ‘.affylmGUIglobals’
GetDEcutoff : onCancel: no visible binding for global variable
  ‘.affylmGUIglobals’
GetDEcutoff : <anonymous>: no visible binding for global variable
  ‘.affylmGUIglobals’
GetGeneLabelsOptions: no visible binding for global variable
  ‘.affylmGUIglobals’
GetGeneLabelsOptions : onOK: no visible binding for global variable
  ‘.affylmGUIglobals’
GetGeneLabelsOptions : onCancel: no visible binding for global variable
  ‘.affylmGUIglobals’
GetGeneLabelsOptions : <anonymous>: no visible binding for global
  variable ‘.affylmGUIglobals’
GetJpegOrPngParams: no visible binding for global variable
  ‘.affylmGUIglobals’
GetJpegOrPngParams : onOK: no visible binding for global variable
  ‘.affylmGUIglobals’
GetJpegOrPngParams : onCancel: no visible binding for global variable
  ‘.affylmGUIglobals’
GetJpegOrPngParams : <anonymous>: no visible binding for global
  variable ‘.affylmGUIglobals’
GetJpegOrPngX11Params: no visible binding for global variable
  ‘.affylmGUIglobals’
GetJpegOrPngX11Params : onOK: no visible binding for global variable
  ‘.affylmGUIglobals’
GetJpegOrPngX11Params : onCancel: no visible binding for global
  variable ‘.affylmGUIglobals’
GetJpegOrPngX11Params : <anonymous>: no visible binding for global
  variable ‘.affylmGUIglobals’
GetLogPLMDataChoice: no visible binding for global variable
  ‘.affylmGUIglobals’
GetLogPLMDataChoice : onCancel: no visible binding for global variable
  ‘.affylmGUIglobals’
GetLogPLMDataChoice : onOK: no visible binding for global variable
  ‘.affylmGUIglobals’
GetLogPLMDataChoice : <anonymous>: no visible binding for global
  variable ‘.affylmGUIglobals’
GetMultipleContrasts: no visible binding for global variable
  ‘.affylmGUIglobals’
GetMultipleContrasts: no visible binding for global variable
  ‘affylmGUIenvironment’
GetMultipleContrasts : onOK: no visible binding for global variable
  ‘.affylmGUIglobals’
GetMultipleContrasts : onCancel: no visible binding for global variable
  ‘.affylmGUIglobals’
GetMultipleContrasts : <anonymous>: no visible binding for global
  variable ‘.affylmGUIglobals’
GetNormalizationMethod: no visible binding for global variable
  ‘.affylmGUIglobals’
GetNormalizationMethod : onCancel: no visible binding for global
  variable ‘.affylmGUIglobals’
GetNormalizationMethod : onOK: no visible binding for global variable
  ‘.affylmGUIglobals’
GetNormalizationMethod : <anonymous>: no visible binding for global
  variable ‘.affylmGUIglobals’
GetPValueCutoff: no visible binding for global variable
  ‘.affylmGUIglobals’
GetPValueCutoff : onOK: no visible binding for global variable
  ‘.affylmGUIglobals’
GetPValueCutoff : onCancel: no visible binding for global variable
  ‘.affylmGUIglobals’
GetPValueCutoff : <anonymous>: no visible binding for global variable
  ‘.affylmGUIglobals’
GetParameterizationName: no visible binding for global variable
  ‘.affylmGUIglobals’
GetParameterizationName : onOK: no visible binding for global variable
  ‘.affylmGUIglobals’
GetParameterizationName : onCancel: no visible binding for global
  variable ‘.affylmGUIglobals’
GetParameterizationName : <anonymous>: no visible binding for global
  variable ‘.affylmGUIglobals’
GetPlotLabels: no visible binding for global variable
  ‘.affylmGUIglobals’
GetPlotLabels : onOK: no visible binding for global variable
  ‘.affylmGUIglobals’
GetPlotLabels : onCancel: no visible binding for global variable
  ‘.affylmGUIglobals’
GetPlotLabels : <anonymous>: no visible binding for global variable
  ‘.affylmGUIglobals’
GetPlotSize: no visible binding for global variable ‘.affylmGUIglobals’
GetPlotSize : onOK: no visible binding for global variable
  ‘.affylmGUIglobals’
GetPlotSize : onCancel: no visible binding for global variable
  ‘.affylmGUIglobals’
GetPlotSize : <anonymous>: no visible binding for global variable
  ‘.affylmGUIglobals’
GetPlotTitle: no visible binding for global variable
  ‘.affylmGUIglobals’
GetPlotTitle : onOK: no visible binding for global variable
  ‘.affylmGUIglobals’
GetPlotTitle : onCancel: no visible binding for global variable
  ‘.affylmGUIglobals’
GetPlotTitle : <anonymous>: no visible binding for global variable
  ‘.affylmGUIglobals’
GetResidualTypeChoice: no visible binding for global variable
  ‘.affylmGUIglobals’
GetResidualTypeChoice : onCancel: no visible binding for global
  variable ‘.affylmGUIglobals’
GetResidualTypeChoice : onOK: no visible binding for global variable
  ‘.affylmGUIglobals’
GetResidualTypeChoice : <anonymous>: no visible binding for global
  variable ‘.affylmGUIglobals’
GetSetNames: no visible binding for global variable ‘.affylmGUIglobals’
GetSetNames : onOK: no visible binding for global variable
  ‘.affylmGUIglobals’
GetSetNames : onCancel: no visible binding for global variable
  ‘.affylmGUIglobals’
GetSetNames : <anonymous>: no visible binding for global variable
  ‘.affylmGUIglobals’
GetSlideNum: no visible binding for global variable
  ‘affylmGUIenvironment’
GetSlideNum: no visible binding for global variable ‘.affylmGUIglobals’
GetSlideNum : onOK: no visible binding for global variable
  ‘.affylmGUIglobals’
GetSlideNum : onCancel: no visible binding for global variable
  ‘.affylmGUIglobals’
GetSlideNum : <anonymous>: no visible binding for global variable
  ‘.affylmGUIglobals’
GetSlideNums: no visible binding for global variable
  ‘affylmGUIenvironment’
GetSlideNums: no visible binding for global variable
  ‘.affylmGUIglobals’
GetSlideNums : onOK: no visible binding for global variable
  ‘.affylmGUIglobals’
GetSlideNums : onCancel: no visible binding for global variable
  ‘.affylmGUIglobals’
GetSlideNums : <anonymous>: no visible binding for global variable
  ‘.affylmGUIglobals’
GetWhichProbes: no visible binding for global variable
  ‘.affylmGUIglobals’
GetWhichProbes : onCancel: no visible binding for global variable
  ‘.affylmGUIglobals’
GetWhichProbes : onOK: no visible binding for global variable
  ‘.affylmGUIglobals’
GetWhichProbes : <anonymous>: no visible binding for global variable
  ‘.affylmGUIglobals’
GetWtAreaParams: no visible binding for global variable
  ‘.affylmGUIglobals’
GetWtAreaParams : onOK: no visible binding for global variable
  ‘affylmGUIenvironment’
GetWtAreaParams : onOK: no visible binding for global variable
  ‘.affylmGUIglobals’
GetWtAreaParams : onCancel: no visible binding for global variable
  ‘.affylmGUIglobals’
GetWtAreaParams : <anonymous>: no visible binding for global variable
  ‘.affylmGUIglobals’
GetWtFlagParams: no visible binding for global variable
  ‘.affylmGUIglobals’
GetWtFlagParams : onOK: no visible binding for global variable
  ‘.affylmGUIglobals’
GetWtFlagParams : onCancel: no visible binding for global variable
  ‘.affylmGUIglobals’
GetWtFlagParams : <anonymous>: no visible binding for global variable
  ‘.affylmGUIglobals’
GetWtFlagParams: no visible binding for global variable
  ‘affylmGUIenvironment’
GetlimmaDataSetName: no visible binding for global variable
  ‘affylmGUIenvironment’
GetlimmaDataSetName: no visible binding for global variable
  ‘.affylmGUIglobals’
GetlimmaDataSetName : onOK: no visible binding for global variable
  ‘affylmGUIenvironment’
GetlimmaDataSetName : <anonymous>: no visible binding for global
  variable ‘.affylmGUIglobals’
HeatDiagramDialog: no visible binding for global variable
  ‘.affylmGUIglobals’
HeatDiagramDialog : onOK: no visible binding for global variable
  ‘.affylmGUIglobals’
HeatDiagramDialog : onCancel: no visible binding for global variable
  ‘.affylmGUIglobals’
HeatDiagramDialog : <anonymous>: no visible binding for global variable
  ‘.affylmGUIglobals’
HeatDiagramPlot: no visible binding for global variable
  ‘affylmGUIenvironment’
ImageArrayPlot: no visible binding for global variable
  ‘affylmGUIenvironment’
ImageArrayPlot: no visible binding for global variable
  ‘.affylmGUIglobals’
ImageArrayPlot : plotFunction: no visible binding for global variable
  ‘.affylmGUIglobals’
ImageQualityResidualPlot: no visible binding for global variable
  ‘affylmGUIenvironment’
ImageQualityResidualPlot: no visible binding for global variable
  ‘.affylmGUIglobals’
ImageQualityResidualPlot : plotFunction: no visible binding for global
  variable ‘.affylmGUIglobals’
ImageQualityWeightPlot: no visible binding for global variable
  ‘affylmGUIenvironment’
ImageQualityWeightPlot: no visible binding for global variable
  ‘.affylmGUIglobals’
ImageQualityWeightPlot : plotFunction: no visible binding for global
  variable ‘.affylmGUIglobals’
IntensityHistogram: no visible binding for global variable
  ‘affylmGUIenvironment’
IntensityHistogram: no visible binding for global variable
  ‘.affylmGUIglobals’
IntensityHistogram : plotFunction: no visible binding for global
  variable ‘.affylmGUIglobals’
IntensityHistogramAll: no visible binding for global variable
  ‘affylmGUIenvironment’
IntensityHistogramAll: no visible binding for global variable
  ‘.affylmGUIglobals’
IntensityHistogramAll : plotFunction: no visible binding for global
  variable ‘.affylmGUIglobals’
LogOddsPlot: no visible binding for global variable
  ‘affylmGUIenvironment’
NUSEPlotAll: no visible binding for global variable
  ‘affylmGUIenvironment’
NUSEPlotAll: no visible binding for global variable ‘.affylmGUIglobals’
NUSEPlotAll : plotFunction: no visible binding for global variable
  ‘.affylmGUIglobals’
NewLimmaFile: no visible binding for global variable
  ‘affylmGUIenvironment’
NormalizeNow: no visible binding for global variable
  ‘affylmGUIenvironment’
NormalizeNow: no visible binding for global variable
  ‘.affylmGUIglobals’
NormalizedIntensityBoxPlot: no visible binding for global variable
  ‘affylmGUIenvironment’
NormalizedIntensityBoxPlot: no visible binding for global variable
  ‘.affylmGUIglobals’
NormalizedIntensityBoxPlot : plotFunction: no visible binding for
  global variable ‘.affylmGUIglobals’
OpenALimmaFile: no visible binding for global variable
  ‘affylmGUIenvironment’
OpenCDFFile: no visible binding for global variable
  ‘affylmGUIenvironment’
OpenCDFandTargetsfiles : onOK: no visible binding for global variable
  ‘affylmGUIenvironment’
OpenCDFandTargetsfiles: no visible binding for global variable
  ‘affylmGUIenvironment’
OpenTargetsFile: no visible binding for global variable
  ‘affylmGUIenvironment’
PlotOptions: no visible binding for global variable ‘.affylmGUIglobals’
PlotOptions : onOK: no visible binding for global variable
  ‘.affylmGUIglobals’
PlotOptions : <anonymous>: no visible binding for global variable
  ‘.affylmGUIglobals’
QQTplot: no visible binding for global variable ‘affylmGUIenvironment’
RLEPlotAll: no visible binding for global variable
  ‘affylmGUIenvironment’
RLEPlotAll: no visible binding for global variable ‘.affylmGUIglobals’
RLEPlotAll : plotFunction: no visible binding for global variable
  ‘.affylmGUIglobals’
RNADegradationPlotAll: no visible binding for global variable
  ‘affylmGUIenvironment’
RNADegradationPlotAll: no visible binding for global variable
  ‘.affylmGUIglobals’
RNADegradationPlotAll : plotFunction: no visible binding for global
  variable ‘.affylmGUIglobals’
RawIntensityBoxPlot: no visible binding for global variable
  ‘affylmGUIenvironment’
RawIntensityBoxPlot: no visible binding for global variable
  ‘.affylmGUIglobals’
RawIntensityBoxPlot : plotFunction: no visible binding for global
  variable ‘.affylmGUIglobals’
Resize: no visible binding for '<<-' assignment to ‘LocalHScale’
Resize: no visible binding for '<<-' assignment to ‘LocalVScale’
Resize: no visible binding for global variable ‘LocalHScale’
Resize: no visible binding for global variable ‘LocalVScale’
SaveAsLimmaFile: no visible binding for global variable
  ‘affylmGUIenvironment’
SaveAsLimmaFile: no visible binding for global variable
  ‘.affylmGUIglobals’
SaveLimmaFile: no visible binding for global variable
  ‘affylmGUIenvironment’
SaveLimmaFile: no visible binding for global variable
  ‘.affylmGUIglobals’
SetWD: no visible binding for global variable ‘.affylmGUIglobals’
TclRequire: no visible binding for global variable ‘.affylmGUIglobals’
TclRequire : onDestroy: no visible binding for global variable
  ‘.affylmGUIglobals’
TclRequire : onOK: no visible binding for global variable
  ‘.affylmGUIglobals’
TclRequire : onOK: no visible binding for global variable
  ‘affylmGUIenvironment’
UpDownOrBoth: no visible binding for global variable
  ‘.affylmGUIglobals’
UpDownOrBoth : onOK: no visible binding for global variable
  ‘.affylmGUIglobals’
UpDownOrBoth : <anonymous>: no visible binding for global variable
  ‘.affylmGUIglobals’
VennDiagramPlot: no visible binding for global variable
  ‘affylmGUIenvironment’
ViewContrastsMatrixAsPairs: no visible binding for global variable
  ‘affylmGUIenvironment’
ViewContrastsMatrixInTable: no visible binding for global variable
  ‘affylmGUIenvironment’
ViewExistingContrastParameterization: no visible binding for global
  variable ‘affylmGUIenvironment’
ViewRNATargets: no visible binding for global variable
  ‘affylmGUIenvironment’
ViewRNATargets: no visible binding for global variable
  ‘.affylmGUIglobals’
ViewRNATargets : onClose: no visible binding for global variable
  ‘.affylmGUIglobals’
ViewRNATargets : <anonymous>: no visible binding for global variable
  ‘.affylmGUIglobals’
affyPlotMA: no visible binding for global variable
  ‘affylmGUIenvironment’
affyPlotMA: no visible binding for global variable ‘.affylmGUIglobals’
affyPlotMA : plotFunction: no visible binding for global variable
  ‘.affylmGUIglobals’
affyPlotMAcontrast: no visible binding for global variable
  ‘affylmGUIenvironment’
affylmGUI: no visible binding for global variable
  ‘affylmGUIenvironment’
affylmGUI: no visible binding for global variable ‘.affylmGUIglobals’
affylmGUI : <anonymous>: no visible binding for global variable
  ‘.affylmGUIglobals’
chooseDir: no visible binding for global variable ‘.affylmGUIglobals’
evalRcode: no visible binding for global variable ‘.affylmGUIglobals’
evalRcode : runOverall: no visible binding for global variable
  ‘.affylmGUIglobals’
evalRcode : runOverall: no visible binding for global variable
  ‘affylmGUIenvironment’
generalPlotFunction: no visible binding for global variable
  ‘.affylmGUIglobals’
generalPlotFunction: no visible binding for global variable
  ‘affylmGUIenvironment’
initGlobals: no visible binding for global variable
  ‘affylmGUIenvironment’
onDestroy: no visible binding for global variable
  ‘affylmGUIenvironment’
onExit: no visible binding for global variable ‘affylmGUIenvironment’
onExit: no visible binding for global variable ‘.affylmGUIglobals’
showTopTable: no visible binding for global variable
  ‘affylmGUIenvironment’
showTopTable : onOK: no visible binding for global variable
  ‘affylmGUIenvironment’
Undefined global functions or variables:
  .affylmGUIglobals LocalHScale LocalVScale affylmGUIenvironment
* checking Rd files ... OK
* checking Rd metadata ... OK
* checking Rd cross-references ... OK
* checking for missing documentation entries ... OK
* checking for code/documentation mismatches ... OK
* checking Rd \usage sections ... OK
* checking Rd contents ... OK
* checking for unstated dependencies in examples ... OK
* checking sizes of PDF files under ‘inst/doc’ ... OK
* checking installed files from ‘inst/doc’ ... OK
* checking files in ‘vignettes’ ... OK
* checking examples ... OK
* checking for unstated dependencies in vignettes ... OK
* checking package vignettes in ‘inst/doc’ ... OK
* checking running R code from vignettes ... SKIPPED
* checking re-building of vignette outputs ... SKIPPED
* checking PDF version of manual ... OK
* DONE

Status: 1 NOTE
See
  ‘/Users/biocbuild/bbs-3.17-bioc/meat/affylmGUI.Rcheck/00check.log’
for details.



Installation output

affylmGUI.Rcheck/00install.out

##############################################################################
##############################################################################
###
### Running command:
###
###   /Library/Frameworks/R.framework/Resources/bin/R CMD INSTALL affylmGUI
###
##############################################################################
##############################################################################


* installing to library ‘/Library/Frameworks/R.framework/Versions/4.3/Resources/library’
* installing *source* package ‘affylmGUI’ ...
** using staged installation
** R
** inst
** byte-compile and prepare package for lazy loading
** help
*** installing help indices
** building package indices
** installing vignettes
** testing if installed package can be loaded from temporary location
** testing if installed package can be loaded from final location
** testing if installed package keeps a record of temporary installation path
* DONE (affylmGUI)

Tests output


Example timings

affylmGUI.Rcheck/affylmGUI-Ex.timings

nameusersystemelapsed
affylmGU-package0.0320.0320.088