Index of /checkResults/devel/bioc-LATEST/VariantTools/raw-results

[ICO]NameLast modifiedSizeDescription

[DIR]Parent Directory  -  
[   ]info.dcf15-May-2022 00:08 276  
[DIR]lconway/15-May-2022 00:08 -  
[DIR]nebbiolo2/15-May-2022 00:05 -  
[DIR]palomino4/15-May-2022 00:07 -