Index of /checkResults/devel/bioc-LATEST/VariantTools/raw-results/palomino4

[ICO]NameLast modifiedSizeDescription

[DIR]Parent Directory  -  
[TXT]buildbin-out.txt29-Sep-2023 00:38 1.1K 
[   ]buildbin-summary.dcf29-Sep-2023 00:38 545  
[TXT]buildsrc-out.txt29-Sep-2023 00:38 924  
[   ]buildsrc-summary.dcf29-Sep-2023 00:38 472  
[TXT]checksrc-out.txt29-Sep-2023 00:38 6.7K 
[   ]checksrc-summary.dcf29-Sep-2023 00:38 506  
[TXT]install-out.txt29-Sep-2023 00:38 1.0K 
[   ]install-summary.dcf29-Sep-2023 00:38 278