![]() | Name | Last modified | Size | Description |
---|---|---|---|---|
![]() | Parent Directory | - | ||
![]() | buildbin-out.txt | 29-Sep-2023 00:40 | 1.2K | |
![]() | buildbin-summary.dcf | 29-Sep-2023 00:40 | 560 | |
![]() | buildsrc-out.txt | 29-Sep-2023 00:40 | 899 | |
![]() | buildsrc-summary.dcf | 29-Sep-2023 00:40 | 442 | |
![]() | checksrc-out.txt | 29-Sep-2023 00:40 | 1.6K | |
![]() | checksrc-summary.dcf | 29-Sep-2023 00:40 | 466 | |
![]() | install-out.txt | 29-Sep-2023 00:40 | 1.0K | |
![]() | install-summary.dcf | 29-Sep-2023 00:40 | 279 | |