![]() | Name | Last modified | Size | Description |
---|---|---|---|---|
![]() | Parent Directory | - | ||
![]() | buildsrc-out.txt | 22-Sep-2023 00:41 | 883 | |
![]() | buildsrc-summary.dcf | 22-Sep-2023 00:41 | 426 | |
![]() | checksrc-out.txt | 22-Sep-2023 00:41 | 12K | |
![]() | checksrc-summary.dcf | 22-Sep-2023 00:41 | 426 | |
![]() | install-out.txt | 22-Sep-2023 00:41 | 963 | |
![]() | install-summary.dcf | 22-Sep-2023 00:41 | 263 | |