Index of /checkResults/devel/bioc-LATEST/VariantTools/raw-results

[ICO]NameLast modifiedSizeDescription

[DIR]Parent Directory  -  
[   ]info.dcf12-Jun-2024 04:39 275  
[DIR]kjohnson1/12-Jun-2024 04:43 -  
[DIR]kunpeng2/16-May-2024 02:46 -  
[DIR]merida1/12-Jun-2024 04:42 -  
[DIR]nebbiolo2/12-Jun-2024 04:40 -  
[DIR]palomino4/12-Jun-2024 04:41 -