![]() | Name | Last modified | Size | Description |
---|---|---|---|---|
![]() | Parent Directory | - | ||
![]() | buildsrc-out.txt | 29-Sep-2023 00:37 | 889 | |
![]() | buildsrc-summary.dcf | 29-Sep-2023 00:37 | 432 | |
![]() | checksrc-out.txt | 29-Sep-2023 00:37 | 12K | |
![]() | checksrc-summary.dcf | 29-Sep-2023 00:37 | 438 | |
![]() | install-out.txt | 29-Sep-2023 00:37 | 1.0K | |
![]() | install-summary.dcf | 29-Sep-2023 00:37 | 269 | |