Index of /checkResults/devel/bioc-LATEST/UniProt.ws/raw-results

[ICO]NameLast modifiedSizeDescription

[DIR]Parent Directory  -  
[   ]info.dcf28-Jan-2022 01:11 297  
[DIR]merida1/28-Jan-2022 01:11 -  
[DIR]nebbiolo1/28-Jan-2022 01:06 -  
[DIR]palomino3/28-Jan-2022 01:10 -  
[DIR]riesling1/28-Jan-2022 01:08 -