Back to Multiple platform build/check report for BioC 3.17
ABC[D]EFGHIJKLMNOPQRSTUVWXYZ

This page was generated on 2023-01-28 11:05:23 -0500 (Sat, 28 Jan 2023).

HostnameOSArch (*)R versionInstalled pkgs
nebbiolo1Linux (Ubuntu 22.04.1 LTS)x86_64R Under development (unstable) (2023-01-10 r83596) -- "Unsuffered Consequences" 4465
palomino3Windows Server 2022 Datacenterx64R Under development (unstable) (2023-01-10 r83596 ucrt) -- "Unsuffered Consequences" 4246
merida1macOS 10.14.6 Mojavex86_64R Under development (unstable) (2023-01-10 r83596) -- "Unsuffered Consequences" 4269
Click on any hostname to see more info about the system (e.g. compilers)      (*) as reported by 'uname -p', except on Windows and Mac OS X

CHECK results for drugTargetInteractions on nebbiolo1


To the developers/maintainers of the drugTargetInteractions package:
- Please allow up to 24 hours (and sometimes 48 hours) for your latest push to git@git.bioconductor.org:packages/drugTargetInteractions.git to
reflect on this report. See How and When does the builder pull? When will my changes propagate? for more information.
- Make sure to use the following settings in order to reproduce any error or warning you see on this page.

raw results

Package 564/2162HostnameOS / ArchINSTALLBUILDCHECKBUILD BIN
drugTargetInteractions 1.7.0  (landing page)
Thomas Girke
Snapshot Date: 2023-01-27 14:00:19 -0500 (Fri, 27 Jan 2023)
git_url: https://git.bioconductor.org/packages/drugTargetInteractions
git_branch: master
git_last_commit: 7f8fecc
git_last_commit_date: 2022-11-01 11:24:22 -0500 (Tue, 01 Nov 2022)
nebbiolo1Linux (Ubuntu 22.04.1 LTS) / x86_64  OK    OK    OK  UNNEEDED, same version is already published
palomino3Windows Server 2022 Datacenter / x64  OK    OK    OK    NA  
merida1macOS 10.14.6 Mojave / x86_64  OK    OK    OK    OK  UNNEEDED, same version is already published

Summary

Package: drugTargetInteractions
Version: 1.7.0
Command: /home/biocbuild/bbs-3.17-bioc/R/bin/R CMD check --install=check:drugTargetInteractions.install-out.txt --library=/home/biocbuild/bbs-3.17-bioc/R/library --timings drugTargetInteractions_1.7.0.tar.gz
StartedAt: 2023-01-27 20:16:35 -0500 (Fri, 27 Jan 2023)
EndedAt: 2023-01-27 20:23:09 -0500 (Fri, 27 Jan 2023)
EllapsedTime: 393.7 seconds
RetCode: 0
Status:   OK  
CheckDir: drugTargetInteractions.Rcheck
Warnings: 0

Command output

##############################################################################
##############################################################################
###
### Running command:
###
###   /home/biocbuild/bbs-3.17-bioc/R/bin/R CMD check --install=check:drugTargetInteractions.install-out.txt --library=/home/biocbuild/bbs-3.17-bioc/R/library --timings drugTargetInteractions_1.7.0.tar.gz
###
##############################################################################
##############################################################################


* using log directory ‘/home/biocbuild/bbs-3.17-bioc/meat/drugTargetInteractions.Rcheck’
* using R Under development (unstable) (2023-01-10 r83596)
* using platform: x86_64-pc-linux-gnu (64-bit)
* R was compiled by
    gcc (Ubuntu 11.3.0-1ubuntu1~22.04) 11.3.0
    GNU Fortran (Ubuntu 11.3.0-1ubuntu1~22.04) 11.3.0
* running under: Ubuntu 22.04.1 LTS
* using session charset: UTF-8
* checking for file ‘drugTargetInteractions/DESCRIPTION’ ... OK
* checking extension type ... Package
* this is package ‘drugTargetInteractions’ version ‘1.7.0’
* checking package namespace information ... OK
* checking package dependencies ... OK
* checking if this is a source package ... OK
* checking if there is a namespace ... OK
* checking for hidden files and directories ... OK
* checking for portable file names ... OK
* checking for sufficient/correct file permissions ... OK
* checking whether package ‘drugTargetInteractions’ can be installed ... OK
* checking installed package size ... OK
* checking package directory ... OK
* checking ‘build’ directory ... OK
* checking DESCRIPTION meta-information ... OK
* checking top-level files ... OK
* checking for left-over files ... OK
* checking index information ... OK
* checking package subdirectories ... OK
* checking R files for non-ASCII characters ... OK
* checking R files for syntax errors ... OK
* checking whether the package can be loaded ... OK
* checking whether the package can be loaded with stated dependencies ... OK
* checking whether the package can be unloaded cleanly ... OK
* checking whether the namespace can be loaded with stated dependencies ... OK
* checking whether the namespace can be unloaded cleanly ... OK
* checking dependencies in R code ... OK
* checking S3 generic/method consistency ... OK
* checking replacement functions ... OK
* checking foreign function calls ... OK
* checking R code for possible problems ... NOTE
.getCacheFile: no visible binding for global variable 'create_time'
getParalogs: no visible global function definition for 'setNames'
Undefined global functions or variables:
  create_time setNames
Consider adding
  importFrom("stats", "setNames")
to your NAMESPACE file.
* checking Rd files ... OK
* checking Rd metadata ... OK
* checking Rd cross-references ... OK
* checking for missing documentation entries ... OK
* checking for code/documentation mismatches ... OK
* checking Rd \usage sections ... OK
* checking Rd contents ... OK
* checking for unstated dependencies in examples ... OK
* checking files in ‘vignettes’ ... OK
* checking examples ... OK
Examples with CPU (user + system) or elapsed time > 5s
                       user system elapsed
drugTargetAnnotTable 44.961  2.515  47.485
processDrugage       30.481  1.352  32.460
transformTTD          4.714  0.892  12.723
* checking for unstated dependencies in vignettes ... OK
* checking package vignettes in ‘inst/doc’ ... OK
* checking running R code from vignettes ...
  ‘drugTargetInteractions.Rmd’ using ‘UTF-8’... OK
 NONE
* checking re-building of vignette outputs ... OK
* checking PDF version of manual ... OK
* DONE

Status: 1 NOTE
See
  ‘/home/biocbuild/bbs-3.17-bioc/meat/drugTargetInteractions.Rcheck/00check.log’
for details.



Installation output

drugTargetInteractions.Rcheck/00install.out

##############################################################################
##############################################################################
###
### Running command:
###
###   /home/biocbuild/bbs-3.17-bioc/R/bin/R CMD INSTALL drugTargetInteractions
###
##############################################################################
##############################################################################


* installing to library ‘/home/biocbuild/bbs-3.17-bioc/R/library’
* installing *source* package ‘drugTargetInteractions’ ...
** using staged installation
** R
** inst
** byte-compile and prepare package for lazy loading
** help
*** installing help indices
** building package indices
** installing vignettes
** testing if installed package can be loaded from temporary location
** testing if installed package can be loaded from final location
** testing if installed package keeps a record of temporary installation path
* DONE (drugTargetInteractions)

Tests output


Example timings

drugTargetInteractions.Rcheck/drugTargetInteractions-Ex.timings

nameusersystemelapsed
cmpIdMapping0.0010.0000.001
downloadChemblDb0.0010.0000.001
downloadUniChem0.8490.0801.757
drugTargetAnnot0.0110.0080.021
drugTargetAnnotTable44.961 2.51547.485
drugTargetBioactivity0.0760.0010.076
genConfig000
getDrugTarget0.0140.0040.018
getParalogs0.0000.0000.001
getSymEnsUp1.4010.1711.576
getUniprotIDs000
processDrugage30.481 1.35232.460
runDrugTarget_Annot_Bioassay0.3180.0120.330
transformTTD 4.714 0.89212.723