Back to Multiple platform build/check report for BioC 3.17
ABCDEFGHIJKLMNOPQRS[T]UVWXYZ

This page was generated on 2022-12-03 11:10:15 -0500 (Sat, 03 Dec 2022).

HostnameOSArch (*)R versionInstalled pkgs
nebbiolo1Linux (Ubuntu 22.04.1 LTS)x86_64R Under development (unstable) (2022-11-30 r83393) -- "Unsuffered Consequences" 4277
palomino3Windows Server 2022 Datacenterx64R Under development (unstable) (2022-11-30 r83393 ucrt) -- "Unsuffered Consequences" 4152
merida1macOS 10.14.6 Mojavex86_64R Under development (unstable) (2022-11-30 r83393) -- "Unsuffered Consequences" 4236
Click on any hostname to see more info about the system (e.g. compilers)      (*) as reported by 'uname -p', except on Windows and Mac OS X

BUILD results for TFutils on merida1


To the developers/maintainers of the TFutils package:
- Please allow up to 24 hours (and sometimes 48 hours) for your latest push to git@git.bioconductor.org:packages/TFutils.git to
reflect on this report. See How and When does the builder pull? When will my changes propagate? for more information.
- Make sure to use the following settings in order to reproduce any error or warning you see on this page.

raw results

Package 2018/2155HostnameOS / ArchINSTALLBUILDCHECKBUILD BIN
TFutils 1.19.0  (landing page)
Vincent Carey
Snapshot Date: 2022-12-02 14:00:12 -0500 (Fri, 02 Dec 2022)
git_url: https://git.bioconductor.org/packages/TFutils
git_branch: master
git_last_commit: e1ba0dc
git_last_commit_date: 2022-11-01 11:17:33 -0500 (Tue, 01 Nov 2022)
nebbiolo1Linux (Ubuntu 22.04.1 LTS) / x86_64  OK    OK    OK  UNNEEDED, same version is already published
palomino3Windows Server 2022 Datacenter / x64  OK    OK    OK    OK  NO, package depends on 'Rsamtools' which is not available
merida1macOS 10.14.6 Mojave / x86_64  OK    OK    OK    OK  NO, package depends on 'Rsamtools' which is not available

Summary

Package: TFutils
Version: 1.19.0
Command: /Library/Frameworks/R.framework/Resources/bin/R CMD build --keep-empty-dirs --no-resave-data TFutils
StartedAt: 2022-12-02 21:40:40 -0500 (Fri, 02 Dec 2022)
EndedAt: 2022-12-02 21:43:20 -0500 (Fri, 02 Dec 2022)
EllapsedTime: 160.5 seconds
RetCode: 0
Status:   OK  
PackageFile: TFutils_1.19.0.tar.gz
PackageFileSize: 5.937 MiB

Command output

##############################################################################
##############################################################################
###
### Running command:
###
###   /Library/Frameworks/R.framework/Resources/bin/R CMD build --keep-empty-dirs --no-resave-data TFutils
###
##############################################################################
##############################################################################


* checking for file ‘TFutils/DESCRIPTION’ ... OK
* preparing ‘TFutils’:
* checking DESCRIPTION meta-information ... OK
* installing the package to build vignettes
* creating vignettes ... OK
* checking for LF line-endings in source and make files and shell scripts
* checking for empty or unneeded directories
* building ‘TFutils_1.19.0.tar.gz’