Back to Multiple platform build/check report for BioC 3.17:   simplified   long
ABCDEFGHIJKLMNOPQRS[T]UVWXYZ

This page was generated on 2023-03-20 11:07:01 -0400 (Mon, 20 Mar 2023).

HostnameOSArch (*)R versionInstalled pkgs
nebbiolo1Linux (Ubuntu 22.04.1 LTS)x86_64R Under development (unstable) (2023-03-16 r83996) -- "Unsuffered Consequences" 4297
palomino3Windows Server 2022 Datacenterx64R Under development (unstable) (2023-03-15 r83984 ucrt) -- "Unsuffered Consequences" 4286
merida1macOS 10.14.6 Mojavex86_64R Under development (unstable) (2023-03-16 r83985) -- "Unsuffered Consequences" 4150
Click on any hostname to see more info about the system (e.g. compilers)      (*) as reported by 'uname -p', except on Windows and Mac OS X

BUILD BIN results for TFutils on merida1


To the developers/maintainers of the TFutils package:
- Please allow up to 24 hours (and sometimes 48 hours) for your latest push to git@git.bioconductor.org:packages/TFutils.git to
reflect on this report. See How and When does the builder pull? When will my changes propagate? for more information.
- Make sure to use the following settings in order to reproduce any error or warning you see on this page.

raw results

Package 2052/2189HostnameOS / ArchINSTALLBUILDCHECKBUILD BIN
TFutils 1.19.0  (landing page)
Vincent Carey
Snapshot Date: 2023-03-19 14:00:12 -0400 (Sun, 19 Mar 2023)
git_url: https://git.bioconductor.org/packages/TFutils
git_branch: master
git_last_commit: e1ba0dc
git_last_commit_date: 2022-11-01 11:17:33 -0400 (Tue, 01 Nov 2022)
nebbiolo1Linux (Ubuntu 22.04.1 LTS) / x86_64  OK    OK    OK  UNNEEDED, same version is already published
palomino3Windows Server 2022 Datacenter / x64  OK    OK    OK    OK  UNNEEDED, same version is already published
merida1macOS 10.14.6 Mojave / x86_64  OK    OK    OK    OK  UNNEEDED, same version is already published

Summary

Package: TFutils
Version: 1.19.0
Command: rm -rf TFutils.buildbin-libdir && mkdir TFutils.buildbin-libdir && /Users/biocbuild/BBS/utils/build-universal.sh TFutils_1.19.0.tar.gz /Library/Frameworks/R.framework/Resources/bin/R TFutils.buildbin-libdir
StartedAt: 2023-03-20 08:32:08 -0400 (Mon, 20 Mar 2023)
EndedAt: 2023-03-20 08:33:55 -0400 (Mon, 20 Mar 2023)
EllapsedTime: 106.4 seconds
RetCode: 0
Status:   OK  
PackageFile: TFutils_1.19.0.tgz
PackageFileSize: 6.313 MiB

Command output

##############################################################################
##############################################################################
###
### Running command:
###
###   rm -rf TFutils.buildbin-libdir && mkdir TFutils.buildbin-libdir && /Users/biocbuild/BBS/utils/build-universal.sh TFutils_1.19.0.tar.gz /Library/Frameworks/R.framework/Resources/bin/R TFutils.buildbin-libdir
###
##############################################################################
##############################################################################


>>>>>>> 
>>>>>>> INSTALLATION WITH 'R CMD INSTALL --preclean --no-multiarch --library=TFutils.buildbin-libdir TFutils_1.19.0.tar.gz'
>>>>>>> 

* installing *source* package ‘TFutils’ ...
** using staged installation
** R
** data
*** moving datasets to lazyload DB
** inst
** byte-compile and prepare package for lazy loading
** help
*** installing help indices
** building package indices
** installing vignettes
** testing if installed package can be loaded from temporary location
** testing if installed package can be loaded from final location
** testing if installed package keeps a record of temporary installation path
* DONE (TFutils)