Back to Multiple platform build/check report for BioC 3.19:   simplified   long
ABCDEFGHIJKLMNOPQR[S]TUVWXYZ

This page was generated on 2024-03-01 11:39:34 -0500 (Fri, 01 Mar 2024).

HostnameOSArch (*)R versionInstalled pkgs
nebbiolo1Linux (Ubuntu 22.04.3 LTS)x86_64R Under development (unstable) (2024-01-16 r85808) -- "Unsuffered Consequences" 4676
palomino3Windows Server 2022 Datacenterx64R Under development (unstable) (2024-01-14 r85805 ucrt) -- "Unsuffered Consequences" 4414
merida1macOS 12.7.1 Montereyx86_64R Under development (unstable) (2024-01-16 r85808) -- "Unsuffered Consequences" 4441
kunpeng2Linux (openEuler 22.03 LTS-SP1)aarch64R Under development (unstable) (2024-01-16 r85812) -- "Unsuffered Consequences" 4417
Click on any hostname to see more info about the system (e.g. compilers)      (*) as reported by 'uname -p', except on Windows and Mac OS X

Package 1839/2251HostnameOS / ArchINSTALLBUILDCHECKBUILD BIN
SCANVIS 1.17.0  (landing page)
Phaedra Agius
Snapshot Date: 2024-02-28 14:00:14 -0500 (Wed, 28 Feb 2024)
git_url: https://git.bioconductor.org/packages/SCANVIS
git_branch: devel
git_last_commit: 8541bed
git_last_commit_date: 2023-10-24 11:15:14 -0500 (Tue, 24 Oct 2023)
nebbiolo1Linux (Ubuntu 22.04.3 LTS) / x86_64  OK    OK    OK  UNNEEDED, same version is already published
palomino3Windows Server 2022 Datacenter / x64  OK    ERROR  skippedskipped
merida1macOS 12.7.1 Monterey / x86_64  OK    OK    OK    OK  UNNEEDED, same version is already published
kunpeng2Linux (openEuler 22.03 LTS-SP1) / aarch64  OK    OK    OK  

CHECK results for SCANVIS on merida1


To the developers/maintainers of the SCANVIS package:
- Allow up to 24 hours (and sometimes 48 hours) for your latest push to git@git.bioconductor.org:packages/SCANVIS.git to reflect on this report. See Troubleshooting Build Report for more information.
- Use the following Renviron settings to reproduce errors and warnings.
- If 'R CMD check' started to fail recently on the Linux builder(s) over a missing dependency, add the missing dependency to 'Suggests:' in your DESCRIPTION file. See Renviron.bioc for more information.

raw results


Summary

Package: SCANVIS
Version: 1.17.0
Command: /Library/Frameworks/R.framework/Resources/bin/R CMD check --install=check:SCANVIS.install-out.txt --library=/Library/Frameworks/R.framework/Resources/library --no-vignettes --timings SCANVIS_1.17.0.tar.gz
StartedAt: 2024-02-29 10:13:27 -0500 (Thu, 29 Feb 2024)
EndedAt: 2024-02-29 10:20:49 -0500 (Thu, 29 Feb 2024)
EllapsedTime: 442.1 seconds
RetCode: 0
Status:   OK  
CheckDir: SCANVIS.Rcheck
Warnings: 0

Command output

##############################################################################
##############################################################################
###
### Running command:
###
###   /Library/Frameworks/R.framework/Resources/bin/R CMD check --install=check:SCANVIS.install-out.txt --library=/Library/Frameworks/R.framework/Resources/library --no-vignettes --timings SCANVIS_1.17.0.tar.gz
###
##############################################################################
##############################################################################


* using log directory ‘/Users/biocbuild/bbs-3.19-bioc/meat/SCANVIS.Rcheck’
* using R Under development (unstable) (2024-01-16 r85808)
* using platform: x86_64-apple-darwin20
* R was compiled by
    Apple clang version 14.0.0 (clang-1400.0.29.202)
    GNU Fortran (GCC) 12.2.0
* running under: macOS Monterey 12.7.1
* using session charset: UTF-8
* using option ‘--no-vignettes’
* checking for file ‘SCANVIS/DESCRIPTION’ ... OK
* checking extension type ... Package
* this is package ‘SCANVIS’ version ‘1.17.0’
* checking package namespace information ... OK
* checking package dependencies ... OK
* checking if this is a source package ... OK
* checking if there is a namespace ... OK
* checking for hidden files and directories ... OK
* checking for portable file names ... OK
* checking for sufficient/correct file permissions ... OK
* checking whether package ‘SCANVIS’ can be installed ... OK
* checking installed package size ... OK
* checking package directory ... OK
* checking ‘build’ directory ... OK
* checking DESCRIPTION meta-information ... OK
* checking top-level files ... OK
* checking for left-over files ... OK
* checking index information ... OK
* checking package subdirectories ... OK
* checking R files for non-ASCII characters ... OK
* checking R files for syntax errors ... OK
* checking whether the package can be loaded ... OK
* checking whether the package can be loaded with stated dependencies ... OK
* checking whether the package can be unloaded cleanly ... OK
* checking whether the namespace can be loaded with stated dependencies ... OK
* checking whether the namespace can be unloaded cleanly ... OK
* checking dependencies in R code ... OK
* checking S3 generic/method consistency ... OK
* checking replacement functions ... OK
* checking foreign function calls ... OK
* checking R code for possible problems ... NOTE
SCANVISannotation: no visible global function definition for
  ‘download.file’
SCANVISannotation: no visible binding for global variable ‘out.dir’
SCANVISannotation: no visible global function definition for
  ‘elementMetadata’
SCANVISannotation: no visible global function definition for ‘seqnames’
SCANVISmerge: no visible global function definition for ‘read.delim’
SCANVISread_STAR: no visible global function definition for
  ‘read.delim’
SCANVISscan: no visible global function definition for ‘read.delim’
SCANVISscan: no visible global function definition for ‘tail’
SCANVISscan: no visible global function definition for ‘write.table’
SCANVISvisual: no visible global function definition for ‘rect’
SCANVISvisual: no visible global function definition for ‘lines’
SCANVISvisual: no visible global function definition for ‘text’
SCANVISvisual: no visible global function definition for ‘legend’
SCANVISvisual: no visible global function definition for ‘write.table’
SCANVISvisual: no visible global function definition for ‘read.delim’
SCANVISvisual: no visible global function definition for ‘tail’
SCANVISvisual: no visible global function definition for ‘head’
SCANVISvisual: no visible global function definition for ‘points’
gene2roi: no visible global function definition for ‘tail’
Undefined global functions or variables:
  download.file elementMetadata head legend lines out.dir points
  read.delim rect seqnames tail text write.table
Consider adding
  importFrom("graphics", "legend", "lines", "points", "rect", "text")
  importFrom("utils", "download.file", "head", "read.delim", "tail",
             "write.table")
to your NAMESPACE file.
* checking Rd files ... OK
* checking Rd metadata ... OK
* checking Rd cross-references ... OK
* checking for missing documentation entries ... OK
* checking for code/documentation mismatches ... OK
* checking Rd \usage sections ... OK
* checking Rd contents ... NOTE
Argument items with no description in Rd file 'SCANVISannotation.Rd':
  ‘ftp.url’
* checking for unstated dependencies in examples ... OK
* checking contents of ‘data’ directory ... OK
* checking data for non-ASCII characters ... OK
* checking data for ASCII and uncompressed saves ... OK
* checking sizes of PDF files under ‘inst/doc’ ... OK
* checking files in ‘vignettes’ ... OK
* checking examples ... OK
* checking for unstated dependencies in vignettes ... OK
* checking package vignettes ... OK
* checking running R code from vignettes ... SKIPPED
* checking re-building of vignette outputs ... SKIPPED
* checking PDF version of manual ... OK
* DONE

Status: 2 NOTEs
See
  ‘/Users/biocbuild/bbs-3.19-bioc/meat/SCANVIS.Rcheck/00check.log’
for details.



Installation output

SCANVIS.Rcheck/00install.out

##############################################################################
##############################################################################
###
### Running command:
###
###   /Library/Frameworks/R.framework/Resources/bin/R CMD INSTALL SCANVIS
###
##############################################################################
##############################################################################


* installing to library ‘/Library/Frameworks/R.framework/Versions/4.4-x86_64/Resources/library’
* installing *source* package ‘SCANVIS’ ...
** using staged installation
** R
** data
** byte-compile and prepare package for lazy loading
** help
*** installing help indices
** building package indices
** installing vignettes
** testing if installed package can be loaded from temporary location
** testing if installed package can be loaded from final location
** testing if installed package keeps a record of temporary installation path
* DONE (SCANVIS)

Tests output


Example timings

SCANVIS.Rcheck/SCANVIS-Ex.timings

nameusersystemelapsed
IR2Mat0.0970.0140.123
SCANVISannotation0.0000.0000.001
SCANVISlinkvar0.6560.0920.894
SCANVISmerge0.3150.0400.417
SCANVISreadSTAR0.0070.0020.010
SCANVISscan0.3990.0530.487
SCANVISvisual1.5340.0761.865
gene2roi0.0840.0040.115
ls_url0.0160.0072.071