Back to Multiple platform build/check report for BioC 3.20:   simplified   long
ABCDE[F]GHIJKLMNOPQRSTUVWXYZ

This page was generated on 2024-05-15 13:46:32 -0400 (Wed, 15 May 2024).

HostnameOSArch (*)R versionInstalled pkgs
nebbiolo2Linux (Ubuntu 22.04.3 LTS)x86_644.4.0 RC (2024-04-16 r86468) -- "Puppy Cup" 4663
kunpeng2Linux (openEuler 22.03 LTS-SP1)aarch644.4.0 beta (2024-04-15 r86425) -- "Puppy Cup" 4480
Click on any hostname to see more info about the system (e.g. compilers)      (*) as reported by 'uname -p', except on Windows and Mac OS X

Package 687/2230HostnameOS / ArchINSTALLBUILDCHECKBUILD BIN
FEAST 1.13.0  (landing page)
Kenong Su
Snapshot Date: 2024-05-13 14:05:07 -0400 (Mon, 13 May 2024)
git_url: https://git.bioconductor.org/packages/FEAST
git_branch: devel
git_last_commit: c3f7d2e
git_last_commit_date: 2024-04-30 11:33:40 -0400 (Tue, 30 Apr 2024)
nebbiolo2Linux (Ubuntu 22.04.3 LTS) / x86_64  OK    OK    OK  UNNEEDED, same version is already published
kunpeng2Linux (openEuler 22.03 LTS-SP1) / aarch64  OK    OK    OK  
kjohnson1macOS 13.6.6 Ventura / arm64see weekly results here

INSTALL results for FEAST on kunpeng2


To the developers/maintainers of the FEAST package:
- Allow up to 24 hours (and sometimes 48 hours) for your latest push to git@git.bioconductor.org:packages/FEAST.git to reflect on this report. See Troubleshooting Build Report for more information.
- Use the following Renviron settings to reproduce errors and warnings.
- If 'R CMD check' started to fail recently on the Linux builder(s) over a missing dependency, add the missing dependency to 'Suggests:' in your DESCRIPTION file. See Renviron.bioc for more information.
- See Martin Grigorov's blog post for how to debug Linux ARM64 related issues on a x86_64 host.

raw results


Summary

Package: FEAST
Version: 1.12.0
Command: /home/biocbuild/R/R-beta-2024-04-15_r86425/bin/R CMD INSTALL FEAST
StartedAt: 2024-05-08 20:37:00 -0000 (Wed, 08 May 2024)
EndedAt: 2024-05-08 20:37:40 -0000 (Wed, 08 May 2024)
EllapsedTime: 39.8 seconds
RetCode: 0
Status:   OK  

Command output

##############################################################################
##############################################################################
###
### Running command:
###
###   /home/biocbuild/R/R-beta-2024-04-15_r86425/bin/R CMD INSTALL FEAST
###
##############################################################################
##############################################################################


* installing to library ‘/home/biocbuild/R/R-beta-2024-04-15_r86425/site-library’
* installing *source* package ‘FEAST’ ...
** using staged installation
** libs
using C compiler: ‘gcc (GCC) 10.3.1’
gcc -I"/home/biocbuild/R/R-beta-2024-04-15_r86425/include" -DNDEBUG   -I/usr/local/include    -fPIC  -g -O2  -Wall -c cal_3_metrics.c -o cal_3_metrics.o
gcc -shared -L/home/biocbuild/R/R-beta-2024-04-15_r86425/lib -L/usr/local/lib -o FEAST.so cal_3_metrics.o -L/home/biocbuild/R/R-beta-2024-04-15_r86425/lib -lR
installing to /home/biocbuild/R/R-beta-2024-04-15_r86425/site-library/00LOCK-FEAST/00new/FEAST/libs
** R
** data
*** moving datasets to lazyload DB
** inst
** byte-compile and prepare package for lazy loading
** help
*** installing help indices
** building package indices
** installing vignettes
** testing if installed package can be loaded from temporary location
** checking absolute paths in shared objects and dynamic libraries
** testing if installed package can be loaded from final location
** testing if installed package keeps a record of temporary installation path
* DONE (FEAST)