Back to Multiple platform build/check report for BioC 3.16 |
|
This page was generated on 2022-08-06 11:06:52 -0400 (Sat, 06 Aug 2022).
Hostname | OS | Arch (*) | R version | Installed pkgs |
---|---|---|---|---|
nebbiolo2 | Linux (Ubuntu 20.04.4 LTS) | x86_64 | 4.2.1 (2022-06-23) -- "Funny-Looking Kid" | 4371 |
palomino4 | Windows Server 2022 Datacenter | x64 | 4.2.1 (2022-06-23 ucrt) -- "Funny-Looking Kid" | 4155 |
lconway | macOS 12.2.1 Monterey | x86_64 | 4.2.1 Patched (2022-07-09 r82577) -- "Funny-Looking Kid" | 4155 |
Click on any hostname to see more info about the system (e.g. compilers) (*) as reported by 'uname -p', except on Windows and Mac OS X |
To the developers/maintainers of the RnaSeqSampleSize package: - Please allow up to 24 hours (and sometimes 48 hours) for your latest push to git@git.bioconductor.org:packages/RnaSeqSampleSize.git to reflect on this report. See How and When does the builder pull? When will my changes propagate? for more information. - Make sure to use the following settings in order to reproduce any error or warning you see on this page. |
Package 1678/2137 | Hostname | OS / Arch | INSTALL | BUILD | CHECK | BUILD BIN | ||||||||
RnaSeqSampleSize 2.7.0 (landing page) Shilin Zhao Developer
| nebbiolo2 | Linux (Ubuntu 20.04.4 LTS) / x86_64 | OK | OK | OK | ![]() | ||||||||
palomino4 | Windows Server 2022 Datacenter / x64 | OK | OK | ERROR | NA | |||||||||
lconway | macOS 12.2.1 Monterey / x86_64 | OK | OK | OK | OK | ![]() | ||||||||
Package: RnaSeqSampleSize |
Version: 2.7.0 |
Command: chmod a+r RnaSeqSampleSize -R && F:\biocbuild\bbs-3.16-bioc\R\bin\R.exe CMD build --keep-empty-dirs --no-resave-data RnaSeqSampleSize |
StartedAt: 2022-08-05 21:07:33 -0400 (Fri, 05 Aug 2022) |
EndedAt: 2022-08-05 21:09:40 -0400 (Fri, 05 Aug 2022) |
EllapsedTime: 127.6 seconds |
RetCode: 0 |
Status: OK |
PackageFile: RnaSeqSampleSize_2.7.0.tar.gz |
PackageFileSize: 234.8 KiB |
############################################################################## ############################################################################## ### ### Running command: ### ### chmod a+r RnaSeqSampleSize -R && F:\biocbuild\bbs-3.16-bioc\R\bin\R.exe CMD build --keep-empty-dirs --no-resave-data RnaSeqSampleSize ### ############################################################################## ############################################################################## * checking for file 'RnaSeqSampleSize/DESCRIPTION' ... OK * preparing 'RnaSeqSampleSize': * checking DESCRIPTION meta-information ... OK * cleaning src * installing the package to build vignettes * creating vignettes ... OK * cleaning src * checking for LF line-endings in source and make files and shell scripts * checking for empty or unneeded directories * building 'RnaSeqSampleSize_2.7.0.tar.gz'