Back to Multiple platform build/check report for BioC 3.14
ABCDEFGHIJKLMNOPQ[R]STUVWXYZ

This page was generated on 2021-10-18 12:04:43 -0400 (Mon, 18 Oct 2021).

BUILD results for RnaSeqSampleSize on merida1

To the developers/maintainers of the RnaSeqSampleSize package:
- Please allow up to 24 hours (and sometimes 48 hours) for your latest push to git@git.bioconductor.org:packages/RnaSeqSampleSize.git to
reflect on this report. See How and When does the builder pull? When will my changes propagate? here for more information.
- Make sure to use the following settings in order to reproduce any error or warning you see on this page.

raw results

Package 1619/2060HostnameOS / ArchINSTALLBUILDCHECKBUILD BIN
RnaSeqSampleSize 2.3.0  (landing page)
Shilin Zhao Developer
Snapshot Date: 2021-10-17 14:50:03 -0400 (Sun, 17 Oct 2021)
git_url: https://git.bioconductor.org/packages/RnaSeqSampleSize
git_branch: master
git_last_commit: 9bf07a6
git_last_commit_date: 2021-05-19 12:56:33 -0400 (Wed, 19 May 2021)
nebbiolo2Linux (Ubuntu 20.04.2 LTS) / x86_64  OK    OK    OK  UNNEEDED, same version is already published
riesling1Windows Server 2019 Standard / x64  OK    OK    OK    OK  UNNEEDED, same version is already published
merida1macOS 10.14.6 Mojave / x86_64  OK    OK    OK    NA  

Summary

Package: RnaSeqSampleSize
Version: 2.3.0
Command: /Library/Frameworks/R.framework/Resources/bin/R CMD build --keep-empty-dirs --no-resave-data RnaSeqSampleSize
StartedAt: 2021-10-17 22:39:43 -0400 (Sun, 17 Oct 2021)
EndedAt: 2021-10-17 22:41:38 -0400 (Sun, 17 Oct 2021)
EllapsedTime: 115.0 seconds
RetCode: 0
Status:   OK  
PackageFile: RnaSeqSampleSize_2.3.0.tar.gz
PackageFileSize: 215.7 KiB

Command output

##############################################################################
##############################################################################
###
### Running command:
###
###   /Library/Frameworks/R.framework/Resources/bin/R CMD build --keep-empty-dirs --no-resave-data RnaSeqSampleSize
###
##############################################################################
##############################################################################


* checking for file ‘RnaSeqSampleSize/DESCRIPTION’ ... OK
* preparing ‘RnaSeqSampleSize’:
* checking DESCRIPTION meta-information ... OK
* cleaning src
* installing the package to build vignettes
* creating vignettes ... OK
* cleaning src
* checking for LF line-endings in source and make files and shell scripts
* checking for empty or unneeded directories
* building ‘RnaSeqSampleSize_2.3.0.tar.gz’