Back to Multiple platform build/check report for BioC 3.15
ABCDEFGHIJKLMNOPQ[R]STUVWXYZ

This page was generated on 2021-11-26 14:05:50 -0500 (Fri, 26 Nov 2021).

BUILD BIN results for RadioGx on merida1

To the developers/maintainers of the RadioGx package:
- Please allow up to 24 hours (and sometimes 48 hours) for your latest push to git@git.bioconductor.org:packages/RadioGx.git to
reflect on this report. See How and When does the builder pull? When will my changes propagate? here for more information.
- Make sure to use the following settings in order to reproduce any error or warning you see on this page.

raw results

Package 1507/2068HostnameOS / ArchINSTALLBUILDCHECKBUILD BIN
RadioGx 1.5.0  (landing page)
Benjamin Haibe-Kains
Snapshot Date: 2021-11-25 14:50:11 -0500 (Thu, 25 Nov 2021)
git_url: https://git.bioconductor.org/packages/RadioGx
git_branch: master
git_last_commit: a981039
git_last_commit_date: 2021-10-26 13:00:29 -0500 (Tue, 26 Oct 2021)
nebbiolo1Linux (Ubuntu 20.04.3 LTS) / x86_64  OK    OK    OK  UNNEEDED, same version is already published
riesling1Windows Server 2019 Standard / x64  OK    OK    OK    OK  
merida1macOS 10.14.6 Mojave / x86_64  OK    OK    OK    OK  NO, package depends on 'CoreGx' which is not available

Summary

Package: RadioGx
Version: 1.5.0
Command: rm -rf RadioGx.buildbin-libdir && mkdir RadioGx.buildbin-libdir && /Users/biocbuild/BBS/utils/build-universal.sh RadioGx_1.5.0.tar.gz /Library/Frameworks/R.framework/Resources/bin/R RadioGx.buildbin-libdir
StartedAt: 2021-11-26 11:03:26 -0500 (Fri, 26 Nov 2021)
EndedAt: 2021-11-26 11:04:18 -0500 (Fri, 26 Nov 2021)
EllapsedTime: 52.2 seconds
RetCode: 0
Status:   OK  
PackageFile: RadioGx_1.5.0.tgz
PackageFileSize: 4.409 MiB

Command output

##############################################################################
##############################################################################
###
### Running command:
###
###   rm -rf RadioGx.buildbin-libdir && mkdir RadioGx.buildbin-libdir && /Users/biocbuild/BBS/utils/build-universal.sh RadioGx_1.5.0.tar.gz /Library/Frameworks/R.framework/Resources/bin/R RadioGx.buildbin-libdir
###
##############################################################################
##############################################################################


>>>>>>> 
>>>>>>> INSTALLATION WITH 'R CMD INSTALL --preclean --no-multiarch --library=RadioGx.buildbin-libdir RadioGx_1.5.0.tar.gz'
>>>>>>> 

* installing *source* package ‘RadioGx’ ...
** using staged installation
** R
** data
*** moving datasets to lazyload DB
** inst
** byte-compile and prepare package for lazy loading
** help
*** installing help indices
** building package indices
** installing vignettes
** testing if installed package can be loaded from temporary location
** testing if installed package can be loaded from final location
** testing if installed package keeps a record of temporary installation path
* DONE (RadioGx)