Back to Multiple platform build/check report for BioC 3.15
ABCDEFGHIJKLMNOPQ[R]STUVWXYZ

This page was generated on 2021-11-27 14:05:51 -0500 (Sat, 27 Nov 2021).

BUILD results for RadioGx on merida1

To the developers/maintainers of the RadioGx package:
- Please allow up to 24 hours (and sometimes 48 hours) for your latest push to git@git.bioconductor.org:packages/RadioGx.git to
reflect on this report. See How and When does the builder pull? When will my changes propagate? here for more information.
- Make sure to use the following settings in order to reproduce any error or warning you see on this page.

raw results

Package 1507/2068HostnameOS / ArchINSTALLBUILDCHECKBUILD BIN
RadioGx 1.5.0  (landing page)
Benjamin Haibe-Kains
Snapshot Date: 2021-11-26 14:50:14 -0500 (Fri, 26 Nov 2021)
git_url: https://git.bioconductor.org/packages/RadioGx
git_branch: master
git_last_commit: a981039
git_last_commit_date: 2021-10-26 13:00:29 -0500 (Tue, 26 Oct 2021)
nebbiolo1Linux (Ubuntu 20.04.3 LTS) / x86_64  OK    OK    OK  UNNEEDED, same version is already published
riesling1Windows Server 2019 Standard / x64  OK    OK    OK    OK  
merida1macOS 10.14.6 Mojave / x86_64  OK    OK    OK    OK  NO, package depends on 'CoreGx' which is not available

Summary

Package: RadioGx
Version: 1.5.0
Command: /Library/Frameworks/R.framework/Resources/bin/R CMD build --keep-empty-dirs --no-resave-data RadioGx
StartedAt: 2021-11-26 22:16:51 -0500 (Fri, 26 Nov 2021)
EndedAt: 2021-11-26 22:17:59 -0500 (Fri, 26 Nov 2021)
EllapsedTime: 68.5 seconds
RetCode: 0
Status:   OK  
PackageFile: RadioGx_1.5.0.tar.gz
PackageFileSize: 2.771 MiB

Command output

##############################################################################
##############################################################################
###
### Running command:
###
###   /Library/Frameworks/R.framework/Resources/bin/R CMD build --keep-empty-dirs --no-resave-data RadioGx
###
##############################################################################
##############################################################################


* checking for file ‘RadioGx/DESCRIPTION’ ... OK
* preparing ‘RadioGx’:
* checking DESCRIPTION meta-information ... OK
* installing the package to build vignettes
* creating vignettes ... OK
* checking for LF line-endings in source and make files and shell scripts
* checking for empty or unneeded directories
* building ‘RadioGx_1.5.0.tar.gz’