Back to Multiple platform build/check report for BioC 3.16
ABCDEFGHIJKLMNOPQ[R]STUVWXYZ

This page was generated on 2022-07-04 11:06:46 -0400 (Mon, 04 Jul 2022).

HostnameOSArch (*)R versionInstalled pkgs
nebbiolo2Linux (Ubuntu 20.04.4 LTS)x86_644.2.0 Patched (2022-06-02 r82447) -- "Vigorous Calisthenics" 4343
palomino4Windows Server 2022 Datacenterx644.2.0 Patched (2022-06-02 r82447 ucrt) -- "Vigorous Calisthenics" 4148
lconwaymacOS 12.2.1 Montereyx86_644.2.0 Patched (2022-05-29 r82424) -- "Vigorous Calisthenics" 4160
Click on any hostname to see more info about the system (e.g. compilers)      (*) as reported by 'uname -p', except on Windows and Mac OS X

BUILD results for RNAinteract on palomino4


To the developers/maintainers of the RNAinteract package:
- Please allow up to 24 hours (and sometimes 48 hours) for your latest push to git@git.bioconductor.org:packages/RNAinteract.git to
reflect on this report. See How and When does the builder pull? When will my changes propagate? for more information.
- Make sure to use the following settings in order to reproduce any error or warning you see on this page.

raw results

Package 1658/2124HostnameOS / ArchINSTALLBUILDCHECKBUILD BIN
RNAinteract 1.45.0  (landing page)
Mike Smith
Snapshot Date: 2022-07-03 14:00:03 -0400 (Sun, 03 Jul 2022)
git_url: https://git.bioconductor.org/packages/RNAinteract
git_branch: master
git_last_commit: 3bdb7a0
git_last_commit_date: 2022-04-26 11:07:00 -0400 (Tue, 26 Apr 2022)
nebbiolo2Linux (Ubuntu 20.04.4 LTS) / x86_64  OK    OK    OK  UNNEEDED, same version is already published
palomino4Windows Server 2022 Datacenter / x64  OK    OK    OK    OK  UNNEEDED, same version is already published
lconwaymacOS 12.2.1 Monterey / x86_64  OK    OK    OK    OK  UNNEEDED, same version is already published

Summary

Package: RNAinteract
Version: 1.45.0
Command: chmod a+r RNAinteract -R && F:\biocbuild\bbs-3.16-bioc\R\bin\R.exe CMD build --keep-empty-dirs --no-resave-data RNAinteract
StartedAt: 2022-07-03 20:59:50 -0400 (Sun, 03 Jul 2022)
EndedAt: 2022-07-03 21:01:00 -0400 (Sun, 03 Jul 2022)
EllapsedTime: 69.7 seconds
RetCode: 0
Status:   OK  
PackageFile: RNAinteract_1.45.0.tar.gz
PackageFileSize: 309.5 KiB

Command output

##############################################################################
##############################################################################
###
### Running command:
###
###   chmod a+r RNAinteract -R && F:\biocbuild\bbs-3.16-bioc\R\bin\R.exe CMD build --keep-empty-dirs --no-resave-data RNAinteract
###
##############################################################################
##############################################################################


* checking for file 'RNAinteract/DESCRIPTION' ... OK
* preparing 'RNAinteract':
* checking DESCRIPTION meta-information ... OK
* installing the package to build vignettes
* creating vignettes ... OK
* checking for LF line-endings in source and make files and shell scripts
* checking for empty or unneeded directories
* looking to see if a 'data/datalist' file should be added
* building 'RNAinteract_1.45.0.tar.gz'