Back to Multiple platform build/check report for BioC 3.15
ABCDEFGHIJKLMNO[P]QRSTUVWXYZ

This page was generated on 2021-11-30 13:55:36 -0500 (Tue, 30 Nov 2021).

INSTALL results for PDATK on merida1

To the developers/maintainers of the PDATK package:
- Please allow up to 24 hours (and sometimes 48 hours) for your latest push to git@git.bioconductor.org:packages/PDATK.git to
reflect on this report. See How and When does the builder pull? When will my changes propagate? here for more information.
- Make sure to use the following settings in order to reproduce any error or warning you see on this page.

raw results

Package 1377/2068HostnameOS / ArchINSTALLBUILDCHECKBUILD BIN
PDATK 1.3.0  (landing page)
Benjamin Haibe-Kains
Snapshot Date: 2021-11-29 14:50:17 -0500 (Mon, 29 Nov 2021)
git_url: https://git.bioconductor.org/packages/PDATK
git_branch: master
git_last_commit: acec60e
git_last_commit_date: 2021-10-26 13:07:20 -0500 (Tue, 26 Oct 2021)
nebbiolo1Linux (Ubuntu 20.04.3 LTS) / x86_64  OK    ERROR  skipped
riesling1Windows Server 2019 Standard / x64  OK    ERROR  skippedskipped
merida1macOS 10.14.6 Mojave / x86_64  OK    ERROR  skippedskipped

Summary

Package: PDATK
Version: 1.3.0
Command: /Library/Frameworks/R.framework/Resources/bin/R CMD INSTALL PDATK
StartedAt: 2021-11-29 18:34:48 -0500 (Mon, 29 Nov 2021)
EndedAt: 2021-11-29 18:35:34 -0500 (Mon, 29 Nov 2021)
EllapsedTime: 46.2 seconds
RetCode: 0
Status:   OK  

Command output

##############################################################################
##############################################################################
###
### Running command:
###
###   /Library/Frameworks/R.framework/Resources/bin/R CMD INSTALL PDATK
###
##############################################################################
##############################################################################


* installing to library ‘/Library/Frameworks/R.framework/Versions/4.2/Resources/library’
* installing *source* package ‘PDATK’ ...
** using staged installation
** R
** data
** byte-compile and prepare package for lazy loading
** help
*** installing help indices
** building package indices
** installing vignettes
** testing if installed package can be loaded from temporary location
** testing if installed package can be loaded from final location
** testing if installed package keeps a record of temporary installation path
* DONE (PDATK)