Index of /checkResults/devel/bioc-LATEST/PDATK/raw-results

[ICO]NameLast modifiedSizeDescription

[DIR]Parent Directory  -  
[   ]info.dcf19-Jan-2022 01:11 280  
[DIR]merida1/19-Jan-2022 01:11 -  
[DIR]nebbiolo1/19-Jan-2022 01:06 -  
[DIR]palomino3/19-Jan-2022 01:09 -  
[DIR]riesling1/19-Jan-2022 01:07 -