Back to Multiple platform build/check report for BioC 3.19:   simplified   long
ABCDEFGHIJKLMN[O]PQRSTUVWXYZ

This page was generated on 2023-12-07 11:39:42 -0500 (Thu, 07 Dec 2023).

HostnameOSArch (*)R versionInstalled pkgs
nebbiolo1Linux (Ubuntu 22.04.2 LTS)x86_64R Under development (unstable) (2023-11-11 r85510) -- "Unsuffered Consequences" 4609
palomino3Windows Server 2022 Datacenterx64R Under development (unstable) (2023-11-14 r85524 ucrt) -- "Unsuffered Consequences" 4369
merida1macOS 12.7.1 Montereyx86_64R Under development (unstable) (2023-11-11 r85510) -- "Unsuffered Consequences" 4375
kunpeng2Linux (openEuler 22.03 LTS-SP1)aarch64R Under development (unstable) (2023-11-01 r85459) -- "Unsuffered Consequences" 4262
Click on any hostname to see more info about the system (e.g. compilers)      (*) as reported by 'uname -p', except on Windows and Mac OS X

Package 1454/2229HostnameOS / ArchINSTALLBUILDCHECKBUILD BIN
OutSplice 1.3.0  (landing page)
Theresa Guo
Snapshot Date: 2023-12-06 14:00:17 -0500 (Wed, 06 Dec 2023)
git_url: https://git.bioconductor.org/packages/OutSplice
git_branch: devel
git_last_commit: 99e5e9c
git_last_commit_date: 2023-10-24 11:48:51 -0500 (Tue, 24 Oct 2023)
nebbiolo1Linux (Ubuntu 22.04.2 LTS) / x86_64  ERROR    ERROR  skipped
palomino3Windows Server 2022 Datacenter / x64  ERROR    ERROR  skippedskipped
merida1macOS 12.7.1 Monterey / x86_64  ERROR    ERROR  skippedskipped
kunpeng2Linux (openEuler 22.03 LTS-SP1) / aarch64  ERROR    ERROR  skipped

INSTALL results for OutSplice on kunpeng2


To the developers/maintainers of the OutSplice package:
- Allow up to 24 hours (and sometimes 48 hours) for your latest push to git@git.bioconductor.org:packages/OutSplice.git to reflect on this report. See Troubleshooting Build Report for more information.
- Use the following Renviron settings to reproduce errors and warnings.
- If 'R CMD check' started to fail recently on the Linux builder(s) over a missing dependency, add the missing dependency to 'Suggests:' in your DESCRIPTION file. See Renviron.bioc for more information.
- See Martin Grigorov's blog post for how to debug Linux ARM64 related issues on a x86_64 host.

raw results


Summary

Package: OutSplice
Version: 1.3.0
Command: /home/biocbuild/R/R-4.4-devel-2023.11.02/bin/R CMD INSTALL OutSplice
StartedAt: 2023-12-06 21:10:12 -0000 (Wed, 06 Dec 2023)
EndedAt: 2023-12-06 21:10:13 -0000 (Wed, 06 Dec 2023)
EllapsedTime: 0.4 seconds
RetCode: 1
Status:   ERROR  

Command output

##############################################################################
##############################################################################
###
### Running command:
###
###   /home/biocbuild/R/R-4.4-devel-2023.11.02/bin/R CMD INSTALL OutSplice
###
##############################################################################
##############################################################################


* installing to library ‘/home/biocbuild/R/R-4.4-devel-2023.11.02/site-library’
ERROR: dependency ‘Repitools’ is not available for package ‘OutSplice’
* removing ‘/home/biocbuild/R/R-4.4-devel-2023.11.02/site-library/OutSplice’