Back to Build/check report for BioC 3.19:   simplified   long
ABCDEFGHIJKLMN[O]PQRSTUVWXYZ

This page was generated on 2024-02-20 13:15:04 -0500 (Tue, 20 Feb 2024).

HostnameOSArch (*)R versionInstalled pkgs
nebbiolo1Linux (Ubuntu 22.04.3 LTS)x86_64R Under development (unstable) (2024-01-16 r85808) -- "Unsuffered Consequences" 4657
Click on any hostname to see more info about the system (e.g. compilers)      (*) as reported by 'uname -p', except on Windows and Mac OS X

Package 1462/2244HostnameOS / ArchINSTALLBUILDCHECKBUILD BIN
OutSplice 1.3.0  (landing page)
Theresa Guo
Snapshot Date: 2024-02-19 14:10:08 -0500 (Mon, 19 Feb 2024)
git_url: https://git.bioconductor.org/packages/OutSplice
git_branch: devel
git_last_commit: 99e5e9c
git_last_commit_date: 2023-10-24 11:48:51 -0500 (Tue, 24 Oct 2023)
nebbiolo1Linux (Ubuntu 22.04.3 LTS) / x86_64  ERROR    ERROR  skipped

INSTALL results for OutSplice on nebbiolo1


To the developers/maintainers of the OutSplice package:
- Allow up to 24 hours (and sometimes 48 hours) for your latest push to git@git.bioconductor.org:packages/OutSplice.git to reflect on this report. See Troubleshooting Build Report for more information.
- Use the following Renviron settings to reproduce errors and warnings.
- If 'R CMD check' started to fail recently on the Linux builder(s) over a missing dependency, add the missing dependency to 'Suggests:' in your DESCRIPTION file. See Renviron.bioc for more information.

raw results


Summary

Package: OutSplice
Version: 1.3.0
Command: /home/biocbuild/bbs-3.19-bioc/R/bin/R CMD INSTALL OutSplice
StartedAt: 2024-02-19 15:51:28 -0500 (Mon, 19 Feb 2024)
EndedAt: 2024-02-19 15:51:28 -0500 (Mon, 19 Feb 2024)
EllapsedTime: 0.3 seconds
RetCode: 1
Status:   ERROR  

Command output

##############################################################################
##############################################################################
###
### Running command:
###
###   /home/biocbuild/bbs-3.19-bioc/R/bin/R CMD INSTALL OutSplice
###
##############################################################################
##############################################################################


* installing to library ‘/home/biocbuild/bbs-3.19-bioc/R/site-library’
ERROR: dependency ‘Repitools’ is not available for package ‘OutSplice’
* removing ‘/home/biocbuild/bbs-3.19-bioc/R/site-library/OutSplice’