Back to Multiple platform build/check report for BioC 3.16
ABCDEFGHIJKLM[N]OPQRSTUVWXYZ

This page was generated on 2022-06-24 11:06:51 -0400 (Fri, 24 Jun 2022).

HostnameOSArch (*)R versionInstalled pkgs
nebbiolo2Linux (Ubuntu 20.04.4 LTS)x86_644.2.0 Patched (2022-06-02 r82447) -- "Vigorous Calisthenics" 4331
palomino4Windows Server 2022 Datacenterx644.2.0 Patched (2022-06-02 r82447 ucrt) -- "Vigorous Calisthenics" 4136
lconwaymacOS 12.2.1 Montereyx86_644.2.0 Patched (2022-05-29 r82424) -- "Vigorous Calisthenics" 4147
Click on any hostname to see more info about the system (e.g. compilers)      (*) as reported by 'uname -p', except on Windows and Mac OS X

CHECK results for NanoTube on palomino4


To the developers/maintainers of the NanoTube package:
- Please allow up to 24 hours (and sometimes 48 hours) for your latest push to git@git.bioconductor.org:packages/NanoTube.git to
reflect on this report. See How and When does the builder pull? When will my changes propagate? for more information.
- Make sure to use the following settings in order to reproduce any error or warning you see on this page.

raw results

Package 1289/2118HostnameOS / ArchINSTALLBUILDCHECKBUILD BIN
NanoTube 1.3.6  (landing page)
Caleb Class
Snapshot Date: 2022-06-23 14:00:04 -0400 (Thu, 23 Jun 2022)
git_url: https://git.bioconductor.org/packages/NanoTube
git_branch: master
git_last_commit: 84db14f
git_last_commit_date: 2022-06-17 15:40:18 -0400 (Fri, 17 Jun 2022)
nebbiolo2Linux (Ubuntu 20.04.4 LTS) / x86_64  OK    OK    OK  UNNEEDED, same version is already published
palomino4Windows Server 2022 Datacenter / x64  OK    OK    OK    OK  UNNEEDED, same version is already published
lconwaymacOS 12.2.1 Monterey / x86_64  OK    OK    OK    OK  UNNEEDED, same version is already published

Summary

Package: NanoTube
Version: 1.3.6
Command: F:\biocbuild\bbs-3.16-bioc\R\bin\R.exe CMD check --force-multiarch --install=check:NanoTube.install-out.txt --library=F:\biocbuild\bbs-3.16-bioc\R\library --no-vignettes --timings NanoTube_1.3.6.tar.gz
StartedAt: 2022-06-24 03:52:50 -0400 (Fri, 24 Jun 2022)
EndedAt: 2022-06-24 03:56:03 -0400 (Fri, 24 Jun 2022)
EllapsedTime: 193.0 seconds
RetCode: 0
Status:   OK  
CheckDir: NanoTube.Rcheck
Warnings: 0

Command output

##############################################################################
##############################################################################
###
### Running command:
###
###   F:\biocbuild\bbs-3.16-bioc\R\bin\R.exe CMD check --force-multiarch --install=check:NanoTube.install-out.txt --library=F:\biocbuild\bbs-3.16-bioc\R\library --no-vignettes --timings NanoTube_1.3.6.tar.gz
###
##############################################################################
##############################################################################


* using log directory 'F:/biocbuild/bbs-3.16-bioc/meat/NanoTube.Rcheck'
* using R version 4.2.0 Patched (2022-06-02 r82447 ucrt)
* using platform: x86_64-w64-mingw32 (64-bit)
* using session charset: UTF-8
* using option '--no-vignettes'
* checking for file 'NanoTube/DESCRIPTION' ... OK
* checking extension type ... Package
* this is package 'NanoTube' version '1.3.6'
* package encoding: UTF-8
* checking package namespace information ... OK
* checking package dependencies ... OK
* checking if this is a source package ... OK
* checking if there is a namespace ... OK
* checking for hidden files and directories ... OK
* checking for portable file names ... OK
* checking whether package 'NanoTube' can be installed ... OK
* checking installed package size ... OK
* checking package directory ... OK
* checking 'build' directory ... OK
* checking DESCRIPTION meta-information ... OK
* checking top-level files ... OK
* checking for left-over files ... OK
* checking index information ... OK
* checking package subdirectories ... OK
* checking R files for non-ASCII characters ... OK
* checking R files for syntax errors ... OK
* checking whether the package can be loaded ... OK
* checking whether the package can be loaded with stated dependencies ... OK
* checking whether the package can be unloaded cleanly ... OK
* checking whether the namespace can be loaded with stated dependencies ... OK
* checking whether the namespace can be unloaded cleanly ... OK
* checking dependencies in R code ... OK
* checking S3 generic/method consistency ... OK
* checking replacement functions ... OK
* checking foreign function calls ... OK
* checking R code for possible problems ... NOTE
untar_dirs: no visible global function definition for 'untar'
Undefined global functions or variables:
  untar
Consider adding
  importFrom("utils", "untar")
to your NAMESPACE file.
* checking Rd files ... OK
* checking Rd metadata ... OK
* checking Rd cross-references ... OK
* checking for missing documentation entries ... OK
* checking for code/documentation mismatches ... OK
* checking Rd \usage sections ... OK
* checking Rd contents ... OK
* checking for unstated dependencies in examples ... OK
* checking contents of 'data' directory ... OK
* checking data for non-ASCII characters ... OK
* checking data for ASCII and uncompressed saves ... OK
* checking files in 'vignettes' ... OK
* checking examples ... OK
Examples with CPU (user + system) or elapsed time > 5s
                           user system elapsed
limmaToFGSEA               1.24   0.10   26.68
fgseaPostprocessing        1.06   0.05   14.33
groupedGSEAtoStackedReport 0.73   0.09   15.26
fgseaPostprocessingXLSX    0.76   0.05   14.00
groupFGSEA                 0.69   0.02   13.97
fgseaToLEdge               0.66   0.04   13.94
* checking for unstated dependencies in 'tests' ... OK
* checking tests ...
  Running 'testthat.R'
 OK
* checking for unstated dependencies in vignettes ... OK
* checking package vignettes in 'inst/doc' ... OK
* checking running R code from vignettes ... SKIPPED
* checking re-building of vignette outputs ... SKIPPED
* checking PDF version of manual ... OK
* DONE

Status: 1 NOTE
See
  'F:/biocbuild/bbs-3.16-bioc/meat/NanoTube.Rcheck/00check.log'
for details.



Installation output

NanoTube.Rcheck/00install.out

##############################################################################
##############################################################################
###
### Running command:
###
###   C:\cygwin\bin\curl.exe -O http://155.52.207.166/BBS/3.16/bioc/src/contrib/NanoTube_1.3.6.tar.gz && rm -rf NanoTube.buildbin-libdir && mkdir NanoTube.buildbin-libdir && F:\biocbuild\bbs-3.16-bioc\R\bin\R.exe CMD INSTALL --merge-multiarch --build --library=NanoTube.buildbin-libdir NanoTube_1.3.6.tar.gz && F:\biocbuild\bbs-3.16-bioc\R\bin\R.exe CMD INSTALL NanoTube_1.3.6.zip && rm NanoTube_1.3.6.tar.gz NanoTube_1.3.6.zip
###
##############################################################################
##############################################################################


  % Total    % Received % Xferd  Average Speed   Time    Time     Time  Current
                                 Dload  Upload   Total   Spent    Left  Speed

  0     0    0     0    0     0      0      0 --:--:-- --:--:-- --:--:--     0
100  477k  100  477k    0     0  4829k      0 --:--:-- --:--:-- --:--:-- 4868k
only one architecture so ignoring '--merge-multiarch'
* installing *source* package 'NanoTube' ...
** using staged installation
** R
** data
** inst
** byte-compile and prepare package for lazy loading
** help
*** installing help indices
** building package indices
** installing vignettes
** testing if installed package can be loaded from temporary location
** testing if installed package can be loaded from final location
** testing if installed package keeps a record of temporary installation path
* MD5 sums
packaged installation of 'NanoTube' as NanoTube_1.3.6.zip
* DONE (NanoTube)
* installing to library 'F:/biocbuild/bbs-3.16-bioc/R/library'
package 'NanoTube' successfully unpacked and MD5 sums checked

Tests output

NanoTube.Rcheck/tests/testthat.Rout


R version 4.2.0 Patched (2022-06-02 r82447 ucrt) -- "Vigorous Calisthenics"
Copyright (C) 2022 The R Foundation for Statistical Computing
Platform: x86_64-w64-mingw32/x64 (64-bit)

R is free software and comes with ABSOLUTELY NO WARRANTY.
You are welcome to redistribute it under certain conditions.
Type 'license()' or 'licence()' for distribution details.

R is a collaborative project with many contributors.
Type 'contributors()' for more information and
'citation()' on how to cite R or R packages in publications.

Type 'demo()' for some demos, 'help()' for on-line help, or
'help.start()' for an HTML browser interface to help.
Type 'q()' to quit R.

> library(testthat)
> library(NanoTube)
Loading required package: Biobase
Loading required package: BiocGenerics

Attaching package: 'BiocGenerics'

The following objects are masked from 'package:stats':

    IQR, mad, sd, var, xtabs

The following objects are masked from 'package:base':

    Filter, Find, Map, Position, Reduce, anyDuplicated, append,
    as.data.frame, basename, cbind, colnames, dirname, do.call,
    duplicated, eval, evalq, get, grep, grepl, intersect, is.unsorted,
    lapply, mapply, match, mget, order, paste, pmax, pmax.int, pmin,
    pmin.int, rank, rbind, rownames, sapply, setdiff, sort, table,
    tapply, union, unique, unsplit, which.max, which.min

Welcome to Bioconductor

    Vignettes contain introductory material; view with
    'browseVignettes()'. To cite Bioconductor, see
    'citation("Biobase")', and for packages 'citation("pkgname")'.

Loading required package: ggplot2
Loading required package: limma

Attaching package: 'limma'

The following object is masked from 'package:BiocGenerics':

    plotMA

> 
> test_check("NanoTube")
[ FAIL 0 | WARN 0 | SKIP 0 | PASS 1 ]
> 
> proc.time()
   user  system elapsed 
   3.04    0.46    3.45 

Example timings

NanoTube.Rcheck/NanoTube-Ex.timings

nameusersystemelapsed
deVolcano0.140.060.20
fgseaPostprocessing 1.06 0.0514.33
fgseaPostprocessingXLSX 0.76 0.0514.00
fgseaToLEdge 0.66 0.0413.94
gm_mean000
groupFGSEA 0.69 0.0213.97
groupedGSEAtoStackedReport 0.73 0.0915.26
limmaToFGSEA 1.24 0.1026.68
makeDiffExprFile0.030.010.04
makeNanoStringSetFromEset0.300.080.38
nanostringPCA0.730.080.81
negativeQC0.230.000.23
normalize_housekeeping0.190.010.21
normalize_pos_controls0.060.030.10
nsdiffToFGSEA000
positiveQC2.300.032.33
processNanostringData0.440.000.43
read_merge_rcc0.110.000.11
read_rcc000
read_sampleData0.120.020.14
remove_background0.30.00.3
runLimmaAnalysis0.20.00.2