Back to Multiple platform build/check report for BioC 3.19:   simplified   long
ABCDEFGHIJKL[M]NOPQRSTUVWXYZ

This page was generated on 2024-02-18 02:28:52 -0500 (Sun, 18 Feb 2024).

HostnameOSArch (*)R versionInstalled pkgs
nebbiolo1Linux (Ubuntu 22.04.3 LTS)x86_64R Under development (unstable) (2024-01-16 r85808) -- "Unsuffered Consequences" 4657
palomino3Windows Server 2022 Datacenterx64R Under development (unstable) (2024-01-14 r85805 ucrt) -- "Unsuffered Consequences" 4397
merida1macOS 12.7.1 Montereyx86_64R Under development (unstable) (2024-01-16 r85808) -- "Unsuffered Consequences" 4424
kunpeng2Linux (openEuler 22.03 LTS-SP1)aarch64R Under development (unstable) (2024-01-16 r85812) -- "Unsuffered Consequences" 4400
Click on any hostname to see more info about the system (e.g. compilers)      (*) as reported by 'uname -p', except on Windows and Mac OS X

Package 1321/2244HostnameOS / ArchINSTALLBUILDCHECKBUILD BIN
MSnbase 2.29.3  (landing page)
Laurent Gatto
Snapshot Date: 2024-02-16 14:10:20 -0500 (Fri, 16 Feb 2024)
git_url: https://git.bioconductor.org/packages/MSnbase
git_branch: devel
git_last_commit: efd48e3
git_last_commit_date: 2024-01-25 13:05:57 -0500 (Thu, 25 Jan 2024)
nebbiolo1Linux (Ubuntu 22.04.3 LTS) / x86_64  OK    OK    OK  UNNEEDED, same version is already published
palomino3Windows Server 2022 Datacenter / x64  OK    OK    OK    OK  UNNEEDED, same version is already published
merida1macOS 12.7.1 Monterey / x86_64  OK    OK    OK    OK  UNNEEDED, same version is already published
kunpeng2Linux (openEuler 22.03 LTS-SP1) / aarch64  OK    OK    ERROR  

CHECK results for MSnbase on merida1


To the developers/maintainers of the MSnbase package:
- Allow up to 24 hours (and sometimes 48 hours) for your latest push to git@git.bioconductor.org:packages/MSnbase.git to reflect on this report. See Troubleshooting Build Report for more information.
- Use the following Renviron settings to reproduce errors and warnings.
- If 'R CMD check' started to fail recently on the Linux builder(s) over a missing dependency, add the missing dependency to 'Suggests:' in your DESCRIPTION file. See Renviron.bioc for more information.

raw results


Summary

Package: MSnbase
Version: 2.29.3
Command: /Library/Frameworks/R.framework/Resources/bin/R CMD check --install=check:MSnbase.install-out.txt --library=/Library/Frameworks/R.framework/Resources/library --no-vignettes --timings MSnbase_2.29.3.tar.gz
StartedAt: 2024-02-17 07:12:05 -0500 (Sat, 17 Feb 2024)
EndedAt: 2024-02-17 07:46:09 -0500 (Sat, 17 Feb 2024)
EllapsedTime: 2044.0 seconds
RetCode: 0
Status:   OK  
CheckDir: MSnbase.Rcheck
Warnings: 0

Command output

##############################################################################
##############################################################################
###
### Running command:
###
###   /Library/Frameworks/R.framework/Resources/bin/R CMD check --install=check:MSnbase.install-out.txt --library=/Library/Frameworks/R.framework/Resources/library --no-vignettes --timings MSnbase_2.29.3.tar.gz
###
##############################################################################
##############################################################################


* using log directory ‘/Users/biocbuild/bbs-3.19-bioc/meat/MSnbase.Rcheck’
* using R Under development (unstable) (2024-01-16 r85808)
* using platform: x86_64-apple-darwin20
* R was compiled by
    Apple clang version 14.0.0 (clang-1400.0.29.202)
    GNU Fortran (GCC) 12.2.0
* running under: macOS Monterey 12.7.1
* using session charset: UTF-8
* using option ‘--no-vignettes’
* checking for file ‘MSnbase/DESCRIPTION’ ... OK
* this is package ‘MSnbase’ version ‘2.29.3’
* package encoding: UTF-8
* checking package namespace information ... OK
* checking package dependencies ... OK
* checking if this is a source package ... OK
* checking if there is a namespace ... OK
* checking for hidden files and directories ... OK
* checking for portable file names ... OK
* checking for sufficient/correct file permissions ... OK
* checking whether package ‘MSnbase’ can be installed ... OK
* used C compiler: ‘Apple clang version 14.0.0 (clang-1400.0.29.202)’
* used C++ compiler: ‘Apple clang version 14.0.0 (clang-1400.0.29.202)’
* used SDK: ‘MacOSX11.3.sdk’
* checking installed package size ... NOTE
  installed size is  5.8Mb
  sub-directories of 1Mb or more:
    R      2.4Mb
    data   1.9Mb
* checking package directory ... OK
* checking ‘build’ directory ... OK
* checking DESCRIPTION meta-information ... NOTE
Authors@R field gives more than one person with maintainer role:
  Laurent Gatto <laurent.gatto@uclouvain.be> [aut, cre] (<https://orcid.org/0000-0002-1520-2268>)
  Johannes Rainer <Johannes.Rainer@eurac.edu> [aut, cre] (<https://orcid.org/0000-0002-6977-7147>)
  Sebastian Gibb <mail@sebastiangibb.de> [aut, cre] (<https://orcid.org/0000-0001-7406-4443>)
* checking top-level files ... OK
* checking for left-over files ... OK
* checking index information ... OK
* checking package subdirectories ... OK
* checking R files for non-ASCII characters ... OK
* checking R files for syntax errors ... OK
* checking whether the package can be loaded ... OK
* checking whether the package can be loaded with stated dependencies ... OK
* checking whether the package can be unloaded cleanly ... OK
* checking whether the namespace can be loaded with stated dependencies ... OK
* checking whether the namespace can be unloaded cleanly ... OK
* checking whether startup messages can be suppressed ... OK
* checking dependencies in R code ... NOTE
':::' calls which should be '::':
  ‘S4Vectors:::makeClassinfoRowForCompactPrinting’
  ‘S4Vectors:::makePrettyMatrixForCompactPrinting’
  See the note in ?`:::` about the use of this operator.
Unexported objects imported by ':::' calls:
  ‘Biobase:::.showAnnotatedDataFrame’ ‘MALDIquant:::.estimateNoise’
  ‘MALDIquant:::.localMaxima’ ‘MALDIquant:::.movingAverage’
  ‘MALDIquant:::.savitzkyGolay’ ‘mzR:::.hasChromatograms’
  ‘mzR:::.hasSpectra’
  See the note in ?`:::` about the use of this operator.
* checking S3 generic/method consistency ... OK
* checking replacement functions ... OK
* checking foreign function calls ... OK
* checking R code for possible problems ... OK
* checking Rd files ... OK
* checking Rd metadata ... OK
* checking Rd cross-references ... OK
* checking for missing documentation entries ... OK
* checking for code/documentation mismatches ... OK
* checking Rd \usage sections ... OK
* checking Rd contents ... OK
* checking for unstated dependencies in examples ... OK
* checking contents of ‘data’ directory ... OK
* checking data for non-ASCII characters ... OK
* checking LazyData ... OK
* checking data for ASCII and uncompressed saves ... OK
* checking line endings in C/C++/Fortran sources/headers ... OK
* checking compiled code ... NOTE
Note: information on .o files is not available
* checking files in ‘vignettes’ ... OK
* checking examples ... OK
Examples with CPU (user + system) or elapsed time > 5s
                             user system elapsed
chromatogram-MSnExp-method 21.192  0.630  25.219
OnDiskMSnExp-class         14.097  0.394  16.590
averageMSnSet              11.002  0.617  13.401
aggvar                     10.528  0.161  11.937
MSnSet-class                8.374  0.293   9.816
combineSpectra              7.629  0.272   9.085
estimateMzResolution        7.162  0.507   9.057
plot-methods                6.436  0.181   7.429
imageNA2                    5.946  0.205   7.568
missing-data                5.710  0.178   6.798
quantify-methods            5.218  0.097   5.878
combineSpectraMovingWindow  4.754  0.057   5.425
* checking for unstated dependencies in ‘tests’ ... OK
* checking tests ...
  Running ‘testthat.R’
 OK
* checking for unstated dependencies in vignettes ... OK
* checking package vignettes ... OK
* checking running R code from vignettes ... SKIPPED
* checking re-building of vignette outputs ... SKIPPED
* checking PDF version of manual ... OK
* DONE

Status: 4 NOTEs
See
  ‘/Users/biocbuild/bbs-3.19-bioc/meat/MSnbase.Rcheck/00check.log’
for details.



Installation output

MSnbase.Rcheck/00install.out

##############################################################################
##############################################################################
###
### Running command:
###
###   /Library/Frameworks/R.framework/Resources/bin/R CMD INSTALL MSnbase
###
##############################################################################
##############################################################################


* installing to library ‘/Library/Frameworks/R.framework/Versions/4.4-x86_64/Resources/library’
* installing *source* package ‘MSnbase’ ...
** using staged installation
** libs
using C compiler: ‘Apple clang version 14.0.0 (clang-1400.0.29.202)’
using C++ compiler: ‘Apple clang version 14.0.0 (clang-1400.0.29.202)’
using SDK: ‘MacOSX11.3.sdk’
clang++ -arch x86_64 -std=gnu++17 -I"/Library/Frameworks/R.framework/Resources/include" -DNDEBUG  -I'/Library/Frameworks/R.framework/Versions/4.4-x86_64/Resources/library/Rcpp/include' -I/opt/R/x86_64/include    -fPIC  -falign-functions=64 -Wall -g -O2  -c RcppExports.cpp -o RcppExports.o
clang -arch x86_64 -I"/Library/Frameworks/R.framework/Resources/include" -DNDEBUG  -I'/Library/Frameworks/R.framework/Versions/4.4-x86_64/Resources/library/Rcpp/include' -I/opt/R/x86_64/include    -fPIC  -falign-functions=64 -Wall -g -O2  -c Spectrum1_class.c -o Spectrum1_class.o
Spectrum1_class.c:8:13: warning: unused function '_new_Spectrum1' [-Wunused-function]
static SEXP _new_Spectrum1(SEXP msLevel, SEXP peaksCount, SEXP rt,
            ^
1 warning generated.
clang -arch x86_64 -I"/Library/Frameworks/R.framework/Resources/include" -DNDEBUG  -I'/Library/Frameworks/R.framework/Versions/4.4-x86_64/Resources/library/Rcpp/include' -I/opt/R/x86_64/include    -fPIC  -falign-functions=64 -Wall -g -O2  -c Spectrum2_class.c -o Spectrum2_class.o
Spectrum2_class.c:9:13: warning: unused function '_new_Spectrum2' [-Wunused-function]
static SEXP _new_Spectrum2(SEXP msLevel, SEXP peaksCount, SEXP rt,
            ^
1 warning generated.
clang++ -arch x86_64 -std=gnu++17 -I"/Library/Frameworks/R.framework/Resources/include" -DNDEBUG  -I'/Library/Frameworks/R.framework/Versions/4.4-x86_64/Resources/library/Rcpp/include' -I/opt/R/x86_64/include    -fPIC  -falign-functions=64 -Wall -g -O2  -c imp_neighbour_avg.cpp -o imp_neighbour_avg.o
clang -arch x86_64 -I"/Library/Frameworks/R.framework/Resources/include" -DNDEBUG  -I'/Library/Frameworks/R.framework/Versions/4.4-x86_64/Resources/library/Rcpp/include' -I/opt/R/x86_64/include    -fPIC  -falign-functions=64 -Wall -g -O2  -c utils.c -o utils.o
utils.c:92:15: warning: unused variable 'ret' [-Wunused-variable]
  int i1, i2, ret;
              ^
utils.c:107:15: warning: unused variable 'ret' [-Wunused-variable]
  int i1, i2, ret;
              ^
utils.c:123:18: warning: unused variable 'ret' [-Wunused-variable]
  double d1, d2, ret;
                 ^
utils.c:133:18: warning: unused variable 'ret' [-Wunused-variable]
  double d1, d2, ret;
                 ^
utils.c:121:12: warning: unused function 'compar_double_asc_order' [-Wunused-function]
static int compar_double_asc_order(const void *p1, const void *p2)
           ^
utils.c:131:12: warning: unused function 'compar_double_desc_order' [-Wunused-function]
static int compar_double_desc_order(const void *p1, const void *p2)
           ^
6 warnings generated.
clang++ -arch x86_64 -std=gnu++17 -dynamiclib -Wl,-headerpad_max_install_names -undefined dynamic_lookup -L/Library/Frameworks/R.framework/Resources/lib -L/opt/R/x86_64/lib -o MSnbase.so RcppExports.o Spectrum1_class.o Spectrum2_class.o imp_neighbour_avg.o utils.o -F/Library/Frameworks/R.framework/.. -framework R -Wl,-framework -Wl,CoreFoundation
installing to /Library/Frameworks/R.framework/Versions/4.4-x86_64/Resources/library/00LOCK-MSnbase/00new/MSnbase/libs
** R
** data
*** moving datasets to lazyload DB
Creating a new generic function for ‘trimws’ in package ‘MSnbase’
in method for ‘coerce’ with signature ‘"IBSpectra","MSnSet"’: no definition for class “IBSpectra”
in method for ‘plotMzDelta’ with signature ‘"mzRramp"’: no definition for class “mzRramp”
** inst
** byte-compile and prepare package for lazy loading
Creating a new generic function for ‘trimws’ in package ‘MSnbase’
in method for ‘coerce’ with signature ‘"IBSpectra","MSnSet"’: no definition for class “IBSpectra”
in method for ‘plotMzDelta’ with signature ‘"mzRramp"’: no definition for class “mzRramp”
** help
*** installing help indices
** building package indices
** installing vignettes
** testing if installed package can be loaded from temporary location
** checking absolute paths in shared objects and dynamic libraries
** testing if installed package can be loaded from final location
** testing if installed package keeps a record of temporary installation path
* DONE (MSnbase)

Tests output

MSnbase.Rcheck/tests/testthat.Rout


R Under development (unstable) (2024-01-16 r85808) -- "Unsuffered Consequences"
Copyright (C) 2024 The R Foundation for Statistical Computing
Platform: x86_64-apple-darwin20

R is free software and comes with ABSOLUTELY NO WARRANTY.
You are welcome to redistribute it under certain conditions.
Type 'license()' or 'licence()' for distribution details.

R is a collaborative project with many contributors.
Type 'contributors()' for more information and
'citation()' on how to cite R or R packages in publications.

Type 'demo()' for some demos, 'help()' for on-line help, or
'help.start()' for an HTML browser interface to help.
Type 'q()' to quit R.

> # setting R_TESTS to empty string because of
> # https://github.com/hadley/testthat/issues/144
> # revert this when that issue in R is fixed.
> Sys.setenv("R_TESTS" = "")
> library("testthat")
> library("MSnbase")
Loading required package: BiocGenerics

Attaching package: 'BiocGenerics'

The following objects are masked from 'package:stats':

    IQR, mad, sd, var, xtabs

The following objects are masked from 'package:base':

    Filter, Find, Map, Position, Reduce, anyDuplicated, aperm, append,
    as.data.frame, basename, cbind, colnames, dirname, do.call,
    duplicated, eval, evalq, get, grep, grepl, intersect, is.unsorted,
    lapply, mapply, match, mget, order, paste, pmax, pmax.int, pmin,
    pmin.int, rank, rbind, rownames, sapply, setdiff, table, tapply,
    union, unique, unsplit, which.max, which.min

Loading required package: Biobase
Welcome to Bioconductor

    Vignettes contain introductory material; view with
    'browseVignettes()'. To cite Bioconductor, see
    'citation("Biobase")', and for packages 'citation("pkgname")'.

Loading required package: mzR
Loading required package: Rcpp
Loading required package: S4Vectors
Loading required package: stats4

Attaching package: 'S4Vectors'

The following object is masked from 'package:utils':

    findMatches

The following objects are masked from 'package:base':

    I, expand.grid, unname

Loading required package: ProtGenerics

Attaching package: 'ProtGenerics'

The following object is masked from 'package:stats':

    smooth


This is MSnbase version 2.29.3 
  Visit https://lgatto.github.io/MSnbase/ to get started.
 Consider switching to the 'R for Mass Spectrometry'
 packages - see https://RforMassSpectrometry.org for details.


Attaching package: 'MSnbase'

The following object is masked from 'package:base':

    trimws

> setMSnbaseVerbose(FALSE)
> ## register(SerialParam()) ## see issue 205
> 
> ## Erwinia
> f <- msdata::proteomics(full.names = TRUE,
+                         pattern = "TMT_Erwinia_1uLSike_Top10HCD_isol2_45stepped_60min_01.mzML.gz")
> tmt_erwinia_in_mem_ms1 <- readMSData(f, msLevel = 1)
> tmt_erwinia_in_mem_ms2 <- readMSData(f, msLevel = 2)
> tmt_erwinia_on_disk <- readMSData(f, mode = "onDisk")
> tmt_erwinia_on_disk_ms1 <- readMSData(f, msLevel = 1, mode = "onDisk")
> tmt_erwinia_on_disk_ms2 <- readMSData(f, msLevel = 2, mode = "onDisk")
> ## subset by rt
> tmt_im_ms1_sub <- filterRt(tmt_erwinia_in_mem_ms1, c(1200, 1250))
> tmt_im_ms2_sub <- filterRt(tmt_erwinia_in_mem_ms2, c(1200, 1250))
> tmt_od_sub <- filterRt(tmt_erwinia_on_disk, c(1200, 1250))
> tmt_od_ms1_sub <- filterRt(tmt_erwinia_on_disk_ms1, c(1200, 1250))
> tmt_od_ms2_sub <- filterRt(tmt_erwinia_on_disk_ms2, c(1200, 1250))
> 
> ## microtofq
> f <- c(system.file("microtofq/MM14.mzML", package = "msdata"),
+        system.file("microtofq/MM8.mzML", package = "msdata"))
> microtofq_in_mem_ms1 <- readMSData(f, msLevel = 1)
> microtofq_on_disk_ms1 <- readMSData(f, msLevel = 1, mode = "onDisk")
> microtofq_on_disk <- readMSData(f, mode = "onDisk")
> 
> ## extdata mzML
> f <- dir(system.file(package = "MSnbase", dir = "extdata"),
+          full.name = TRUE, pattern = "mzXML$")
> extdata_mzXML_in_mem_ms2 <- readMSData(f, verbose = FALSE, centroided. = FALSE)
> extdata_mzXML_on_disk <- readMSData(f, centroided. = FALSE, mode = "onDisk")
> extdata_mzXML_on_disk_ms2 <- readMSData(f, msLevel = 2, centroided. = FALSE, mode = "onDisk")
> 
> sf <- dir(system.file("sciex", package = "msdata"), full.names = TRUE)
> sciex <- readMSData(sf, mode = "onDisk")
> 
> test_check("MSnbase")
Experiment data
  Experimenter name: Laurent Gatto 
  Laboratory: Cambridge Centre for Proteomics (CCP) 
  Contact information: Laurent Gatto 
  Contact email: lg390@cam.ac.uk 
  Title: Example 'MSnExp' data set 
  URL:  
  PMIDs:  
  No abstract available.
Instrument : 
  Model: test (1) 
  Manufacturer:  
  Customisations:  
  Use 'msInfo(object)' for more MIAPE-MS information.
Experiment data
  Experimenter name: Laurent Gatto 
  Laboratory: Cambridge Centre for Proteomics (CCP) 
  Contact information: Laurent Gatto 
  Contact email: lg390@cam.ac.uk 
  Title: Example 'MSnExp' data set 
  URL:  
  PMIDs:  
  No abstract available.
  notes:
   Note1:
First note
MIAPE-MS information:
 1. General features:
  Date stamp:  
  Contact: Laurent Gatto 
  Name: Laurent Gatto 
  Laboratory: Cambridge Centre for Proteomics (CCP) 
  Instument model: test 
  Manufacturer:  
  Customisations:  
  Software:  
  Version:  
  Switching:  
  Param file:  
 2. Ion source
  Source:  
  Source details:  
 3. Post-source componentry
  Analyzer:  
  Analyzer details:  
  Collision gas:  
  Pressure:   bars
  Energy:  
  Detector type:  
  Sensitivity:  
Object of class "MSmap"
 Map [75, 401]
  [1]  Retention time: 30:01 - 34:58 
  [2]  M/Z: 521 - 523 (res 0.005)
Object of class "MSmap"
 Map [401, 75]
  [1]  M/Z: 521 - 523 (res 0.005)
  [2]  Retention time: 30:01 - 34:58 
Object of class "MzTab".
 Description: mzTab example file for reporting a summary report of
 quantification data quantified on the protein level
 Mode: Complete 
 Type: Quantification 
 Available data: Proteins  PSMs  
Object of class "MzTab".
 Description:
 Mode: 
 Type: 
 Available data: SmallMolecules  
Object of class "MzTab".
 Description:
 Mode: 
 Type: 
 Available data: SmallMolecules  
Instance of class 'MSnSetList' containig 3 objects.
MSn experiment data ("OnDiskMSnExp")
Object size in memory: 0.26 Mb
- - - Spectra data - - -
 MS level(s): 1 2 
 Number of spectra: 509 
 MSn retention times: 18:28 - 22:03 minutes
- - - Processing information - - -
Data loaded [Sat Feb 17 07:27:33 2024] 
 MSnbase version: 2.29.3 
- - - Meta data  - - -
phenoData
  rowNames:
    TMT_Erwinia_1uLSike_Top10HCD_isol2_45stepped_60min_01.mzML.gz
  varLabels: sampleNames
  varMetadata: labelDescription
Loaded from:
  TMT_Erwinia_1uLSike_Top10HCD_isol2_45stepped_60min_01.mzML.gz 
protocolData: none
featureData
  featureNames: F1.S001 F1.S002 ... F1.S509 (509 total)
  fvarLabels: fileIdx spIdx ... spectrum (35 total)
  fvarMetadata: labelDescription
experimentData: use 'experimentData(object)'
Object of class "ReporterIons"
TMT10HCD: '10-plex TMT HCD' with 10 reporter ions
 - [126] 126.1277 +/- 0.002 (#8DD3C7)
 - [127N] 127.1248 +/- 0.002 (#FFFFB3)
 - [127C] 127.1311 +/- 0.002 (#BEBADA)
 - [128N] 128.1281 +/- 0.002 (#FB8072)
 - [128C] 128.1344 +/- 0.002 (#80B1D3)
 - [129N] 129.1315 +/- 0.002 (#FDB462)
 - [129C] 129.1378 +/- 0.002 (#B3DE69)
 - [130N] 130.1348 +/- 0.002 (#FCCDE5)
 - [130C] 130.1411 +/- 0.002 (#D9D9D9)
 - [131] 131.1382 +/- 0.002 (#BC80BD)
Object of class "Spectrum1"
 Retention time: 0:00 
 MSn level: 1 
 Total ion count: 684 
 Polarity: 1 
MSn experiment data ("MSnExp")
Object size in memory: 0.18 Mb
- - - Spectra data - - -
 MS level(s): 2 
 Number of spectra: 5 
 MSn retention times: 25:01 - 25:02 minutes
- - - Processing information - - -
Data loaded: Sat Feb 17 07:36:57 2024 
 MSnbase version: 2.29.3 
- - - Meta data  - - -
phenoData
  rowNames: dummyiTRAQ.mzXML
  varLabels: sampleNames
  varMetadata: labelDescription
Loaded from:
  dummyiTRAQ.mzXML 
protocolData: none
featureData
  featureNames: F1.S1 F1.S2 ... F1.S5 (5 total)
  fvarLabels: spectrum
  fvarMetadata: labelDescription
experimentData: use 'experimentData(object)'
MSn experiment data ("MSnExp")
Object size in memory: 0.2 Mb
- - - Spectra data - - -
 MS level(s): 2 
 Number of spectra: 5 
 MSn retention times: 25:01 - 25:02 minutes
- - - Processing information - - -
Data loaded: Sat Feb 17 07:36:58 2024 
 MSnbase version: 2.29.3 
- - - Meta data  - - -
phenoData
  rowNames: dummyiTRAQ.mzXML
  varLabels: sampleNames
  varMetadata: labelDescription
Loaded from:
  dummyiTRAQ.mzXML 
protocolData: none
featureData
  featureNames: F1.S1 F1.S2 ... F1.S5 (5 total)
  fvarLabels: spectrum
  fvarMetadata: labelDescription
experimentData: use 'experimentData(object)'
Object of class "FeaturesOfInterest"
 Created on Sat Feb 17 07:37:36 2024 
 Description:
  small foi
 3 features of interest:
   P20353, P53501, Q7KU78
Traceable object of class "FeaturesOfInterest"
 Created on Sat Feb 17 07:37:36 2024 
 Description:
  my description
 10 features of interest:
   P20353, P53501  ...  Q9VCK0, Q9VIU7
A collection of 1 features of interest.
A collection of 10 features of interest.
MSpectra with 3 spectra and 1 metadata column(s):
  msLevel   rtime peaksCount | id
1       2      NA          3 |  1
2       2 1.23245          4 |  2
3       1 1.23245          5 |  3
MSpectra with 3 spectra and 1 metadata column(s):
    msLevel     rtime peaksCount |        id
  <integer> <numeric>  <integer> | <integer>
1         2        NA          3 |         1
2         2   1.23245          4 |         2
3         1   1.23245          5 |         3
MSpectra with 3 spectra and 1 metadata column(s):
      msLevel     rtime peaksCount |        id
    <integer> <numeric>  <integer> | <integer>
  1         2        NA          3 |         1
  2         2   1.23245          4 |         2
  3         1   1.23245          5 |         3
reading dummyiTRAQ.mzid... DONE!
[ FAIL 0 | WARN 1092 | SKIP 12 | PASS 2366 ]

══ Skipped tests (12) ══════════════════════════════════════════════════════════
• empty test (12): 'test_MzTab.R:108:1', 'test_MzTab.R:123:1',
  'test_OnDiskMSnExp2.R:132:1', 'test_fdata-selection.R:71:1',
  'test_functions-Chromatogram.R:39:1', 'test_functions-MSpectra.R:72:1',
  'test_functions-plotting.R:1:1', 'test_io.R:3:1',
  'test_methods-MChromatograms.R:155:1', 'test_readMSData2.R:51:1',
  'test_readMSData2.R:63:1', 'test_readMSData2.R:80:1'

[ FAIL 0 | WARN 1092 | SKIP 12 | PASS 2366 ]
Warning message:
In for (i in seq_along(snames)) { :
  closing unused connection 4 (/tmp/RtmpT1Ul9m/file15a1c48f5d5c0)
> 
> proc.time()
    user   system  elapsed 
 914.848   85.386 1137.962 

Example timings

MSnbase.Rcheck/MSnbase-Ex.timings

nameusersystemelapsed
Chromatogram-class0.1750.0180.211
FeatComp-class1.2840.0671.535
FeaturesOfInterest-class0.0930.0120.116
MChromatograms-class0.3170.0120.369
MSmap-class0.0000.0020.003
MSnExp-class1.1520.0201.325
MSnProcess-class0.0020.0010.004
MSnSet-class8.3740.2939.816
MSnSetList-class3.9110.1644.747
MSpectra0.1570.0140.193
MzTab-class0.8370.0513.901
OnDiskMSnExp-class14.097 0.39416.590
ProcessingStep-class0.0030.0010.005
ReporterIons-class0.0210.0030.025
TMT60.0130.0050.019
addIdentificationData-methods1.2230.0231.565
aggvar10.528 0.16111.937
averageMSnSet11.002 0.61713.401
bin-methods0.6680.0250.776
calculateFragments-methods1.6920.1042.003
chromatogram-MSnExp-method21.192 0.63025.219
clean-methods0.2610.0130.315
combineFeatures2.2040.0422.560
combineSpectra7.6290.2729.085
combineSpectraMovingWindow4.7540.0575.425
commonFeatureNames0.5780.0220.638
compareSpectra-methods0.3410.0070.371
consensusSpectrum0.0630.0030.070
estimateMzResolution7.1620.5079.057
estimateMzScattering2.1120.0412.513
estimateNoise-method0.0190.0020.023
extractPrecSpectra-methods1.3980.0211.685
extractSpectraData3.2060.1313.982
fData-utils0.6690.0190.842
factorsAsStrings0.0220.0070.041
featureCV0.0410.0040.050
fillUp0.0060.0030.011
formatRt0.0000.0000.002
getVariableName0.0060.0010.009
hasSpectraOrChromatograms0.4420.0190.575
iPQF0.6060.0090.742
iTRAQ40.0210.0030.030
imageNA25.9460.2057.568
impute4.0400.0964.955
isCentroidedFromFile2.9920.1653.837
itraqdata0.0700.0150.097
listOf0.0020.0010.003
makeCamelCase0.0010.0000.003
makeNaData1.1920.0191.386
meanMzInts0.0760.0050.092
missing-data5.7100.1786.798
mzRident2dfr0.0630.0070.080
nFeatures0.8270.0281.000
nQuants0.2460.0080.291
naplot0.1080.0120.128
navMS3.7750.1114.759
normToReference0.3590.0090.418
normalise-methods0.0270.0050.042
npcv0.0090.0000.010
pSet-class0.0010.0020.005
pickPeaks-method0.6490.0110.740
plot-methods6.4360.1817.429
plot2d-methods1.1170.0151.264
plotDensity-methods1.5020.0201.715
plotMzDelta-methods1.6140.0531.846
plotNA-methods0.8860.0120.982
plotSpectrumSpectrum-methods2.1060.0322.384
precSelection0.0160.0040.025
purityCorrect-methods0.0360.0090.048
quantify-methods5.2180.0975.878
readMSData2.5970.0382.986
readMSnSet0.1390.0110.180
readMgfData2.9870.0903.629
readMzIdData1.6461.7754.044
readMzTabData1.6510.0332.068
readMzTabData_v0.90.2390.0090.615
readSRMData2.2400.0572.699
reduce-data.frame-method0.0290.0040.047
removeNoId-methods1.7210.0282.054
removePeaks-methods1.2430.0161.581
removeReporters-methods1.0620.0111.375
selectFeatureData1.6630.0962.632
smooth-methods0.4800.0120.745
trimMz-methods0.3290.0100.496
writeMgfData-methods2.9420.1014.002