Index of /checkResults/devel/bioc-LATEST/GeneExpressionSignature/raw-results

[ICO]NameLast modifiedSizeDescription

[DIR]Parent Directory  -  
[   ]info.dcf02-Dec-2023 01:38 1.1K 
[DIR]kunpeng2/02-Dec-2023 01:38 -  
[DIR]merida1/02-Dec-2023 01:37 -  
[DIR]nebbiolo1/02-Dec-2023 01:35 -  
[DIR]palomino3/02-Dec-2023 01:36 -