Index of /checkResults/devel/bioc-LATEST/ExperimentHubData/raw-results

[ICO]NameLast modifiedSizeDescription

[DIR]Parent Directory  -  
[   ]info.dcf24-Sep-2023 00:39 310  
[DIR]kunpeng2/24-Sep-2023 00:39 -  
[DIR]lconway/24-Sep-2023 00:38 -  
[DIR]nebbiolo2/24-Sep-2023 00:36 -  
[DIR]palomino4/24-Sep-2023 00:37 -