Back to Multiple platform build/check report for BioC 3.19:   simplified   long
ABCD[E]FGHIJKLMNOPQRSTUVWXYZ

This page was generated on 2024-02-18 02:27:08 -0500 (Sun, 18 Feb 2024).

HostnameOSArch (*)R versionInstalled pkgs
nebbiolo1Linux (Ubuntu 22.04.3 LTS)x86_64R Under development (unstable) (2024-01-16 r85808) -- "Unsuffered Consequences" 4657
palomino3Windows Server 2022 Datacenterx64R Under development (unstable) (2024-01-14 r85805 ucrt) -- "Unsuffered Consequences" 4397
merida1macOS 12.7.1 Montereyx86_64R Under development (unstable) (2024-01-16 r85808) -- "Unsuffered Consequences" 4424
kunpeng2Linux (openEuler 22.03 LTS-SP1)aarch64R Under development (unstable) (2024-01-16 r85812) -- "Unsuffered Consequences" 4400
Click on any hostname to see more info about the system (e.g. compilers)      (*) as reported by 'uname -p', except on Windows and Mac OS X

Package 674/2244HostnameOS / ArchINSTALLBUILDCHECKBUILD BIN
EWCE 1.11.3  (landing page)
Alan Murphy
Snapshot Date: 2024-02-16 14:10:20 -0500 (Fri, 16 Feb 2024)
git_url: https://git.bioconductor.org/packages/EWCE
git_branch: devel
git_last_commit: 3838e2c
git_last_commit_date: 2023-11-21 08:06:56 -0500 (Tue, 21 Nov 2023)
nebbiolo1Linux (Ubuntu 22.04.3 LTS) / x86_64  OK    OK    OK  UNNEEDED, same version is already published
palomino3Windows Server 2022 Datacenter / x64  OK    OK    OK    OK  UNNEEDED, same version is already published
merida1macOS 12.7.1 Monterey / x86_64  OK    OK    OK    OK  UNNEEDED, same version is already published
kunpeng2Linux (openEuler 22.03 LTS-SP1) / aarch64  OK    OK    OK  

CHECK results for EWCE on palomino3


To the developers/maintainers of the EWCE package:
- Allow up to 24 hours (and sometimes 48 hours) for your latest push to git@git.bioconductor.org:packages/EWCE.git to reflect on this report. See Troubleshooting Build Report for more information.
- Use the following Renviron settings to reproduce errors and warnings.
- If 'R CMD check' started to fail recently on the Linux builder(s) over a missing dependency, add the missing dependency to 'Suggests:' in your DESCRIPTION file. See Renviron.bioc for more information.

raw results


Summary

Package: EWCE
Version: 1.11.3
Command: F:\biocbuild\bbs-3.19-bioc\R\bin\R.exe CMD check --no-multiarch --install=check:EWCE.install-out.txt --library=F:\biocbuild\bbs-3.19-bioc\R\library --no-vignettes --timings EWCE_1.11.3.tar.gz
StartedAt: 2024-02-17 03:41:04 -0500 (Sat, 17 Feb 2024)
EndedAt: 2024-02-17 04:00:41 -0500 (Sat, 17 Feb 2024)
EllapsedTime: 1176.8 seconds
RetCode: 0
Status:   OK  
CheckDir: EWCE.Rcheck
Warnings: 0

Command output

##############################################################################
##############################################################################
###
### Running command:
###
###   F:\biocbuild\bbs-3.19-bioc\R\bin\R.exe CMD check --no-multiarch --install=check:EWCE.install-out.txt --library=F:\biocbuild\bbs-3.19-bioc\R\library --no-vignettes --timings EWCE_1.11.3.tar.gz
###
##############################################################################
##############################################################################


* using log directory 'F:/biocbuild/bbs-3.19-bioc/meat/EWCE.Rcheck'
* using R Under development (unstable) (2024-01-14 r85805 ucrt)
* using platform: x86_64-w64-mingw32
* R was compiled by
    gcc.exe (GCC) 12.3.0
    GNU Fortran (GCC) 12.3.0
* running under: Windows Server 2022 x64 (build 20348)
* using session charset: UTF-8
* using option '--no-vignettes'
* checking for file 'EWCE/DESCRIPTION' ... OK
* checking extension type ... Package
* this is package 'EWCE' version '1.11.3'
* package encoding: UTF-8
* checking package namespace information ... OK
* checking package dependencies ... OK
* checking if this is a source package ... OK
* checking if there is a namespace ... OK
* checking for hidden files and directories ... OK
* checking for portable file names ... OK
* checking whether package 'EWCE' can be installed ... OK
* checking installed package size ... OK
* checking package directory ... OK
* checking 'build' directory ... OK
* checking DESCRIPTION meta-information ... OK
* checking top-level files ... OK
* checking for left-over files ... OK
* checking index information ... OK
* checking package subdirectories ... OK
* checking R files for non-ASCII characters ... OK
* checking R files for syntax errors ... OK
* checking whether the package can be loaded ... OK
* checking whether the package can be loaded with stated dependencies ... OK
* checking whether the package can be unloaded cleanly ... OK
* checking whether the namespace can be loaded with stated dependencies ... OK
* checking whether the namespace can be unloaded cleanly ... OK
* checking dependencies in R code ... OK
* checking S3 generic/method consistency ... OK
* checking replacement functions ... OK
* checking foreign function calls ... OK
* checking R code for possible problems ... OK
* checking Rd files ... OK
* checking Rd metadata ... OK
* checking Rd cross-references ... OK
* checking for missing documentation entries ... OK
* checking for code/documentation mismatches ... OK
* checking Rd \usage sections ... NOTE
Documented arguments not in \usage in Rd file 'get_exp_data_for_bootstrapped_genes.Rd':
  'full_results'

Functions with \usage entries need to have the appropriate \alias
entries, and all their arguments documented.
The \usage entries must correspond to syntactically valid R code.
See chapter 'Writing R documentation files' in the 'Writing R
Extensions' manual.
* checking Rd contents ... OK
* checking for unstated dependencies in examples ... OK
* checking files in 'vignettes' ... OK
* checking examples ... OK
Examples with CPU (user + system) or elapsed time > 5s
                                            user system elapsed
controlled_geneset_enrichment              23.61   1.95   30.92
merged_ewce                                20.14   1.65   22.52
ewce_expression_data                       15.86   1.45   24.78
generate_bootstrap_plots_for_transcriptome 16.17   1.06   17.64
filter_genes_without_1to1_homolog          15.14   0.57   15.84
filter_nonorthologs                        14.53   0.70   15.34
generate_bootstrap_plots                   12.44   0.99   13.65
bootstrap_enrichment_test                  11.44   0.61   12.43
check_ewce_genelist_inputs                 10.15   0.77   15.16
sct_normalize                              10.12   0.64   10.83
filter_ctd_genes                            9.93   0.78   10.77
add_res_to_merging_list                     8.53   1.85  121.85
standardise_ctd                             7.44   0.73    8.19
merge_ctd                                   7.06   0.78    7.87
bin_columns_into_quantiles                  7.30   0.47    9.03
fix_bad_mgi_symbols                         5.93   0.86    7.95
bin_specificity_into_quantiles              4.92   0.45    5.58
drop_uninformative_genes                    4.65   0.66   17.32
ctd_to_sce                                  3.64   0.31    8.90
* checking for unstated dependencies in 'tests' ... OK
* checking tests ...
  Running 'testthat.R'
 OK
* checking for unstated dependencies in vignettes ... OK
* checking package vignettes ... OK
* checking running R code from vignettes ... SKIPPED
* checking re-building of vignette outputs ... SKIPPED
* checking PDF version of manual ... OK
* DONE

Status: 1 NOTE
See
  'F:/biocbuild/bbs-3.19-bioc/meat/EWCE.Rcheck/00check.log'
for details.



Installation output

EWCE.Rcheck/00install.out

##############################################################################
##############################################################################
###
### Running command:
###
###   F:\biocbuild\bbs-3.19-bioc\R\bin\R.exe CMD INSTALL EWCE
###
##############################################################################
##############################################################################


* installing to library 'F:/biocbuild/bbs-3.19-bioc/R/library'
* installing *source* package 'EWCE' ...
** using staged installation
** R
** inst
** byte-compile and prepare package for lazy loading
** help
*** installing help indices
** building package indices
** installing vignettes
** testing if installed package can be loaded from temporary location
** testing if installed package can be loaded from final location
** testing if installed package keeps a record of temporary installation path
* DONE (EWCE)

Tests output

EWCE.Rcheck/tests/testthat.Rout


R Under development (unstable) (2024-01-14 r85805 ucrt) -- "Unsuffered Consequences"
Copyright (C) 2024 The R Foundation for Statistical Computing
Platform: x86_64-w64-mingw32/x64

R is free software and comes with ABSOLUTELY NO WARRANTY.
You are welcome to redistribute it under certain conditions.
Type 'license()' or 'licence()' for distribution details.

R is a collaborative project with many contributors.
Type 'contributors()' for more information and
'citation()' on how to cite R or R packages in publications.

Type 'demo()' for some demos, 'help()' for on-line help, or
'help.start()' for an HTML browser interface to help.
Type 'q()' to quit R.

> library(testthat)
> library(EWCE)
Loading required package: RNOmni
> 
> test_check("EWCE")
1 core(s) assigned as workers (31 reserved).
Converting to sparse matrix.
+ Calculating normalized mean expression.
Converting to sparse matrix.
Converting to sparse matrix.
Converting to sparse matrix.
Converting to sparse matrix.
+ Calculating normalized specificity.
Converting to sparse matrix.
Converting to sparse matrix.
Converting to sparse matrix.
Converting to sparse matrix.
Converting to sparse matrix.
Converting to sparse matrix.
Converting to sparse matrix.
Converting to sparse matrix.
Loading required namespace: ggdendro
+ Saving results ==>  F:\biocbuild\bbs-3.19-bioc\tmpdir\RtmpmeN89U/ctd_testthat.rda
1 core(s) assigned as workers (31 reserved).
Converting to sparse matrix.
+ Calculating normalized mean expression.
Converting to sparse matrix.
Converting to sparse matrix.
Converting to sparse matrix.
Converting to sparse matrix.
+ Calculating normalized specificity.
Converting to sparse matrix.
Converting to sparse matrix.
Converting to sparse matrix.
Converting to sparse matrix.
Converting to sparse matrix.
Converting to sparse matrix.
Converting to sparse matrix.
Converting to sparse matrix.
+ Saving results ==>  F:\biocbuild\bbs-3.19-bioc\tmpdir\RtmpmeN89U/ctd_testthat.rda
see ?ewceData and browseVignettes('ewceData') for documentation
loading from cache
1 core(s) assigned as workers (31 reserved).
Processing block [[1/5, 1/1]] ... OK
Processing block [[2/5, 1/1]] ... OK
Processing block [[3/5, 1/1]] ... OK
Processing block [[4/5, 1/1]] ... OK
Processing block [[5/5, 1/1]] ... OK
Converting to sparse matrix.
Converting to sparse matrix.
1 core(s) assigned as workers (31 reserved).
Processing block [[1/5, 1/1]] ... OK
Processing block [[2/5, 1/1]] ... OK
Processing block [[3/5, 1/1]] ... OK
Processing block [[4/5, 1/1]] ... OK
Processing block [[5/5, 1/1]] ... OK
Processing block [[1/5, 1/1]] ... OK
Processing block [[2/5, 1/1]] ... OK
Processing block [[3/5, 1/1]] ... OK
Processing block [[4/5, 1/1]] ... OK
Processing block [[5/5, 1/1]] ... OK
Loading required namespace: sctransform
Converting to sparse matrix.
Calculating cell attributes from input UMI matrix: log_umi
Variance stabilizing transformation of count matrix of size 17757 by 3005
Model formula is y ~ log_umi
Get Negative Binomial regression parameters per gene
Using 2000 genes, 3005 cells

  |                                                                            
  |                                                                      |   0%
  |                                                                            
  |==================                                                    |  25%
  |                                                                            
  |===================================                                   |  50%
  |                                                                            
  |====================================================                  |  75%
  |                                                                            
  |======================================================================| 100%
Found 10 outliers - those will be ignored in fitting/regularization step

Second step: Get residuals using fitted parameters for 17757 genes

  |                                                                            
  |                                                                      |   0%
  |                                                                            
  |==                                                                    |   3%
  |                                                                            
  |====                                                                  |   6%
  |                                                                            
  |======                                                                |   8%
  |                                                                            
  |========                                                              |  11%
  |                                                                            
  |==========                                                            |  14%
  |                                                                            
  |============                                                          |  17%
  |                                                                            
  |==============                                                        |  19%
  |                                                                            
  |================                                                      |  22%
  |                                                                            
  |==================                                                    |  25%
  |                                                                            
  |===================                                                   |  28%
  |                                                                            
  |=====================                                                 |  31%
  |                                                                            
  |=======================                                               |  33%
  |                                                                            
  |=========================                                             |  36%
  |                                                                            
  |===========================                                           |  39%
  |                                                                            
  |=============================                                         |  42%
  |                                                                            
  |===============================                                       |  44%
  |                                                                            
  |=================================                                     |  47%
  |                                                                            
  |===================================                                   |  50%
  |                                                                            
  |=====================================                                 |  53%
  |                                                                            
  |=======================================                               |  56%
  |                                                                            
  |=========================================                             |  58%
  |                                                                            
  |===========================================                           |  61%
  |                                                                            
  |=============================================                         |  64%
  |                                                                            
  |===============================================                       |  67%
  |                                                                            
  |=================================================                     |  69%
  |                                                                            
  |===================================================                   |  72%
  |                                                                            
  |====================================================                  |  75%
  |                                                                            
  |======================================================                |  78%
  |                                                                            
  |========================================================              |  81%
  |                                                                            
  |==========================================================            |  83%
  |                                                                            
  |============================================================          |  86%
  |                                                                            
  |==============================================================        |  89%
  |                                                                            
  |================================================================      |  92%
  |                                                                            
  |==================================================================    |  94%
  |                                                                            
  |====================================================================  |  97%
  |                                                                            
  |======================================================================| 100%
Calculating gene attributes
Wall clock passed: Time difference of 47.26176 secs
Computing corrected UMI count matrix

  |                                                                            
  |                                                                      |   0%
  |                                                                            
  |==                                                                    |   3%
  |                                                                            
  |====                                                                  |   6%
  |                                                                            
  |======                                                                |   8%
  |                                                                            
  |========                                                              |  11%
  |                                                                            
  |==========                                                            |  14%
  |                                                                            
  |============                                                          |  17%
  |                                                                            
  |==============                                                        |  19%
  |                                                                            
  |================                                                      |  22%
  |                                                                            
  |==================                                                    |  25%
  |                                                                            
  |===================                                                   |  28%
  |                                                                            
  |=====================                                                 |  31%
  |                                                                            
  |=======================                                               |  33%
  |                                                                            
  |=========================                                             |  36%
  |                                                                            
  |===========================                                           |  39%
  |                                                                            
  |=============================                                         |  42%
  |                                                                            
  |===============================                                       |  44%
  |                                                                            
  |=================================                                     |  47%
  |                                                                            
  |===================================                                   |  50%
  |                                                                            
  |=====================================                                 |  53%
  |                                                                            
  |=======================================                               |  56%
  |                                                                            
  |=========================================                             |  58%
  |                                                                            
  |===========================================                           |  61%
  |                                                                            
  |=============================================                         |  64%
  |                                                                            
  |===============================================                       |  67%
  |                                                                            
  |=================================================                     |  69%
  |                                                                            
  |===================================================                   |  72%
  |                                                                            
  |====================================================                  |  75%
  |                                                                            
  |======================================================                |  78%
  |                                                                            
  |========================================================              |  81%
  |                                                                            
  |==========================================================            |  83%
  |                                                                            
  |============================================================          |  86%
  |                                                                            
  |==============================================================        |  89%
  |                                                                            
  |================================================================      |  92%
  |                                                                            
  |==================================================================    |  94%
  |                                                                            
  |====================================================================  |  97%
  |                                                                            
  |======================================================================| 100%
see ?ewceData and browseVignettes('ewceData') for documentation
loading from cache
+ <2 non-zero quantile bins detected in column. Assigning these values to default quantile  ( 20 )
see ?ewceData and browseVignettes('ewceData') for documentation
loading from cache
see ?ewceData and browseVignettes('ewceData') for documentation
loading from cache
see ?ewceData and browseVignettes('ewceData') for documentation
loading from cache
1 core(s) assigned as workers (31 reserved).
Generating gene background for mouse x human ==> human
Gathering ortholog reports.
Retrieving all genes using: homologene.
Retrieving all organisms available in homologene.
Mapping species name: human
Common name mapping found for human
1 organism identified from search: 9606
Gene table with 19,129 rows retrieved.
Returning all 19,129 genes from human.

-- mouse
Retrieving all genes using: homologene.
Retrieving all organisms available in homologene.
Mapping species name: mouse
Common name mapping found for mouse
1 organism identified from search: 10090
Gene table with 21,207 rows retrieved.
Returning all 21,207 genes from mouse.
--
--
Preparing gene_df.
data.frame format detected.
Extracting genes from Gene.Symbol.
21,207 genes extracted.
Converting mouse ==> human orthologs using: homologene
Retrieving all organisms available in homologene.
Mapping species name: mouse
Common name mapping found for mouse
1 organism identified from search: 10090
Retrieving all organisms available in homologene.
Mapping species name: human
Common name mapping found for human
1 organism identified from search: 9606
Checking for genes without orthologs in human.
Extracting genes from input_gene.
17,355 genes extracted.
Extracting genes from ortholog_gene.
17,355 genes extracted.
Checking for genes without 1:1 orthologs.
Dropping 131 genes that have multiple input_gene per ortholog_gene (many:1).
Dropping 498 genes that have multiple ortholog_gene per input_gene (1:many).
Filtering gene_df with gene_map
Adding input_gene col to gene_df.
Adding ortholog_gene col to gene_df.

=========== REPORT SUMMARY ===========

Total genes dropped after convert_orthologs :
   4,725 / 21,207 (22%)
Total genes remaining after convert_orthologs :
   16,482 / 21,207 (78%)
--

=========== REPORT SUMMARY ===========

16,482 / 21,207 (77.72%) target_species genes remain after ortholog conversion.
16,482 / 19,129 (86.16%) reference_species genes remain after ortholog conversion.
Gathering ortholog reports.
Retrieving all genes using: homologene.
Retrieving all organisms available in homologene.
Mapping species name: human
Common name mapping found for human
1 organism identified from search: 9606
Gene table with 19,129 rows retrieved.
Returning all 19,129 genes from human.

-- human
Retrieving all genes using: homologene.
Retrieving all organisms available in homologene.
Mapping species name: human
Common name mapping found for human
1 organism identified from search: 9606
Gene table with 19,129 rows retrieved.
Returning all 19,129 genes from human.
--

=========== REPORT SUMMARY ===========

19,129 / 19,129 (100%) target_species genes remain after ortholog conversion.
19,129 / 19,129 (100%) reference_species genes remain after ortholog conversion.
16,482 intersect background genes used.
Standardising CellTypeDataset
Checking gene list inputs.
Running without gene size control.
17 hit gene(s) remain after filtering.
Computing gene scores.
Using previously sampled genes.
Computing gene counts.
Testing for enrichment in 7 cell types...
Sorting results by p-value.
Computing BH-corrected q-values.
2 significant cell type enrichment results @ q<0.05 : 

              CellType annotLevel p fold_change sd_from_mean q
1            microglia          1 0    1.820518     2.409647 0
2 astrocytes_ependymal          1 0    1.357308     1.995351 0
Warning: sctSpecies_origin not provided. Setting to "mouse" by default.
Generating gene background for mouse x human ==> human
Gathering ortholog reports.
Retrieving all genes using: homologene.
Retrieving all organisms available in homologene.
Mapping species name: human
Common name mapping found for human
1 organism identified from search: 9606
Gene table with 19,129 rows retrieved.
Returning all 19,129 genes from human.

-- mouse
Retrieving all genes using: homologene.
Retrieving all organisms available in homologene.
Mapping species name: mouse
Common name mapping found for mouse
1 organism identified from search: 10090
Gene table with 21,207 rows retrieved.
Returning all 21,207 genes from mouse.
--
--
Preparing gene_df.
data.frame format detected.
Extracting genes from Gene.Symbol.
21,207 genes extracted.
Converting mouse ==> human orthologs using: homologene
Retrieving all organisms available in homologene.
Mapping species name: mouse
Common name mapping found for mouse
1 organism identified from search: 10090
Retrieving all organisms available in homologene.
Mapping species name: human
Common name mapping found for human
1 organism identified from search: 9606
Checking for genes without orthologs in human.
Extracting genes from input_gene.
17,355 genes extracted.
Extracting genes from ortholog_gene.
17,355 genes extracted.
Checking for genes without 1:1 orthologs.
Dropping 131 genes that have multiple input_gene per ortholog_gene (many:1).
Dropping 498 genes that have multiple ortholog_gene per input_gene (1:many).
Filtering gene_df with gene_map
Adding input_gene col to gene_df.
Adding ortholog_gene col to gene_df.

=========== REPORT SUMMARY ===========

Total genes dropped after convert_orthologs :
   4,725 / 21,207 (22%)
Total genes remaining after convert_orthologs :
   16,482 / 21,207 (78%)
--

=========== REPORT SUMMARY ===========

16,482 / 21,207 (77.72%) target_species genes remain after ortholog conversion.
16,482 / 19,129 (86.16%) reference_species genes remain after ortholog conversion.
Gathering ortholog reports.
Retrieving all genes using: homologene.
Retrieving all organisms available in homologene.
Mapping species name: human
Common name mapping found for human
1 organism identified from search: 9606
Gene table with 19,129 rows retrieved.
Returning all 19,129 genes from human.

-- human
Retrieving all genes using: homologene.
Retrieving all organisms available in homologene.
Mapping species name: human
Common name mapping found for human
1 organism identified from search: 9606
Gene table with 19,129 rows retrieved.
Returning all 19,129 genes from human.
--

=========== REPORT SUMMARY ===========

19,129 / 19,129 (100%) target_species genes remain after ortholog conversion.
19,129 / 19,129 (100%) reference_species genes remain after ortholog conversion.
16,482 intersect background genes used.
Standardising sct_data.
Aligning celltype names with standardise_ctd format.
Checking gene list inputs.
2 celltype(s) remain @ <= 0.05
Resampling random genes.
Generating bootstrap plot for 2 celltype(s).
Saving plot --> F:\biocbuild\bbs-3.19-bioc\tmpdir\RtmpmeN89U/BootstrapPlots/qqplot_noText____VignetteGraphs.pdf
Saving plot --> F:\biocbuild\bbs-3.19-bioc\tmpdir\RtmpmeN89U/BootstrapPlots/qqplot_wtgene____VignetteGraphs.pdf
Saving plot --> F:\biocbuild\bbs-3.19-bioc\tmpdir\RtmpmeN89U/BootstrapPlots/bootDists____VignetteGraphs.pdf
Saving plot --> F:\biocbuild\bbs-3.19-bioc\tmpdir\RtmpmeN89U/BootstrapPlots/bootDists_LOG____VignetteGraphs.pdf
$plot1

$plot2

$plot3

$plot4

Warning: genelistSpecies not provided. Setting to 'human' by default.
Warning: sctSpecies_origin not provided. Setting to "mouse" by default.
Warning: sctSpecies_origin not provided. Setting to "mouse" by default.
Preparing gene_df.
character format detected.
Converting to data.frame
Extracting genes from input_gene.
15,259 genes extracted.
Converting mouse ==> human orthologs using: homologene
Retrieving all organisms available in homologene.
Mapping species name: mouse
Common name mapping found for mouse
1 organism identified from search: 10090
Retrieving all organisms available in homologene.
Mapping species name: human
Common name mapping found for human
1 organism identified from search: 9606
Checking for genes without orthologs in human.
Extracting genes from input_gene.
13,416 genes extracted.
Extracting genes from ortholog_gene.
13,416 genes extracted.
Checking for genes without 1:1 orthologs.
Dropping 46 genes that have multiple input_gene per ortholog_gene (many:1).
Dropping 56 genes that have multiple ortholog_gene per input_gene (1:many).
Filtering gene_df with gene_map
Returning gene_map as dictionary

=========== REPORT SUMMARY ===========

Total genes dropped after convert_orthologs :
   2,016 / 15,259 (13%)
Total genes remaining after convert_orthologs :
   13,243 / 15,259 (87%)
Generating gene background for mouse x human ==> human
Gathering ortholog reports.
Retrieving all genes using: homologene.
Retrieving all organisms available in homologene.
Mapping species name: human
Common name mapping found for human
1 organism identified from search: 9606
Gene table with 19,129 rows retrieved.
Returning all 19,129 genes from human.

-- mouse
Retrieving all genes using: homologene.
Retrieving all organisms available in homologene.
Mapping species name: mouse
Common name mapping found for mouse
1 organism identified from search: 10090
Gene table with 21,207 rows retrieved.
Returning all 21,207 genes from mouse.
--
--
Preparing gene_df.
data.frame format detected.
Extracting genes from Gene.Symbol.
21,207 genes extracted.
Converting mouse ==> human orthologs using: homologene
Retrieving all organisms available in homologene.
Mapping species name: mouse
Common name mapping found for mouse
1 organism identified from search: 10090
Retrieving all organisms available in homologene.
Mapping species name: human
Common name mapping found for human
1 organism identified from search: 9606
Checking for genes without orthologs in human.
Extracting genes from input_gene.
17,355 genes extracted.
Extracting genes from ortholog_gene.
17,355 genes extracted.
Checking for genes without 1:1 orthologs.
Dropping 131 genes that have multiple input_gene per ortholog_gene (many:1).
Dropping 498 genes that have multiple ortholog_gene per input_gene (1:many).
Filtering gene_df with gene_map
Adding input_gene col to gene_df.
Adding ortholog_gene col to gene_df.

=========== REPORT SUMMARY ===========

Total genes dropped after convert_orthologs :
   4,725 / 21,207 (22%)
Total genes remaining after convert_orthologs :
   16,482 / 21,207 (78%)
--

=========== REPORT SUMMARY ===========

16,482 / 21,207 (77.72%) target_species genes remain after ortholog conversion.
16,482 / 19,129 (86.16%) reference_species genes remain after ortholog conversion.
Gathering ortholog reports.
Retrieving all genes using: homologene.
Retrieving all organisms available in homologene.
Mapping species name: human
Common name mapping found for human
1 organism identified from search: 9606
Gene table with 19,129 rows retrieved.
Returning all 19,129 genes from human.

-- human
Retrieving all genes using: homologene.
Retrieving all organisms available in homologene.
Mapping species name: human
Common name mapping found for human
1 organism identified from search: 9606
Gene table with 19,129 rows retrieved.
Returning all 19,129 genes from human.
--

=========== REPORT SUMMARY ===========

19,129 / 19,129 (100%) target_species genes remain after ortholog conversion.
19,129 / 19,129 (100%) reference_species genes remain after ortholog conversion.
16,482 intersect background genes used.
Retrieving all genes using: homologene.
Retrieving all organisms available in homologene.
Mapping species name: human
Common name mapping found for human
1 organism identified from search: 9606
Gene table with 19,129 rows retrieved.
Returning all 19,129 genes from human.
Returning 19,129 unique genes from entire human genome.
Using intersect between background gene lists: 16,482 genes.
Standardising sct_data.
Using 1st column of tt as gene column: HGNC.symbol
1 core(s) assigned as workers (31 reserved).
Standardising CellTypeDataset
Checking gene list inputs.
Running without gene size control.
6 hit gene(s) remain after filtering.
Computing gene scores.
Using previously sampled genes.
Computing gene counts.
Testing for enrichment in 7 cell types...
Sorting results by p-value.
Computing BH-corrected q-values.
1 significant cell type enrichment results @ q<0.05 : 

           CellType annotLevel p fold_change sd_from_mean q
1 endothelial_mural          1 0    1.960864     4.367242 0
1 core(s) assigned as workers (31 reserved).
Standardising CellTypeDataset
Checking gene list inputs.
Running without gene size control.
5 hit gene(s) remain after filtering.
Computing gene scores.
Using previously sampled genes.
Computing gene counts.
Testing for enrichment in 7 cell types...
Sorting results by p-value.
Computing BH-corrected q-values.
2 significant cell type enrichment results @ q<0.05 : 

      CellType annotLevel p fold_change sd_from_mean q
1 interneurons          1 0    1.742023     3.948853 0
2 pyramidal_SS          1 0    1.991393     3.203248 0
Warning: genelistSpecies not provided. Setting to 'human' by default.
Warning: sctSpecies_origin not provided. Setting to "mouse" by default.
Warning: sctSpecies_origin not provided. Setting to "mouse" by default.
Aligning celltype names with standardise_ctd format.
Preparing gene_df.
character format detected.
Converting to data.frame
Extracting genes from input_gene.
15,259 genes extracted.
Converting mouse ==> human orthologs using: homologene
Retrieving all organisms available in homologene.
Mapping species name: mouse
Common name mapping found for mouse
1 organism identified from search: 10090
Retrieving all organisms available in homologene.
Mapping species name: human
Common name mapping found for human
1 organism identified from search: 9606
Checking for genes without orthologs in human.
Extracting genes from input_gene.
13,416 genes extracted.
Extracting genes from ortholog_gene.
13,416 genes extracted.
Checking for genes without 1:1 orthologs.
Dropping 46 genes that have multiple input_gene per ortholog_gene (many:1).
Dropping 56 genes that have multiple ortholog_gene per input_gene (1:many).
Filtering gene_df with gene_map
Returning gene_map as dictionary

=========== REPORT SUMMARY ===========

Total genes dropped after convert_orthologs :
   2,016 / 15,259 (13%)
Total genes remaining after convert_orthologs :
   13,243 / 15,259 (87%)
Generating gene background for mouse x human ==> human
Gathering ortholog reports.
Retrieving all genes using: homologene.
Retrieving all organisms available in homologene.
Mapping species name: human
Common name mapping found for human
1 organism identified from search: 9606
Gene table with 19,129 rows retrieved.
Returning all 19,129 genes from human.

-- mouse
Retrieving all genes using: homologene.
Retrieving all organisms available in homologene.
Mapping species name: mouse
Common name mapping found for mouse
1 organism identified from search: 10090
Gene table with 21,207 rows retrieved.
Returning all 21,207 genes from mouse.
--
--
Preparing gene_df.
data.frame format detected.
Extracting genes from Gene.Symbol.
21,207 genes extracted.
Converting mouse ==> human orthologs using: homologene
Retrieving all organisms available in homologene.
Mapping species name: mouse
Common name mapping found for mouse
1 organism identified from search: 10090
Retrieving all organisms available in homologene.
Mapping species name: human
Common name mapping found for human
1 organism identified from search: 9606
Checking for genes without orthologs in human.
Extracting genes from input_gene.
17,355 genes extracted.
Extracting genes from ortholog_gene.
17,355 genes extracted.
Checking for genes without 1:1 orthologs.
Dropping 131 genes that have multiple input_gene per ortholog_gene (many:1).
Dropping 498 genes that have multiple ortholog_gene per input_gene (1:many).
Filtering gene_df with gene_map
Adding input_gene col to gene_df.
Adding ortholog_gene col to gene_df.

=========== REPORT SUMMARY ===========

Total genes dropped after convert_orthologs :
   4,725 / 21,207 (22%)
Total genes remaining after convert_orthologs :
   16,482 / 21,207 (78%)
--

=========== REPORT SUMMARY ===========

16,482 / 21,207 (77.72%) target_species genes remain after ortholog conversion.
16,482 / 19,129 (86.16%) reference_species genes remain after ortholog conversion.
Gathering ortholog reports.
Retrieving all genes using: homologene.
Retrieving all organisms available in homologene.
Mapping species name: human
Common name mapping found for human
1 organism identified from search: 9606
Gene table with 19,129 rows retrieved.
Returning all 19,129 genes from human.

-- human
Retrieving all genes using: homologene.
Retrieving all organisms available in homologene.
Mapping species name: human
Common name mapping found for human
1 organism identified from search: 9606
Gene table with 19,129 rows retrieved.
Returning all 19,129 genes from human.
--

=========== REPORT SUMMARY ===========

19,129 / 19,129 (100%) target_species genes remain after ortholog conversion.
19,129 / 19,129 (100%) reference_species genes remain after ortholog conversion.
16,482 intersect background genes used.
Retrieving all genes using: homologene.
Retrieving all organisms available in homologene.
Mapping species name: human
Common name mapping found for human
1 organism identified from search: 9606
Gene table with 19,129 rows retrieved.
Returning all 19,129 genes from human.
Returning 19,129 unique genes from entire human genome.
Using intersect between background gene lists: 16,482 genes.
Standardising sct_data.
Using 1st column of tt as gene column: HGNC.symbol
Generating exp data for bootstrap genes.
Converting data for bootstrap tests to sparse matrices.
endothelial_mural : Saving bootstrap plot --> F:\biocbuild\bbs-3.19-bioc\tmpdir\RtmpmeN89U/BootstrapPlots/qqplot_noText_thresh250__dirUp___examples____endothelial_mural.pdf
endothelial_mural : Saving bootstrap plot --> F:\biocbuild\bbs-3.19-bioc\tmpdir\RtmpmeN89U/BootstrapPlots/qqplot_wtGSym_thresh250__dirUp___examples____endothelial_mural.pdf
endothelial_mural : Saving bootstrap plot --> F:\biocbuild\bbs-3.19-bioc\tmpdir\RtmpmeN89U/BootstrapPlots/qqplot_wtGSymBIG_thresh250__dirUp___examples____endothelial_mural.pdf
$plot1

$plot2

microglia : Saving bootstrap plot --> F:\biocbuild\bbs-3.19-bioc\tmpdir\RtmpmeN89U/BootstrapPlots/qqplot_noText_thresh250__dirUp___examples____microglia.pdf
microglia : Saving bootstrap plot --> F:\biocbuild\bbs-3.19-bioc\tmpdir\RtmpmeN89U/BootstrapPlots/qqplot_wtGSym_thresh250__dirUp___examples____microglia.pdf
microglia : Saving bootstrap plot --> F:\biocbuild\bbs-3.19-bioc\tmpdir\RtmpmeN89U/BootstrapPlots/qqplot_wtGSymBIG_thresh250__dirUp___examples____microglia.pdf
$plot1

$plot2

oligodendrocytes : Saving bootstrap plot --> F:\biocbuild\bbs-3.19-bioc\tmpdir\RtmpmeN89U/BootstrapPlots/qqplot_noText_thresh250__dirUp___examples____oligodendrocytes.pdf
oligodendrocytes : Saving bootstrap plot --> F:\biocbuild\bbs-3.19-bioc\tmpdir\RtmpmeN89U/BootstrapPlots/qqplot_wtGSym_thresh250__dirUp___examples____oligodendrocytes.pdf
oligodendrocytes : Saving bootstrap plot --> F:\biocbuild\bbs-3.19-bioc\tmpdir\RtmpmeN89U/BootstrapPlots/qqplot_wtGSymBIG_thresh250__dirUp___examples____oligodendrocytes.pdf
$plot1

$plot2

interneurons : Saving bootstrap plot --> F:\biocbuild\bbs-3.19-bioc\tmpdir\RtmpmeN89U/BootstrapPlots/qqplot_noText_thresh250__dirUp___examples____interneurons.pdf
interneurons : Saving bootstrap plot --> F:\biocbuild\bbs-3.19-bioc\tmpdir\RtmpmeN89U/BootstrapPlots/qqplot_wtGSym_thresh250__dirUp___examples____interneurons.pdf
interneurons : Saving bootstrap plot --> F:\biocbuild\bbs-3.19-bioc\tmpdir\RtmpmeN89U/BootstrapPlots/qqplot_wtGSymBIG_thresh250__dirUp___examples____interneurons.pdf
$plot1

$plot2

astrocytes_ependymal : Saving bootstrap plot --> F:\biocbuild\bbs-3.19-bioc\tmpdir\RtmpmeN89U/BootstrapPlots/qqplot_noText_thresh250__dirUp___examples____astrocytes_ependymal.pdf
astrocytes_ependymal : Saving bootstrap plot --> F:\biocbuild\bbs-3.19-bioc\tmpdir\RtmpmeN89U/BootstrapPlots/qqplot_wtGSym_thresh250__dirUp___examples____astrocytes_ependymal.pdf
astrocytes_ependymal : Saving bootstrap plot --> F:\biocbuild\bbs-3.19-bioc\tmpdir\RtmpmeN89U/BootstrapPlots/qqplot_wtGSymBIG_thresh250__dirUp___examples____astrocytes_ependymal.pdf
$plot1

$plot2

pyramidal_CA1 : Saving bootstrap plot --> F:\biocbuild\bbs-3.19-bioc\tmpdir\RtmpmeN89U/BootstrapPlots/qqplot_noText_thresh250__dirUp___examples____pyramidal_CA1.pdf
pyramidal_CA1 : Saving bootstrap plot --> F:\biocbuild\bbs-3.19-bioc\tmpdir\RtmpmeN89U/BootstrapPlots/qqplot_wtGSym_thresh250__dirUp___examples____pyramidal_CA1.pdf
pyramidal_CA1 : Saving bootstrap plot --> F:\biocbuild\bbs-3.19-bioc\tmpdir\RtmpmeN89U/BootstrapPlots/qqplot_wtGSymBIG_thresh250__dirUp___examples____pyramidal_CA1.pdf
$plot1

$plot2

pyramidal_SS : Saving bootstrap plot --> F:\biocbuild\bbs-3.19-bioc\tmpdir\RtmpmeN89U/BootstrapPlots/qqplot_noText_thresh250__dirUp___examples____pyramidal_SS.pdf
pyramidal_SS : Saving bootstrap plot --> F:\biocbuild\bbs-3.19-bioc\tmpdir\RtmpmeN89U/BootstrapPlots/qqplot_wtGSym_thresh250__dirUp___examples____pyramidal_SS.pdf
pyramidal_SS : Saving bootstrap plot --> F:\biocbuild\bbs-3.19-bioc\tmpdir\RtmpmeN89U/BootstrapPlots/qqplot_wtGSymBIG_thresh250__dirUp___examples____pyramidal_SS.pdf
$plot1

$plot2

Generating exp data for bootstrap genes.
Converting data for bootstrap tests to sparse matrices.
interneurons : Saving bootstrap plot --> F:\biocbuild\bbs-3.19-bioc\tmpdir\RtmpmeN89U/BootstrapPlots/qqplot_noText_thresh250__dirDown___examples____interneurons.pdf
interneurons : Saving bootstrap plot --> F:\biocbuild\bbs-3.19-bioc\tmpdir\RtmpmeN89U/BootstrapPlots/qqplot_wtGSym_thresh250__dirDown___examples____interneurons.pdf
interneurons : Saving bootstrap plot --> F:\biocbuild\bbs-3.19-bioc\tmpdir\RtmpmeN89U/BootstrapPlots/qqplot_wtGSymBIG_thresh250__dirDown___examples____interneurons.pdf
$plot1

$plot2

pyramidal_SS : Saving bootstrap plot --> F:\biocbuild\bbs-3.19-bioc\tmpdir\RtmpmeN89U/BootstrapPlots/qqplot_noText_thresh250__dirDown___examples____pyramidal_SS.pdf
pyramidal_SS : Saving bootstrap plot --> F:\biocbuild\bbs-3.19-bioc\tmpdir\RtmpmeN89U/BootstrapPlots/qqplot_wtGSym_thresh250__dirDown___examples____pyramidal_SS.pdf
pyramidal_SS : Saving bootstrap plot --> F:\biocbuild\bbs-3.19-bioc\tmpdir\RtmpmeN89U/BootstrapPlots/qqplot_wtGSymBIG_thresh250__dirDown___examples____pyramidal_SS.pdf
$plot1

$plot2

pyramidal_CA1 : Saving bootstrap plot --> F:\biocbuild\bbs-3.19-bioc\tmpdir\RtmpmeN89U/BootstrapPlots/qqplot_noText_thresh250__dirDown___examples____pyramidal_CA1.pdf
pyramidal_CA1 : Saving bootstrap plot --> F:\biocbuild\bbs-3.19-bioc\tmpdir\RtmpmeN89U/BootstrapPlots/qqplot_wtGSym_thresh250__dirDown___examples____pyramidal_CA1.pdf
pyramidal_CA1 : Saving bootstrap plot --> F:\biocbuild\bbs-3.19-bioc\tmpdir\RtmpmeN89U/BootstrapPlots/qqplot_wtGSymBIG_thresh250__dirDown___examples____pyramidal_CA1.pdf
$plot1

$plot2

oligodendrocytes : Saving bootstrap plot --> F:\biocbuild\bbs-3.19-bioc\tmpdir\RtmpmeN89U/BootstrapPlots/qqplot_noText_thresh250__dirDown___examples____oligodendrocytes.pdf
oligodendrocytes : Saving bootstrap plot --> F:\biocbuild\bbs-3.19-bioc\tmpdir\RtmpmeN89U/BootstrapPlots/qqplot_wtGSym_thresh250__dirDown___examples____oligodendrocytes.pdf
oligodendrocytes : Saving bootstrap plot --> F:\biocbuild\bbs-3.19-bioc\tmpdir\RtmpmeN89U/BootstrapPlots/qqplot_wtGSymBIG_thresh250__dirDown___examples____oligodendrocytes.pdf
$plot1

$plot2

microglia : Saving bootstrap plot --> F:\biocbuild\bbs-3.19-bioc\tmpdir\RtmpmeN89U/BootstrapPlots/qqplot_noText_thresh250__dirDown___examples____microglia.pdf
microglia : Saving bootstrap plot --> F:\biocbuild\bbs-3.19-bioc\tmpdir\RtmpmeN89U/BootstrapPlots/qqplot_wtGSym_thresh250__dirDown___examples____microglia.pdf
microglia : Saving bootstrap plot --> F:\biocbuild\bbs-3.19-bioc\tmpdir\RtmpmeN89U/BootstrapPlots/qqplot_wtGSymBIG_thresh250__dirDown___examples____microglia.pdf
$plot1

$plot2

endothelial_mural : Saving bootstrap plot --> F:\biocbuild\bbs-3.19-bioc\tmpdir\RtmpmeN89U/BootstrapPlots/qqplot_noText_thresh250__dirDown___examples____endothelial_mural.pdf
endothelial_mural : Saving bootstrap plot --> F:\biocbuild\bbs-3.19-bioc\tmpdir\RtmpmeN89U/BootstrapPlots/qqplot_wtGSym_thresh250__dirDown___examples____endothelial_mural.pdf
endothelial_mural : Saving bootstrap plot --> F:\biocbuild\bbs-3.19-bioc\tmpdir\RtmpmeN89U/BootstrapPlots/qqplot_wtGSymBIG_thresh250__dirDown___examples____endothelial_mural.pdf
$plot1

$plot2

astrocytes_ependymal : Saving bootstrap plot --> F:\biocbuild\bbs-3.19-bioc\tmpdir\RtmpmeN89U/BootstrapPlots/qqplot_noText_thresh250__dirDown___examples____astrocytes_ependymal.pdf
astrocytes_ependymal : Saving bootstrap plot --> F:\biocbuild\bbs-3.19-bioc\tmpdir\RtmpmeN89U/BootstrapPlots/qqplot_wtGSym_thresh250__dirDown___examples____astrocytes_ependymal.pdf
astrocytes_ependymal : Saving bootstrap plot --> F:\biocbuild\bbs-3.19-bioc\tmpdir\RtmpmeN89U/BootstrapPlots/qqplot_wtGSymBIG_thresh250__dirDown___examples____astrocytes_ependymal.pdf
$plot1

$plot2

see ?ewceData and browseVignettes('ewceData') for documentation
loading from cache
see ?ewceData and browseVignettes('ewceData') for documentation
loading from cache
see ?ewceData and browseVignettes('ewceData') for documentation
loading from cache
see ?ewceData and browseVignettes('ewceData') for documentation
loading from cache
Preparing gene_df.
character format detected.
Converting to data.frame
Extracting genes from input_gene.
22 genes extracted.
Converting human ==> mouse orthologs using: homologene
Retrieving all organisms available in homologene.
Mapping species name: human
Common name mapping found for human
1 organism identified from search: 9606
Retrieving all organisms available in homologene.
Mapping species name: mouse
Common name mapping found for mouse
1 organism identified from search: 10090
Checking for genes without orthologs in mouse.
Extracting genes from input_gene.
17 genes extracted.
Extracting genes from ortholog_gene.
17 genes extracted.
Checking for genes without 1:1 orthologs.
Filtering gene_df with gene_map
Returning gene_map as dictionary

=========== REPORT SUMMARY ===========

Total genes dropped after convert_orthologs :
   5 / 22 (23%)
Total genes remaining after convert_orthologs :
   17 / 22 (77%)
1 core(s) assigned as workers (31 reserved).
1 core(s) assigned as workers (31 reserved).
Generating gene background for mouse x human ==> human
Gathering ortholog reports.
Retrieving all genes using: homologene.
Retrieving all organisms available in homologene.
Mapping species name: human
Common name mapping found for human
1 organism identified from search: 9606
Gene table with 19,129 rows retrieved.
Returning all 19,129 genes from human.

-- mouse
Retrieving all genes using: homologene.
Retrieving all organisms available in homologene.
Mapping species name: mouse
Common name mapping found for mouse
1 organism identified from search: 10090
Gene table with 21,207 rows retrieved.
Returning all 21,207 genes from mouse.
--
--
Preparing gene_df.
data.frame format detected.
Extracting genes from Gene.Symbol.
21,207 genes extracted.
Converting mouse ==> human orthologs using: homologene
Retrieving all organisms available in homologene.
Mapping species name: mouse
Common name mapping found for mouse
1 organism identified from search: 10090
Retrieving all organisms available in homologene.
Mapping species name: human
Common name mapping found for human
1 organism identified from search: 9606
Checking for genes without orthologs in human.
Extracting genes from input_gene.
17,355 genes extracted.
Extracting genes from ortholog_gene.
17,355 genes extracted.
Checking for genes without 1:1 orthologs.
Dropping 131 genes that have multiple input_gene per ortholog_gene (many:1).
Dropping 498 genes that have multiple ortholog_gene per input_gene (1:many).
Filtering gene_df with gene_map
Adding input_gene col to gene_df.
Adding ortholog_gene col to gene_df.

=========== REPORT SUMMARY ===========

Total genes dropped after convert_orthologs :
   4,725 / 21,207 (22%)
Total genes remaining after convert_orthologs :
   16,482 / 21,207 (78%)
--

=========== REPORT SUMMARY ===========

16,482 / 21,207 (77.72%) target_species genes remain after ortholog conversion.
16,482 / 19,129 (86.16%) reference_species genes remain after ortholog conversion.
Gathering ortholog reports.
Retrieving all genes using: homologene.
Retrieving all organisms available in homologene.
Mapping species name: human
Common name mapping found for human
1 organism identified from search: 9606
Gene table with 19,129 rows retrieved.
Returning all 19,129 genes from human.

-- human
Retrieving all genes using: homologene.
Retrieving all organisms available in homologene.
Mapping species name: human
Common name mapping found for human
1 organism identified from search: 9606
Gene table with 19,129 rows retrieved.
Returning all 19,129 genes from human.
--

=========== REPORT SUMMARY ===========

19,129 / 19,129 (100%) target_species genes remain after ortholog conversion.
19,129 / 19,129 (100%) reference_species genes remain after ortholog conversion.
16,482 intersect background genes used.
Standardising CellTypeDataset
Checking gene list inputs.
Running with gene size control.
Warning: sctSpecies_origin not provided. Setting to "mouse" by default.
Retrieving all genes using: gprofiler
Retrieving all organisms available in gprofiler.
Using stored `gprofiler_orgs`.
Mapping species name: human
Common name mapping found for human
1 organism identified from search: hsapiens
Gene table with 63,150 rows retrieved.
Returning all 63,150 genes from human.
63,150 human Ensembl IDs and 40,977 human Gene Symbols imported.
see ?ewceData and browseVignettes('ewceData') for documentation
loading from cache
Controlled bootstrapping network generated.
17 hit gene(s) remain after filtering.
Computing gene scores.
Using previously sampled genes.
Computing gene counts.
Testing for enrichment in 7 cell types...
Sorting results by p-value.
Computing BH-corrected q-values.
1 significant cell type enrichment results @ q<0.05 : 

   CellType annotLevel p fold_change sd_from_mean q
1 microglia          1 0    2.079331     5.793469 0
1 core(s) assigned as workers (31 reserved).
Returning 15,604 unique genes from the user-supplied bg.
Standardising CellTypeDataset
Checking gene list inputs.
Converting gene list input to standardised human genes.
1 core(s) assigned as workers (31 reserved).
Returning 15,589 unique genes from the user-supplied bg.
Standardising CellTypeDataset
Checking gene list inputs.
Converting gene list input to standardised human genes.
Preparing gene_df.
character format detected.
Converting to data.frame
Extracting genes from input_gene.
22 genes extracted.
Converting human ==> rat orthologs using: homologene
Retrieving all organisms available in homologene.
Mapping species name: human
Common name mapping found for human
1 organism identified from search: 9606
Retrieving all organisms available in homologene.
Mapping species name: rat
Common name mapping found for rat
1 organism identified from search: 10116
Checking for genes without orthologs in rat.
Extracting genes from input_gene.
18 genes extracted.
Extracting genes from ortholog_gene.
18 genes extracted.
Checking for genes without 1:1 orthologs.
Dropping 2 genes that have multiple input_gene per ortholog_gene (many:1).
Filtering gene_df with gene_map
Returning gene_map as dictionary

=========== REPORT SUMMARY ===========

Total genes dropped after convert_orthologs :
   7 / 22 (32%)
Total genes remaining after convert_orthologs :
   15 / 22 (68%)
1 core(s) assigned as workers (31 reserved).
Generating gene background for mouse x rat ==> human
Gathering ortholog reports.
Retrieving all genes using: homologene.
Retrieving all organisms available in homologene.
Mapping species name: human
Common name mapping found for human
1 organism identified from search: 9606
Gene table with 19,129 rows retrieved.
Returning all 19,129 genes from human.

-- mouse
Retrieving all genes using: homologene.
Retrieving all organisms available in homologene.
Mapping species name: mouse
Common name mapping found for mouse
1 organism identified from search: 10090
Gene table with 21,207 rows retrieved.
Returning all 21,207 genes from mouse.
--
--
Preparing gene_df.
data.frame format detected.
Extracting genes from Gene.Symbol.
21,207 genes extracted.
Converting mouse ==> human orthologs using: homologene
Retrieving all organisms available in homologene.
Mapping species name: mouse
Common name mapping found for mouse
1 organism identified from search: 10090
Retrieving all organisms available in homologene.
Mapping species name: human
Common name mapping found for human
1 organism identified from search: 9606
Checking for genes without orthologs in human.
Extracting genes from input_gene.
17,355 genes extracted.
Extracting genes from ortholog_gene.
17,355 genes extracted.
Checking for genes without 1:1 orthologs.
Dropping 131 genes that have multiple input_gene per ortholog_gene (many:1).
Dropping 498 genes that have multiple ortholog_gene per input_gene (1:many).
Filtering gene_df with gene_map
Adding input_gene col to gene_df.
Adding ortholog_gene col to gene_df.

=========== REPORT SUMMARY ===========

Total genes dropped after convert_orthologs :
   4,725 / 21,207 (22%)
Total genes remaining after convert_orthologs :
   16,482 / 21,207 (78%)
--

=========== REPORT SUMMARY ===========

16,482 / 21,207 (77.72%) target_species genes remain after ortholog conversion.
16,482 / 19,129 (86.16%) reference_species genes remain after ortholog conversion.
Gathering ortholog reports.
Retrieving all genes using: homologene.
Retrieving all organisms available in homologene.
Mapping species name: human
Common name mapping found for human
1 organism identified from search: 9606
Gene table with 19,129 rows retrieved.
Returning all 19,129 genes from human.

-- rat
Retrieving all genes using: homologene.
Retrieving all organisms available in homologene.
Mapping species name: rat
Common name mapping found for rat
1 organism identified from search: 10116
Gene table with 20,616 rows retrieved.
Returning all 20,616 genes from rat.
--
--
Preparing gene_df.
data.frame format detected.
Extracting genes from Gene.Symbol.
20,616 genes extracted.
Converting rat ==> human orthologs using: homologene
Retrieving all organisms available in homologene.
Mapping species name: rat
Common name mapping found for rat
1 organism identified from search: 10116
Retrieving all organisms available in homologene.
Mapping species name: human
Common name mapping found for human
1 organism identified from search: 9606
Checking for genes without orthologs in human.
Extracting genes from input_gene.
16,989 genes extracted.
Extracting genes from ortholog_gene.
16,989 genes extracted.
Checking for genes without 1:1 orthologs.
Dropping 122 genes that have multiple input_gene per ortholog_gene (many:1).
Dropping 607 genes that have multiple ortholog_gene per input_gene (1:many).
Filtering gene_df with gene_map
Adding input_gene col to gene_df.
Adding ortholog_gene col to gene_df.

=========== REPORT SUMMARY ===========

Total genes dropped after convert_orthologs :
   4,813 / 20,616 (23%)
Total genes remaining after convert_orthologs :
   15,803 / 20,616 (77%)
--

=========== REPORT SUMMARY ===========

15,803 / 20,616 (76.65%) target_species genes remain after ortholog conversion.
15,803 / 19,129 (82.61%) reference_species genes remain after ortholog conversion.
15,450 intersect background genes used.
Standardising CellTypeDataset
Checking gene list inputs.
Converting gene list input to standardised human genes.
Running without gene size control.
15 hit gene(s) remain after filtering.
Computing gene scores.
Using previously sampled genes.
Computing gene counts.
Testing for enrichment in 7 cell types...
Sorting results by p-value.
Computing BH-corrected q-values.
1 significant cell type enrichment results @ q<0.05 : 

   CellType annotLevel p fold_change sd_from_mean q
1 microglia          1 0    2.156018     4.415353 0
Standardising CellTypeDataset
Found 5 matrix types across 2 CTD levels.
Processing level: 1
Processing level: 2
1 core(s) assigned as workers (31 reserved).
Generating gene background for monkey x mouse ==> human
Gathering ortholog reports.
Retrieving all genes using: homologene.
Retrieving all organisms available in homologene.
Mapping species name: human
Common name mapping found for human
1 organism identified from search: 9606
Gene table with 19,129 rows retrieved.
Returning all 19,129 genes from human.

-- monkey
Retrieving all genes using: homologene.
Retrieving all organisms available in homologene.
Mapping species name: monkey
Common name mapping found for monkey
1 organism identified from search: 9544
Gene table with 16,843 rows retrieved.
Returning all 16,843 genes from monkey.
--
--
Preparing gene_df.
data.frame format detected.
Extracting genes from Gene.Symbol.
16,843 genes extracted.
Converting monkey ==> human orthologs using: homologene
Retrieving all organisms available in homologene.
Mapping species name: monkey
Common name mapping found for monkey
1 organism identified from search: 9544
Retrieving all organisms available in homologene.
Mapping species name: human
Common name mapping found for human
1 organism identified from search: 9606
Checking for genes without orthologs in human.
Extracting genes from input_gene.
15,675 genes extracted.
Extracting genes from ortholog_gene.
15,675 genes extracted.
Checking for genes without 1:1 orthologs.
Dropping 197 genes that have multiple input_gene per ortholog_gene (many:1).
Dropping 215 genes that have multiple ortholog_gene per input_gene (1:many).
Filtering gene_df with gene_map
Adding input_gene col to gene_df.
Adding ortholog_gene col to gene_df.

=========== REPORT SUMMARY ===========

Total genes dropped after convert_orthologs :
   1,726 / 16,816 (10%)
Total genes remaining after convert_orthologs :
   15,090 / 16,816 (90%)
--

=========== REPORT SUMMARY ===========

15,077 / 16,816 (89.66%) target_species genes remain after ortholog conversion.
15,077 / 19,129 (78.82%) reference_species genes remain after ortholog conversion.
Gathering ortholog reports.
Retrieving all genes using: homologene.
Retrieving all organisms available in homologene.
Mapping species name: human
Common name mapping found for human
1 organism identified from search: 9606
Gene table with 19,129 rows retrieved.
Returning all 19,129 genes from human.

-- mouse
Retrieving all genes using: homologene.
Retrieving all organisms available in homologene.
Mapping species name: mouse
Common name mapping found for mouse
1 organism identified from search: 10090
Gene table with 21,207 rows retrieved.
Returning all 21,207 genes from mouse.
--
--
Preparing gene_df.
data.frame format detected.
Extracting genes from Gene.Symbol.
21,207 genes extracted.
Converting mouse ==> human orthologs using: homologene
Retrieving all organisms available in homologene.
Mapping species name: mouse
Common name mapping found for mouse
1 organism identified from search: 10090
Retrieving all organisms available in homologene.
Mapping species name: human
Common name mapping found for human
1 organism identified from search: 9606
Checking for genes without orthologs in human.
Extracting genes from input_gene.
17,355 genes extracted.
Extracting genes from ortholog_gene.
17,355 genes extracted.
Checking for genes without 1:1 orthologs.
Dropping 131 genes that have multiple input_gene per ortholog_gene (many:1).
Dropping 498 genes that have multiple ortholog_gene per input_gene (1:many).
Filtering gene_df with gene_map
Adding input_gene col to gene_df.
Adding ortholog_gene col to gene_df.

=========== REPORT SUMMARY ===========

Total genes dropped after convert_orthologs :
   4,725 / 21,207 (22%)
Total genes remaining after convert_orthologs :
   16,482 / 21,207 (78%)
--

=========== REPORT SUMMARY ===========

16,482 / 21,207 (77.72%) target_species genes remain after ortholog conversion.
16,482 / 19,129 (86.16%) reference_species genes remain after ortholog conversion.
13,875 intersect background genes used.
Standardising CellTypeDataset
Checking gene list inputs.
Converting gene list input to standardised human genes.
Running without gene size control.
11 hit gene(s) remain after filtering.
Testing for enrichment in 7 cell types...
Sorting results by p-value.
Computing BH-corrected q-values.
0 significant cell type enrichment results @ q<0.05 : 

1 core(s) assigned as workers (31 reserved).
Generating gene background for godzilla x mouse ==> human
Gathering ortholog reports.
Retrieving all genes using: homologene.
Retrieving all organisms available in homologene.
Mapping species name: human
Common name mapping found for human
1 organism identified from search: 9606
Gene table with 19,129 rows retrieved.
Returning all 19,129 genes from human.

-- godzilla
1 core(s) assigned as workers (31 reserved).
Generating gene background for mouse x human ==> human
Gathering ortholog reports.
Retrieving all genes using: homologene.
Retrieving all organisms available in homologene.
Mapping species name: human
Common name mapping found for human
1 organism identified from search: 9606
Gene table with 19,129 rows retrieved.
Returning all 19,129 genes from human.

-- mouse
Retrieving all genes using: homologene.
Retrieving all organisms available in homologene.
Mapping species name: mouse
Common name mapping found for mouse
1 organism identified from search: 10090
Gene table with 21,207 rows retrieved.
Returning all 21,207 genes from mouse.
--
--
Preparing gene_df.
data.frame format detected.
Extracting genes from Gene.Symbol.
21,207 genes extracted.
Converting mouse ==> human orthologs using: homologene
Retrieving all organisms available in homologene.
Mapping species name: mouse
Common name mapping found for mouse
1 organism identified from search: 10090
Retrieving all organisms available in homologene.
Mapping species name: human
Common name mapping found for human
1 organism identified from search: 9606
Checking for genes without orthologs in human.
Extracting genes from input_gene.
17,355 genes extracted.
Extracting genes from ortholog_gene.
17,355 genes extracted.
Checking for genes without 1:1 orthologs.
Dropping 131 genes that have multiple input_gene per ortholog_gene (many:1).
Dropping 498 genes that have multiple ortholog_gene per input_gene (1:many).
Filtering gene_df with gene_map
Adding input_gene col to gene_df.
Adding ortholog_gene col to gene_df.

=========== REPORT SUMMARY ===========

Total genes dropped after convert_orthologs :
   4,725 / 21,207 (22%)
Total genes remaining after convert_orthologs :
   16,482 / 21,207 (78%)
--

=========== REPORT SUMMARY ===========

16,482 / 21,207 (77.72%) target_species genes remain after ortholog conversion.
16,482 / 19,129 (86.16%) reference_species genes remain after ortholog conversion.
Gathering ortholog reports.
Retrieving all genes using: homologene.
Retrieving all organisms available in homologene.
Mapping species name: human
Common name mapping found for human
1 organism identified from search: 9606
Gene table with 19,129 rows retrieved.
Returning all 19,129 genes from human.

-- human
Retrieving all genes using: homologene.
Retrieving all organisms available in homologene.
Mapping species name: human
Common name mapping found for human
1 organism identified from search: 9606
Gene table with 19,129 rows retrieved.
Returning all 19,129 genes from human.
--

=========== REPORT SUMMARY ===========

19,129 / 19,129 (100%) target_species genes remain after ortholog conversion.
19,129 / 19,129 (100%) reference_species genes remain after ortholog conversion.
16,482 intersect background genes used.
Standardising CellTypeDataset
Checking gene list inputs.
1 core(s) assigned as workers (31 reserved).
Returning 15,604 unique genes from the user-supplied bg.
Standardising CellTypeDataset
Checking gene list inputs.
see ?ewceData and browseVignettes('ewceData') for documentation
loading from cache
Check 1000Check 3005
Warning: sctSpecies not provided. Setting to 'mouse' by default.
Warning: sctSpecies_origin not provided. Setting to "mouse" by default.
1 core(s) assigned as workers (31 reserved).
Converting to sparse matrix.
Checking for non-expressed genes.
Checking for cells with no expressed genes.
DGE:: Limma...
248 / 1,000 genes dropped @ DGE adj_pval_thresh < 1e-05
Time difference of 0.755662 secs
1 core(s) assigned as workers (31 reserved).
Converting to sparse matrix.
+ Calculating normalized mean expression.
Converting to sparse matrix.
Converting to sparse matrix.
+ Calculating normalized specificity.
Converting to sparse matrix.
Converting to sparse matrix.
Converting to sparse matrix.
Converting to sparse matrix.
+ Saving results ==>  F:\biocbuild\bbs-3.19-bioc\tmpdir\RtmpmeN89U/ctd_kiCortexOnly.rda
1 core(s) assigned as workers (31 reserved).
Converting to sparse matrix.
+ Calculating normalized mean expression.
Converting to sparse matrix.
Converting to sparse matrix.
+ Calculating normalized specificity.
Converting to sparse matrix.
Converting to sparse matrix.
Converting to sparse matrix.
Converting to sparse matrix.
Converting to sparse matrix.
Converting to sparse matrix.
+ Saving results ==>  F:\biocbuild\bbs-3.19-bioc\tmpdir\RtmpmeN89U/ctd_kiCortexOnly.rda
Loading precomputed example bootstrap results.
Aligning celltype names with standardise_ctd format.
7 signficiant enrichment results @ bonferroni < 0.05
14.3% of hits are of the target cell type.
see ?ewceData and browseVignettes('ewceData') for documentation
loading from cache
see ?ewceData and browseVignettes('ewceData') for documentation
loading from cache
see ?ewceData and browseVignettes('ewceData') for documentation
loading from cache
see ?ewceData and browseVignettes('ewceData') for documentation
loading from cache
Warning: sctSpecies_origin not provided. Setting to "mouse" by default.
Warning: sctSpecies_origin not provided. Setting to "mouse" by default.
Retrieving all genes using: homologene.
Retrieving all organisms available in homologene.
Mapping species name: mouse
Common name mapping found for mouse
1 organism identified from search: 10090
Gene table with 21,207 rows retrieved.
Returning all 21,207 genes from mouse.
Standardising CellTypeDataset
Found 5 matrix types across 2 CTD levels.
Processing level: 1
Processing level: 2
Generating controlled bootstrap gene sets.
see ?ewceData and browseVignettes('ewceData') for documentation
loading from cache
see ?ewceData and browseVignettes('ewceData') for documentation
loading from cache
Warning: genelistSpecies not provided. Setting to 'human' by default.
Warning: sctSpecies_origin not provided. Setting to "mouse" by default.
Warning: sctSpecies_origin not provided. Setting to "mouse" by default.
Preparing gene_df.
character format detected.
Converting to data.frame
Extracting genes from input_gene.
15,259 genes extracted.
Converting mouse ==> human orthologs using: homologene
Retrieving all organisms available in homologene.
Mapping species name: mouse
Common name mapping found for mouse
1 organism identified from search: 10090
Retrieving all organisms available in homologene.
Mapping species name: human
Common name mapping found for human
1 organism identified from search: 9606
Checking for genes without orthologs in human.
Extracting genes from input_gene.
13,416 genes extracted.
Extracting genes from ortholog_gene.
13,416 genes extracted.
Checking for genes without 1:1 orthologs.
Dropping 46 genes that have multiple input_gene per ortholog_gene (many:1).
Dropping 56 genes that have multiple ortholog_gene per input_gene (1:many).
Filtering gene_df with gene_map
Returning gene_map as dictionary

=========== REPORT SUMMARY ===========

Total genes dropped after convert_orthologs :
   2,016 / 15,259 (13%)
Total genes remaining after convert_orthologs :
   13,243 / 15,259 (87%)
Generating gene background for mouse x human ==> human
Gathering ortholog reports.
Retrieving all genes using: homologene.
Retrieving all organisms available in homologene.
Mapping species name: human
Common name mapping found for human
1 organism identified from search: 9606
Gene table with 19,129 rows retrieved.
Returning all 19,129 genes from human.

-- mouse
Retrieving all genes using: homologene.
Retrieving all organisms available in homologene.
Mapping species name: mouse
Common name mapping found for mouse
1 organism identified from search: 10090
Gene table with 21,207 rows retrieved.
Returning all 21,207 genes from mouse.
--
--
Preparing gene_df.
data.frame format detected.
Extracting genes from Gene.Symbol.
21,207 genes extracted.
Converting mouse ==> human orthologs using: homologene
Retrieving all organisms available in homologene.
Mapping species name: mouse
Common name mapping found for mouse
1 organism identified from search: 10090
Retrieving all organisms available in homologene.
Mapping species name: human
Common name mapping found for human
1 organism identified from search: 9606
Checking for genes without orthologs in human.
Extracting genes from input_gene.
17,355 genes extracted.
Extracting genes from ortholog_gene.
17,355 genes extracted.
Checking for genes without 1:1 orthologs.
Dropping 131 genes that have multiple input_gene per ortholog_gene (many:1).
Dropping 498 genes that have multiple ortholog_gene per input_gene (1:many).
Filtering gene_df with gene_map
Adding input_gene col to gene_df.
Adding ortholog_gene col to gene_df.

=========== REPORT SUMMARY ===========

Total genes dropped after convert_orthologs :
   4,725 / 21,207 (22%)
Total genes remaining after convert_orthologs :
   16,482 / 21,207 (78%)
--

=========== REPORT SUMMARY ===========

16,482 / 21,207 (77.72%) target_species genes remain after ortholog conversion.
16,482 / 19,129 (86.16%) reference_species genes remain after ortholog conversion.
Gathering ortholog reports.
Retrieving all genes using: homologene.
Retrieving all organisms available in homologene.
Mapping species name: human
Common name mapping found for human
1 organism identified from search: 9606
Gene table with 19,129 rows retrieved.
Returning all 19,129 genes from human.

-- human
Retrieving all genes using: homologene.
Retrieving all organisms available in homologene.
Mapping species name: human
Common name mapping found for human
1 organism identified from search: 9606
Gene table with 19,129 rows retrieved.
Returning all 19,129 genes from human.
--

=========== REPORT SUMMARY ===========

19,129 / 19,129 (100%) target_species genes remain after ortholog conversion.
19,129 / 19,129 (100%) reference_species genes remain after ortholog conversion.
16,482 intersect background genes used.
Retrieving all genes using: homologene.
Retrieving all organisms available in homologene.
Mapping species name: human
Common name mapping found for human
1 organism identified from search: 9606
Gene table with 19,129 rows retrieved.
Returning all 19,129 genes from human.
Returning 19,129 unique genes from entire human genome.
Using intersect between background gene lists: 16,482 genes.
Standardising sct_data.
Using 1st column of tt as gene column: HGNC.symbol
1 core(s) assigned as workers (31 reserved).
Standardising CellTypeDataset
Checking gene list inputs.
Running without gene size control.
28 hit gene(s) remain after filtering.
Computing gene scores.
Using previously sampled genes.
Computing gene counts.
Testing for enrichment in 7 cell types...
Sorting results by p-value.
Computing BH-corrected q-values.
1 significant cell type enrichment results @ q<0.05 : 

           CellType annotLevel p fold_change sd_from_mean q
1 endothelial_mural          1 0    1.628635     4.684982 0
1 core(s) assigned as workers (31 reserved).
Standardising CellTypeDataset
Checking gene list inputs.
Running without gene size control.
26 hit gene(s) remain after filtering.
Computing gene scores.
Using previously sampled genes.
Computing gene counts.
Testing for enrichment in 7 cell types...
Sorting results by p-value.
Computing BH-corrected q-values.
0 significant cell type enrichment results @ q<0.05 : 

see ?ewceData and browseVignettes('ewceData') for documentation
loading from cache
see ?ewceData and browseVignettes('ewceData') for documentation
loading from cache
Warning: genelistSpecies not provided. Setting to 'human' by default.
Warning: sctSpecies_origin not provided. Setting to "mouse" by default.
Warning: sctSpecies_origin not provided. Setting to "mouse" by default.
Preparing gene_df.
character format detected.
Converting to data.frame
Extracting genes from input_gene.
15,259 genes extracted.
Converting mouse ==> human orthologs using: homologene
Retrieving all organisms available in homologene.
Mapping species name: mouse
Common name mapping found for mouse
1 organism identified from search: 10090
Retrieving all organisms available in homologene.
Mapping species name: human
Common name mapping found for human
1 organism identified from search: 9606
Checking for genes without orthologs in human.
Extracting genes from input_gene.
13,416 genes extracted.
Extracting genes from ortholog_gene.
13,416 genes extracted.
Checking for genes without 1:1 orthologs.
Dropping 46 genes that have multiple input_gene per ortholog_gene (many:1).
Dropping 56 genes that have multiple ortholog_gene per input_gene (1:many).
Filtering gene_df with gene_map
Returning gene_map as dictionary

=========== REPORT SUMMARY ===========

Total genes dropped after convert_orthologs :
   2,016 / 15,259 (13%)
Total genes remaining after convert_orthologs :
   13,243 / 15,259 (87%)
Generating gene background for mouse x human ==> human
Gathering ortholog reports.
Retrieving all genes using: homologene.
Retrieving all organisms available in homologene.
Mapping species name: human
Common name mapping found for human
1 organism identified from search: 9606
Gene table with 19,129 rows retrieved.
Returning all 19,129 genes from human.

-- mouse
Retrieving all genes using: homologene.
Retrieving all organisms available in homologene.
Mapping species name: mouse
Common name mapping found for mouse
1 organism identified from search: 10090
Gene table with 21,207 rows retrieved.
Returning all 21,207 genes from mouse.
--
--
Preparing gene_df.
data.frame format detected.
Extracting genes from Gene.Symbol.
21,207 genes extracted.
Converting mouse ==> human orthologs using: homologene
Retrieving all organisms available in homologene.
Mapping species name: mouse
Common name mapping found for mouse
1 organism identified from search: 10090
Retrieving all organisms available in homologene.
Mapping species name: human
Common name mapping found for human
1 organism identified from search: 9606
Checking for genes without orthologs in human.
Extracting genes from input_gene.
17,355 genes extracted.
Extracting genes from ortholog_gene.
17,355 genes extracted.
Checking for genes without 1:1 orthologs.
Dropping 131 genes that have multiple input_gene per ortholog_gene (many:1).
Dropping 498 genes that have multiple ortholog_gene per input_gene (1:many).
Filtering gene_df with gene_map
Adding input_gene col to gene_df.
Adding ortholog_gene col to gene_df.

=========== REPORT SUMMARY ===========

Total genes dropped after convert_orthologs :
   4,725 / 21,207 (22%)
Total genes remaining after convert_orthologs :
   16,482 / 21,207 (78%)
--

=========== REPORT SUMMARY ===========

16,482 / 21,207 (77.72%) target_species genes remain after ortholog conversion.
16,482 / 19,129 (86.16%) reference_species genes remain after ortholog conversion.
Gathering ortholog reports.
Retrieving all genes using: homologene.
Retrieving all organisms available in homologene.
Mapping species name: human
Common name mapping found for human
1 organism identified from search: 9606
Gene table with 19,129 rows retrieved.
Returning all 19,129 genes from human.

-- human
Retrieving all genes using: homologene.
Retrieving all organisms available in homologene.
Mapping species name: human
Common name mapping found for human
1 organism identified from search: 9606
Gene table with 19,129 rows retrieved.
Returning all 19,129 genes from human.
--

=========== REPORT SUMMARY ===========

19,129 / 19,129 (100%) target_species genes remain after ortholog conversion.
19,129 / 19,129 (100%) reference_species genes remain after ortholog conversion.
16,482 intersect background genes used.
Retrieving all genes using: homologene.
Retrieving all organisms available in homologene.
Mapping species name: human
Common name mapping found for human
1 organism identified from search: 9606
Gene table with 19,129 rows retrieved.
Returning all 19,129 genes from human.
Returning 19,129 unique genes from entire human genome.
Using intersect between background gene lists: 16,482 genes.
Standardising sct_data.
Using 1st column of tt as gene column: HGNC.symbol
1 core(s) assigned as workers (31 reserved).
Standardising CellTypeDataset
Checking gene list inputs.
Running without gene size control.
10 hit gene(s) remain after filtering.
Computing gene scores.
Using previously sampled genes.
Computing gene counts.
Testing for enrichment in 7 cell types...
Sorting results by p-value.
Computing BH-corrected q-values.
0 significant cell type enrichment results @ q<0.05 : 

1 core(s) assigned as workers (31 reserved).
Standardising CellTypeDataset
Checking gene list inputs.
Running without gene size control.
8 hit gene(s) remain after filtering.
Computing gene scores.
Using previously sampled genes.
Computing gene counts.
Testing for enrichment in 7 cell types...
Sorting results by p-value.
Computing BH-corrected q-values.
1 significant cell type enrichment results @ q<0.05 : 

       CellType annotLevel p fold_change sd_from_mean q
1 pyramidal_CA1          1 0    1.318978     1.682404 0
Warning: genelistSpecies not provided. Setting to 'human' by default.
Warning: sctSpecies_origin not provided. Setting to "mouse" by default.
Warning: sctSpecies_origin not provided. Setting to "mouse" by default.
Preparing gene_df.
character format detected.
Converting to data.frame
Extracting genes from input_gene.
15,259 genes extracted.
Converting mouse ==> human orthologs using: homologene
Retrieving all organisms available in homologene.
Mapping species name: mouse
Common name mapping found for mouse
1 organism identified from search: 10090
Retrieving all organisms available in homologene.
Mapping species name: human
Common name mapping found for human
1 organism identified from search: 9606
Checking for genes without orthologs in human.
Extracting genes from input_gene.
13,416 genes extracted.
Extracting genes from ortholog_gene.
13,416 genes extracted.
Checking for genes without 1:1 orthologs.
Dropping 46 genes that have multiple input_gene per ortholog_gene (many:1).
Dropping 56 genes that have multiple ortholog_gene per input_gene (1:many).
Filtering gene_df with gene_map
Returning gene_map as dictionary

=========== REPORT SUMMARY ===========

Total genes dropped after convert_orthologs :
   2,016 / 15,259 (13%)
Total genes remaining after convert_orthologs :
   13,243 / 15,259 (87%)
Generating gene background for mouse x human ==> human
Gathering ortholog reports.
Retrieving all genes using: homologene.
Retrieving all organisms available in homologene.
Mapping species name: human
Common name mapping found for human
1 organism identified from search: 9606
Gene table with 19,129 rows retrieved.
Returning all 19,129 genes from human.

-- mouse
Retrieving all genes using: homologene.
Retrieving all organisms available in homologene.
Mapping species name: mouse
Common name mapping found for mouse
1 organism identified from search: 10090
Gene table with 21,207 rows retrieved.
Returning all 21,207 genes from mouse.
--
--
Preparing gene_df.
data.frame format detected.
Extracting genes from Gene.Symbol.
21,207 genes extracted.
Converting mouse ==> human orthologs using: homologene
Retrieving all organisms available in homologene.
Mapping species name: mouse
Common name mapping found for mouse
1 organism identified from search: 10090
Retrieving all organisms available in homologene.
Mapping species name: human
Common name mapping found for human
1 organism identified from search: 9606
Checking for genes without orthologs in human.
Extracting genes from input_gene.
17,355 genes extracted.
Extracting genes from ortholog_gene.
17,355 genes extracted.
Checking for genes without 1:1 orthologs.
Dropping 131 genes that have multiple input_gene per ortholog_gene (many:1).
Dropping 498 genes that have multiple ortholog_gene per input_gene (1:many).
Filtering gene_df with gene_map
Adding input_gene col to gene_df.
Adding ortholog_gene col to gene_df.

=========== REPORT SUMMARY ===========

Total genes dropped after convert_orthologs :
   4,725 / 21,207 (22%)
Total genes remaining after convert_orthologs :
   16,482 / 21,207 (78%)
--

=========== REPORT SUMMARY ===========

16,482 / 21,207 (77.72%) target_species genes remain after ortholog conversion.
16,482 / 19,129 (86.16%) reference_species genes remain after ortholog conversion.
Gathering ortholog reports.
Retrieving all genes using: homologene.
Retrieving all organisms available in homologene.
Mapping species name: human
Common name mapping found for human
1 organism identified from search: 9606
Gene table with 19,129 rows retrieved.
Returning all 19,129 genes from human.

-- human
Retrieving all genes using: homologene.
Retrieving all organisms available in homologene.
Mapping species name: human
Common name mapping found for human
1 organism identified from search: 9606
Gene table with 19,129 rows retrieved.
Returning all 19,129 genes from human.
--

=========== REPORT SUMMARY ===========

19,129 / 19,129 (100%) target_species genes remain after ortholog conversion.
19,129 / 19,129 (100%) reference_species genes remain after ortholog conversion.
16,482 intersect background genes used.
Retrieving all genes using: homologene.
Retrieving all organisms available in homologene.
Mapping species name: human
Common name mapping found for human
1 organism identified from search: 9606
Gene table with 19,129 rows retrieved.
Returning all 19,129 genes from human.
Returning 19,129 unique genes from entire human genome.
Using intersect between background gene lists: 16,482 genes.
Standardising sct_data.
Using 1st column of tt as gene column: HGNC.symbol
1 core(s) assigned as workers (31 reserved).
Standardising CellTypeDataset
Checking gene list inputs.
Running without gene size control.
11 hit gene(s) remain after filtering.
Computing gene scores.
Using previously sampled genes.
Computing gene counts.
Testing for enrichment in 7 cell types...
Sorting results by p-value.
Computing BH-corrected q-values.
0 significant cell type enrichment results @ q<0.05 : 

1 core(s) assigned as workers (31 reserved).
Standardising CellTypeDataset
Checking gene list inputs.
Running without gene size control.
9 hit gene(s) remain after filtering.
Computing gene scores.
Using previously sampled genes.
Computing gene counts.
Testing for enrichment in 7 cell types...
Sorting results by p-value.
Computing BH-corrected q-values.
0 significant cell type enrichment results @ q<0.05 : 

Loading precomputed example bootstrap results.
see ?ewceData and browseVignettes('ewceData') for documentation
loading from cache
see ?ewceData and browseVignettes('ewceData') for documentation
loading from cache
Filtering CTD to 100 genes.
level: 1
Found 5 matrix types across 1 CTD levels.
   - mean_exp
   - median_exp
   - specificity
   - median_specificity
   - specificity_quantiles
level: 2
Found 5 matrix types across 1 CTD levels.
   - mean_exp
   - median_exp
   - specificity
   - median_specificity
   - specificity_quantiles
Standardising CellTypeDataset
Found 5 matrix types across 2 CTD levels.
Processing level: 1
Processing level: 2
Filtering CTD to 100 genes.
level: level_1
Found 5 matrix types across 1 CTD levels.
   - mean_exp
   - median_exp
   - specificity
   - median_specificity
   - specificity_quantiles
level: level_2
Found 5 matrix types across 1 CTD levels.
   - mean_exp
   - median_exp
   - specificity
   - median_specificity
   - specificity_quantiles
see ?ewceData and browseVignettes('ewceData') for documentation
loading from cache
Check 1000Check 3005
Warning: sctSpecies_origin not provided. Setting to "mouse" by default.
1 core(s) assigned as workers (31 reserved).
Converting to sparse matrix.
Checking for non-expressed genes.
Checking for cells with no expressed genes.
DGE:: Limma...
248 / 1,000 genes dropped @ DGE adj_pval_thresh < 1e-05
Time difference of 0.7734439 secs
1 core(s) assigned as workers (31 reserved).
Converting to sparse matrix.
+ Calculating normalized mean expression.
Converting to sparse matrix.
Converting to sparse matrix.
+ Calculating normalized specificity.
Converting to sparse matrix.
Converting to sparse matrix.
Converting to sparse matrix.
Converting to sparse matrix.
+ Saving results ==>  F:\biocbuild\bbs-3.19-bioc\tmpdir\RtmpmeN89U/ctd_kiCortexOnly.rda
+ Processing level 1 ...
Processing mean_exp
Processing specificity
Processing specificity_quantiles
+ Processing level 2 ...
Processing mean_exp
Processing specificity
Processing specificity_quantiles
No input_species provided. Setting to 'mouse'
+ Processing level 1 ...
Processing mean_exp
Processing specificity
Processing specificity_quantiles
+ Processing level 2 ...
Processing mean_exp
Processing specificity
Processing specificity_quantiles
see ?ewceData and browseVignettes('ewceData') for documentation
loading from cache
trying URL 'http://www.informatics.jax.org/downloads/reports/MRK_List2.rpt'
Content type 'unknown' length 83339828 bytes (79.5 MB)
==================================================
downloaded 79.5 MB

see ?ewceData and browseVignettes('ewceData') for documentation
loading from cache
1 rows do not have proper MGI symbols
Mar-01
see ?ewceData and browseVignettes('ewceData') for documentation
loading from cache
1 rows do not have proper MGI symbols
Mar-01
see ?ewceData and browseVignettes('ewceData') for documentation
loading from cache
1 rows do not have proper MGI symbols
Mar-01
see ?ewceData and browseVignettes('ewceData') for documentation
loading from cache
10 of 10 are not proper HGNC symbols.
Possible corruption of gene names by excel: Mar-01
see ?ewceData and browseVignettes('ewceData') for documentation
loading from cache
10 of 10 are not proper HGNC symbols.
Possible corruption of gene names by excel: Mar-01
see ?ewceData and browseVignettes('ewceData') for documentation
loading from cache
10 of 10 are not proper HGNC symbols.
Possible corruption of gene names by excel: Mar-01
Maps last updated on: Thu Oct 24 12:31:05 2019
Maps last updated on: Thu Oct 24 12:31:05 2019
9 of 10 gene symbols corrected.
1 of 10 gene symbols cannot be mapped.
Converting to sparse matrix.
see ?ewceData and browseVignettes('ewceData') for documentation
loading from cache
1 rows do not have proper MGI symbols
Tm4sf12
see ?ewceData and browseVignettes('ewceData') for documentation
loading from cache
1 poorly annotated genes are replicates of existing genes. These are: 
Tspan12
Converting to sparse matrix.
1 rows should have been corrected by checking synonyms.
0 rows STILL do not have proper MGI symbols.

see ?ewceData and browseVignettes('ewceData') for documentation
loading from cache
0 rows do not have proper MGI symbols

see ?ewceData and browseVignettes('ewceData') for documentation
loading from cache
669 rows do not have proper MGI symbols
2310042E22Rik, BC005764, C130030K03Rik, Stmn1-rs1, Gm9846, E130309F12Rik, Fam211b, AI848285, Acpl2, 9630033F20Rik, Adrbk2, Syne1_loc2, Adc, Dlx1os, LOC106740, Pdxp, Atp6v0c-ps2, 2900056M20Rik, Epb4.1l1, A330050F15Rik
see ?ewceData and browseVignettes('ewceData') for documentation
loading from cache
308 rows do not have proper MGI symbols
2310042E22Rik, BC005764, C130030K03Rik, Stmn1-rs1, Gm9846, E130309F12Rik, Fam211b, AI848285, Acpl2, 9630033F20Rik, Adrbk2, Syne1_loc2, Adc, Dlx1os, LOC106740, Pdxp, Atp6v0c-ps2, 2900056M20Rik, Epb4.1l1, A330050F15Rik
see ?ewceData and browseVignettes('ewceData') for documentation
loading from cache
1 poorly annotated genes are replicates of existing genes. These are: 
Hjurp
Converting to sparse matrix.
185 rows should have been corrected by checking synonyms.
126 rows STILL do not have proper MGI symbols.
see ?ewceData and browseVignettes('ewceData') for documentation
loading from cache
308 rows do not have proper MGI symbols
2310042E22Rik, BC005764, C130030K03Rik, Stmn1-rs1, Gm9846, E130309F12Rik, Fam211b, AI848285, Acpl2, 9630033F20Rik, Adrbk2, Syne1_loc2, Adc, Dlx1os, LOC106740, Pdxp, Atp6v0c-ps2, 2900056M20Rik, Epb4.1l1, A330050F15Rik
see ?ewceData and browseVignettes('ewceData') for documentation
loading from cache
1 poorly annotated genes are replicates of existing genes. These are: 
Hjurp
Converting to sparse matrix.
185 rows should have been corrected by checking synonyms.
126 rows STILL do not have proper MGI symbols.
see ?ewceData and browseVignettes('ewceData') for documentation
loading from cache
1 core(s) assigned as workers (31 reserved).
Preparing gene_df.
Dense matrix format detected.
Extracting genes from rownames.
100 genes extracted.
Converting mouse ==> human orthologs using: homologene
Retrieving all organisms available in homologene.
Mapping species name: mouse
Common name mapping found for mouse
1 organism identified from search: 10090
Retrieving all organisms available in homologene.
Mapping species name: human
Common name mapping found for human
1 organism identified from search: 9606
Checking for genes without orthologs in human.
Extracting genes from input_gene.
91 genes extracted.
Extracting genes from ortholog_gene.
91 genes extracted.
Checking for genes without 1:1 orthologs.
Filtering gene_df with gene_map
Setting ortholog_gene to rownames.
Converting obj to sparseMatrix.

=========== REPORT SUMMARY ===========

Total genes dropped after convert_orthologs :
   9 / 100 (9%)
Total genes remaining after convert_orthologs :
   91 / 100 (91%)
Converting to sparse matrix.
Converting to DelayedArray.
+ Calculating normalized mean expression.
Processing sparse block [[1/1, 1/1]] ... OK
Converting to sparse matrix.
Processing sparse block [[1/1, 1/1]] ... OK
Converting to sparse matrix.
+ Calculating normalized specificity.
Converting to sparse matrix.
Converting to sparse matrix.
Converting to sparse matrix.
Converting to sparse matrix.
+ Saving results ==>  F:\biocbuild\bbs-3.19-bioc\tmpdir\RtmpmeN89U/ctd_allKImouse.rda
+ Returning list of CTD file name, and the CTD itself.
see ?ewceData and browseVignettes('ewceData') for documentation
loading from cache
Filtering by variance quantiles.
Converting to DelayedArray.
120 / 300 genes dropped @ DGE min_variance_quantile >= 5
Converting to sparse matrix.
Calculating cell attributes from input UMI matrix: log_umi
Variance stabilizing transformation of count matrix of size 300 by 3005
Model formula is y ~ log_umi
Get Negative Binomial regression parameters per gene
Using 300 genes, 3005 cells

  |                                                                            
  |                                                                      |   0%
  |                                                                            
  |======================================================================| 100%
Found 2 outliers - those will be ignored in fitting/regularization step

Second step: Get residuals using fitted parameters for 300 genes

  |                                                                            
  |                                                                      |   0%
  |                                                                            
  |======================================================================| 100%
Calculating gene attributes
Wall clock passed: Time difference of 7.461384 secs
Computing corrected UMI count matrix

  |                                                                            
  |                                                                      |   0%
  |                                                                            
  |======================================================================| 100%
Filtering by variance quantiles.
Converting to DelayedArray.
120 / 300 genes dropped @ DGE min_variance_quantile >= 5
Filtering by variance quantiles.
Converting to DelayedArray.
120 / 300 genes dropped @ DGE min_variance_quantile >= 5
Filtering by variance quantiles.
Converting to DelayedArray.
/ Reading and realizing block 1/1 ... OK
\ Processing it ... OK
120 / 300 genes dropped @ DGE min_variance_quantile >= 5
Retrieving all organisms available in homologene.
Returning table with all species.
see ?ewceData and browseVignettes('ewceData') for documentation
loading from cache
+ CTD ==> SingleCellExperiment
Converting level:  level_1
Returning all possible matrix names.
Converting level:  level_2
Returning all possible matrix names.
The assay 'mean_exp' will be used to determine the proportion of zeroes for each batch.
Converting CTD to merged SCEs
ctd1
+ CTD ==> SingleCellExperiment
Converting level:  level_1
Returning all possible matrix names.
Converting level:  level_2
Returning all possible matrix names.
ctd2
+ CTD ==> SingleCellExperiment
Converting level:  level_1
Returning all possible matrix names.
Converting level:  level_2
Returning all possible matrix names.
Merging SCE at level: 1
[1] "ctd1"
[1] "15259 x 7"
[1] "ctd2"
[1] "15259 x 7"
The assay 'mean_exp' will be used to determine the proportion of zeroes for each batch.
Merging SCE at level: 2
[1] "ctd1"
[1] "15259 x 48"
[1] "ctd2"
[1] "15259 x 48"
The assay 'mean_exp' will be used to determine the proportion of zeroes for each batch.
[1] "level_1"
[1] "level_2"
Saving SCE_merged ==> F:\biocbuild\bbs-3.19-bioc\tmpdir\RtmpmeN89U/merged/CTD_SCE_merged.union.rds
+ Must set `as_SCE=TRUE` in order to merge CTD.
+ Returning merged CTD.
1 core(s) assigned as workers (31 reserved).
Converting to sparse matrix.
+ Calculating normalized mean expression.
Converting to sparse matrix.
+ Calculating normalized specificity.
Converting to sparse matrix.
Converting to sparse matrix.
+ Saving results ==>  F:\biocbuild\bbs-3.19-bioc\tmpdir\RtmpmeN89U/ctd_file39d0310c6e2level_1.rda
+ Returning list of CTD file name, and the CTD itself.
1 core(s) assigned as workers (31 reserved).
Converting to sparse matrix.
+ Calculating normalized mean expression.
Converting to sparse matrix.
+ Calculating normalized specificity.
Converting to sparse matrix.
Converting to sparse matrix.
+ Saving results ==>  F:\biocbuild\bbs-3.19-bioc\tmpdir\RtmpmeN89U/ctd_file39d07b102ca1level_2.rda
+ Returning list of CTD file name, and the CTD itself.
see ?ewceData and browseVignettes('ewceData') for documentation
loading from cache
0 non-overlapping gene(s) removed from exp1.
0 non-overlapping gene(s) removed from exp2.
19,972 intersecting genes remain.
Converting to data.frame
Converting to data.frame
Converting to sparse matrix.
see ?ewceData and browseVignettes('ewceData') for documentation
loading from cache
DGE:: Limma...
Loading required namespace: DESeq2
DGE:: DESeq2...
1 core(s) assigned as workers (31 reserved).
converting counts to integer mode
  Note: levels of factors in the design contain characters other than
  letters, numbers, '_' and '.'. It is recommended (but not required) to use
  only letters, numbers, and delimiters '_' or '.', as these are safe characters
  for column names in R. [This is a message, not a warning or an error]
estimating size factors
  Note: levels of factors in the design contain characters other than
  letters, numbers, '_' and '.'. It is recommended (but not required) to use
  only letters, numbers, and delimiters '_' or '.', as these are safe characters
  for column names in R. [This is a message, not a warning or an error]
estimating dispersions
gene-wise dispersion estimates
mean-dispersion relationship
-- note: fitType='parametric', but the dispersion trend was not well captured by the
   function: y = a/x + b, and a local regression fit was automatically substituted.
   specify fitType='local' or 'mean' to avoid this message next time.
  Note: levels of factors in the design contain characters other than
  letters, numbers, '_' and '.'. It is recommended (but not required) to use
  only letters, numbers, and delimiters '_' or '.', as these are safe characters
  for column names in R. [This is a message, not a warning or an error]
final dispersion estimates
fitting model and testing
  Note: levels of factors in the design contain characters other than
  letters, numbers, '_' and '.'. It is recommended (but not required) to use
  only letters, numbers, and delimiters '_' or '.', as these are safe characters
  for column names in R. [This is a message, not a warning or an error]
Loading required namespace: MAST
`fData` has no primerid.  I'll make something up.
`cData` has no wellKey.  I'll make something up.
[ FAIL 0 | WARN 44 | SKIP 0 | PASS 134 ]

[ FAIL 0 | WARN 44 | SKIP 0 | PASS 134 ]
> 
> proc.time()
   user  system elapsed 
 473.81   37.96  529.67 

Example timings

EWCE.Rcheck/EWCE-Ex.timings

nameusersystemelapsed
add_res_to_merging_list 8.53 1.85121.85
bin_columns_into_quantiles7.300.479.03
bin_specificity_into_quantiles4.920.455.58
bootstrap_enrichment_test11.44 0.6112.43
check_ewce_genelist_inputs10.15 0.7715.16
check_percent_hits0.020.000.02
controlled_geneset_enrichment23.61 1.9530.92
ctd_to_sce3.640.318.90
drop_uninformative_genes 4.65 0.6617.32
ewce_expression_data15.86 1.4524.78
ewce_plot0.040.030.06
example_bootstrap_results000
example_transcriptome_results000
filter_ctd_genes 9.93 0.7810.77
filter_genes_without_1to1_homolog15.14 0.5715.84
filter_nonorthologs14.53 0.7015.34
fix_bad_hgnc_symbols1.130.141.41
fix_bad_mgi_symbols5.930.867.95
fix_celltype_names000
generate_bootstrap_plots12.44 0.9913.65
generate_bootstrap_plots_for_transcriptome16.17 1.0617.64
generate_celltype_data4.440.504.97
get_celltype_table3.310.393.73
list_species0.000.020.02
load_rdata0.000.000.02
merge_ctd7.060.787.87
merge_sce4.390.304.75
merge_two_expfiles3.310.503.82
merged_ewce20.14 1.6522.52
plot_ctd3.670.274.02
sct_normalize10.12 0.6410.83
standardise_ctd7.440.738.19